BEGIN:VCALENDAR
VERSION:2.0
PRODID:-//MOKB Presents - ECPv6.15.16.1//NONSGML v1.0//EN
CALSCALE:GREGORIAN
METHOD:PUBLISH
X-ORIGINAL-URL:https://mokbpresents.com
X-WR-CALDESC:Events for MOKB Presents
REFRESH-INTERVAL;VALUE=DURATION:PT1H
X-Robots-Tag:noindex
X-PUBLISHED-TTL:PT1H
BEGIN:VTIMEZONE
TZID:America/Indiana/Indianapolis
BEGIN:DAYLIGHT
TZOFFSETFROM:-0500
TZOFFSETTO:-0400
TZNAME:EDT
DTSTART:20210314T070000
END:DAYLIGHT
BEGIN:STANDARD
TZOFFSETFROM:-0400
TZOFFSETTO:-0500
TZNAME:EST
DTSTART:20211107T060000
END:STANDARD
BEGIN:DAYLIGHT
TZOFFSETFROM:-0500
TZOFFSETTO:-0400
TZNAME:EDT
DTSTART:20220313T070000
END:DAYLIGHT
BEGIN:STANDARD
TZOFFSETFROM:-0400
TZOFFSETTO:-0500
TZNAME:EST
DTSTART:20221106T060000
END:STANDARD
BEGIN:DAYLIGHT
TZOFFSETFROM:-0500
TZOFFSETTO:-0400
TZNAME:EDT
DTSTART:20230312T070000
END:DAYLIGHT
BEGIN:STANDARD
TZOFFSETFROM:-0400
TZOFFSETTO:-0500
TZNAME:EST
DTSTART:20231105T060000
END:STANDARD
END:VTIMEZONE
BEGIN:VEVENT
DTSTART;TZID=America/Indiana/Indianapolis:20220601T200000
DTEND;TZID=America/Indiana/Indianapolis:20220601T230000
DTSTAMP:20260422T180208
CREATED:20220328T160002Z
LAST-MODIFIED:20220526T003020Z
UID:22555-1654113600-1654124400@mokbpresents.com
SUMMARY:Small Black
DESCRIPTION:
URL:https://mokbpresents.com/event/small-black/
LOCATION:HI-FI\, 1043 Virginia Ave #4\, Indianapolis\, IN\, 46203\, United States
GEO:39.7525463;-86.1407527
X-APPLE-STRUCTURED-LOCATION;VALUE=URI;X-ADDRESS=HI-FI 1043 Virginia Ave #4 Indianapolis IN 46203 United States;X-APPLE-RADIUS=500;X-TITLE=1043 Virginia Ave #4:geo:-86.1407527,39.7525463
END:VEVENT
BEGIN:VEVENT
DTSTART;TZID=America/Indiana/Indianapolis:20220602T200000
DTEND;TZID=America/Indiana/Indianapolis:20220602T233000
DTSTAMP:20260422T180208
CREATED:20210728T160046Z
LAST-MODIFIED:20220518T203016Z
UID:19013-1654200000-1654212600@mokbpresents.com
SUMMARY:Son Lux
DESCRIPTION:
URL:https://mokbpresents.com/event/son-lux/
LOCATION:HI-FI\, 1043 Virginia Ave #4\, Indianapolis\, IN\, 46203\, United States
GEO:39.7525463;-86.1407527
X-APPLE-STRUCTURED-LOCATION;VALUE=URI;X-ADDRESS=HI-FI 1043 Virginia Ave #4 Indianapolis IN 46203 United States;X-APPLE-RADIUS=500;X-TITLE=1043 Virginia Ave #4:geo:-86.1407527,39.7525463
END:VEVENT
BEGIN:VEVENT
DTSTART;TZID=America/Indiana/Indianapolis:20220603T190000
DTEND;TZID=America/Indiana/Indianapolis:20220603T220000
DTSTAMP:20260422T180208
CREATED:20220322T140007Z
LAST-MODIFIED:20220601T011714Z
UID:22379-1654282800-1654293600@mokbpresents.com
SUMMARY:Mike & The Moonpies
DESCRIPTION:
URL:https://mokbpresents.com/event/mike-the-moonpies-2/
LOCATION:HI-FI Annex\, 1065 St. Patrick St\, Indianapolis\, IN\, 46203\, United States
END:VEVENT
BEGIN:VEVENT
DTSTART;TZID=America/Indiana/Indianapolis:20220603T220000
DTEND;TZID=America/Indiana/Indianapolis:20220603T235900
DTSTAMP:20260422T180208
CREATED:20220418T140020Z
LAST-MODIFIED:20220602T161535Z
UID:22905-1654293600-1654300740@mokbpresents.com
SUMMARY:FREE FIRST FRIDAY: Isaac Rudd and The Revolvers
DESCRIPTION:
URL:https://mokbpresents.com/event/free-first-friday-isaac-rudd-and-the-revolvers/
LOCATION:HI-FI\, 1043 Virginia Ave #4\, Indianapolis\, IN\, 46203\, United States
CATEGORIES:- First Friday
GEO:39.7525463;-86.1407527
X-APPLE-STRUCTURED-LOCATION;VALUE=URI;X-ADDRESS=HI-FI 1043 Virginia Ave #4 Indianapolis IN 46203 United States;X-APPLE-RADIUS=500;X-TITLE=1043 Virginia Ave #4:geo:-86.1407527,39.7525463
END:VEVENT
BEGIN:VEVENT
DTSTART;TZID=America/Indiana/Indianapolis:20220604T180000
DTEND;TZID=America/Indiana/Indianapolis:20220604T220000
DTSTAMP:20260422T180208
CREATED:20220426T160031Z
LAST-MODIFIED:20220527T182346Z
UID:23146-1654365600-1654380000@mokbpresents.com
SUMMARY:No Resolve
DESCRIPTION:
URL:https://mokbpresents.com/event/no-resolve/
LOCATION:HI-FI Annex\, 1065 St. Patrick St\, Indianapolis\, IN\, 46203\, United States
END:VEVENT
BEGIN:VEVENT
DTSTART;TZID=America/Indiana/Indianapolis:20220605T130000
DTEND;TZID=America/Indiana/Indianapolis:20220605T170000
DTSTAMP:20260422T180208
CREATED:20220418T143313Z
LAST-MODIFIED:20220531T184623Z
UID:22922-1654434000-1654448400@mokbpresents.com
SUMMARY:Create Your Own Bonsai Brunch
DESCRIPTION:
URL:https://mokbpresents.com/event/create-your-own-bonsai-brunch-3/
LOCATION:HI-FI Annex\, 1065 St. Patrick St\, Indianapolis\, IN\, 46203\, United States
ATTACH;FMTTYPE=image/jpeg:https://cdn.kicksdigital.com/mokbpresents.com/2022/04/BONSAI-Artwork-IG-Story-scaled-e1654022734640.jpg
END:VEVENT
BEGIN:VEVENT
DTSTART;TZID=America/Indiana/Indianapolis:20220605T200000
DTEND;TZID=America/Indiana/Indianapolis:20220605T233000
DTSTAMP:20260422T180208
CREATED:20220222T200032Z
LAST-MODIFIED:20220601T203858Z
UID:21847-1654459200-1654471800@mokbpresents.com
SUMMARY:Bob Log III
DESCRIPTION:
URL:https://mokbpresents.com/event/bob-log-iii/
LOCATION:HI-FI\, 1043 Virginia Ave #4\, Indianapolis\, IN\, 46203\, United States
GEO:39.7525463;-86.1407527
X-APPLE-STRUCTURED-LOCATION;VALUE=URI;X-ADDRESS=HI-FI 1043 Virginia Ave #4 Indianapolis IN 46203 United States;X-APPLE-RADIUS=500;X-TITLE=1043 Virginia Ave #4:geo:-86.1407527,39.7525463
END:VEVENT
BEGIN:VEVENT
DTSTART;TZID=America/Indiana/Indianapolis:20220607T190000
DTEND;TZID=America/Indiana/Indianapolis:20220607T233000
DTSTAMP:20260422T180208
CREATED:20220128T160033Z
LAST-MODIFIED:20220603T172537Z
UID:20226-1654628400-1654644600@mokbpresents.com
SUMMARY:We Are Scientists
DESCRIPTION:
URL:https://mokbpresents.com/event/we-are-scientists/
LOCATION:White Rabbit Cabaret\, 1116 Prospect St.\, Indianapolis\, IN\, 46203\, United States
END:VEVENT
BEGIN:VEVENT
DTSTART;TZID=America/Indiana/Indianapolis:20220607T200000
DTEND;TZID=America/Indiana/Indianapolis:20220607T233000
DTSTAMP:20260422T180208
CREATED:20220208T170029Z
LAST-MODIFIED:20220210T140745Z
UID:21512-1654632000-1654644600@mokbpresents.com
SUMMARY:Mess Esque
DESCRIPTION:
URL:https://mokbpresents.com/event/mess-esque/
LOCATION:HI-FI\, 1043 Virginia Ave #4\, Indianapolis\, IN\, 46203\, United States
GEO:39.7525463;-86.1407527
X-APPLE-STRUCTURED-LOCATION;VALUE=URI;X-ADDRESS=HI-FI 1043 Virginia Ave #4 Indianapolis IN 46203 United States;X-APPLE-RADIUS=500;X-TITLE=1043 Virginia Ave #4:geo:-86.1407527,39.7525463
END:VEVENT
BEGIN:VEVENT
DTSTART;TZID=America/Indiana/Indianapolis:20220608T183000
DTEND;TZID=America/Indiana/Indianapolis:20220608T220000
DTSTAMP:20260422T180208
CREATED:20220301T150042Z
LAST-MODIFIED:20220511T214124Z
UID:21958-1654713000-1654725600@mokbpresents.com
SUMMARY:PUP RETURNS: THANK F***ING GOD
DESCRIPTION:
URL:https://mokbpresents.com/event/pup/
LOCATION:HI-FI Annex\, 1065 St. Patrick St\, Indianapolis\, IN\, 46203\, United States
END:VEVENT
BEGIN:VEVENT
DTSTART;TZID=America/Indiana/Indianapolis:20220608T200000
DTEND;TZID=America/Indiana/Indianapolis:20220608T233000
DTSTAMP:20260422T180208
CREATED:20220218T144746Z
LAST-MODIFIED:20220531T182724Z
UID:21783-1654718400-1654731000@mokbpresents.com
SUMMARY:The Red Clay Strays & Flying Buffaloes
DESCRIPTION:
URL:https://mokbpresents.com/event/the-red-clay-strays-flying-buffaloes/
LOCATION:HI-FI\, 1043 Virginia Ave #4\, Indianapolis\, IN\, 46203\, United States
ATTACH;FMTTYPE=image/png:https://cdn.kicksdigital.com/mokbpresents.com/2022/02/STRAY-BUFFALOESpng-e1654021100356.png
GEO:39.7525463;-86.1407527
X-APPLE-STRUCTURED-LOCATION;VALUE=URI;X-ADDRESS=HI-FI 1043 Virginia Ave #4 Indianapolis IN 46203 United States;X-APPLE-RADIUS=500;X-TITLE=1043 Virginia Ave #4:geo:-86.1407527,39.7525463
END:VEVENT
BEGIN:VEVENT
DTSTART;TZID=America/Indiana/Indianapolis:20220609T190000
DTEND;TZID=America/Indiana/Indianapolis:20220609T220000
DTSTAMP:20260422T180208
CREATED:20220221T180020Z
LAST-MODIFIED:20220606T220523Z
UID:21820-1654801200-1654812000@mokbpresents.com
SUMMARY:Kings Kaleidoscope
DESCRIPTION:
URL:https://mokbpresents.com/event/kings-kaleidoscope/
LOCATION:HI-FI Annex\, 1065 St. Patrick St\, Indianapolis\, IN\, 46203\, United States
END:VEVENT
BEGIN:VEVENT
DTSTART;TZID=America/Indiana/Indianapolis:20220610T190000
DTEND;TZID=America/Indiana/Indianapolis:20220610T220000
DTSTAMP:20260422T180208
CREATED:20220425T160017Z
LAST-MODIFIED:20220426T105807Z
UID:22989-1654887600-1654898400@mokbpresents.com
SUMMARY:Tropidelic
DESCRIPTION:
URL:https://mokbpresents.com/event/tropidelic-3/
LOCATION:HI-FI Annex\, 1065 St. Patrick St\, Indianapolis\, IN\, 46203\, United States
END:VEVENT
BEGIN:VEVENT
DTSTART;TZID=America/Indiana/Indianapolis:20220610T190000
DTEND;TZID=America/Indiana/Indianapolis:20220610T230000
DTSTAMP:20260422T180208
CREATED:20220418T150036Z
LAST-MODIFIED:20220418T172322Z
UID:22911-1654887600-1654902000@mokbpresents.com
SUMMARY:We Were Promised Jetpacks
DESCRIPTION:
URL:https://mokbpresents.com/event/we-were-promised-jetpacks-2/
LOCATION:HI-FI\, 1043 Virginia Ave #4\, Indianapolis\, IN\, 46203\, United States
GEO:39.7525463;-86.1407527
X-APPLE-STRUCTURED-LOCATION;VALUE=URI;X-ADDRESS=HI-FI 1043 Virginia Ave #4 Indianapolis IN 46203 United States;X-APPLE-RADIUS=500;X-TITLE=1043 Virginia Ave #4:geo:-86.1407527,39.7525463
END:VEVENT
BEGIN:VEVENT
DTSTART;TZID=America/Indiana/Indianapolis:20220611T110000
DTEND;TZID=America/Indiana/Indianapolis:20220611T230000
DTSTAMP:20260422T180208
CREATED:20220413T140030Z
LAST-MODIFIED:20220610T143531Z
UID:6883-1654945200-1654988400@mokbpresents.com
SUMMARY:Indy Pride Festival 2022 Presented By Salesforce
DESCRIPTION:Indy Pride Fest is the largest gathering of LGBTQ+ people in Indiana and one of the largest in the Midwest. It has been voted #1 Outdoor Festival by NUVO for 7 years and continues to grow annually. This is an all-ages event with two stages\, Family Fun Zone\, hundreds of vendors\, food\, and drink! \n  \n 
URL:https://mokbpresents.com/event/indy-pride-festival-2022-presented-by-salesforce/
LOCATION:Military Park\, 601 W. New York St\, Indianapolis\, IN\, 46204\, United States
ATTACH;FMTTYPE=image/png:https://cdn.kicksdigital.com/mokbpresents.com/2022/04/IndyPride-MOKBweb.png
ORGANIZER;CN="Indy Pride":MAILTO:info@indypride.org
END:VEVENT
BEGIN:VEVENT
DTSTART;TZID=America/Indiana/Indianapolis:20220611T130000
DTEND;TZID=America/Indiana/Indianapolis:20220612T230000
DTSTAMP:20260422T180208
CREATED:20211208T200015Z
LAST-MODIFIED:20211228T220157Z
UID:20687-1654952400-1655074800@mokbpresents.com
SUMMARY:WonderRoad Fest: Vampire Weekend\, Lord Huron\, Bastille\, & more!
DESCRIPTION:
URL:https://mokbpresents.com/event/wonderroad-festival/
LOCATION:Garfield Park\, 2432 Conservatory Drive\, Indianapolis\, IN\, 46203\, United States
ATTACH;FMTTYPE=image/png:https://cdn.kicksdigital.com/mokbpresents.com/2021/12/SocialIcon-1.png
END:VEVENT
BEGIN:VEVENT
DTSTART;TZID=America/Indiana/Indianapolis:20220611T221500
DTEND;TZID=America/Indiana/Indianapolis:20220611T230000
DTSTAMP:20260422T180208
CREATED:20220411T180036Z
LAST-MODIFIED:20220607T164405Z
UID:22824-1654985700-1654988400@mokbpresents.com
SUMMARY:WonderRoad Aftershow: Reignwolf
DESCRIPTION:
URL:https://mokbpresents.com/event/wonderroad-aftershow-reignwolf/
LOCATION:HI-FI\, 1043 Virginia Ave #4\, Indianapolis\, IN\, 46203\, United States
ORGANIZER;CN="WonderRoad":MAILTO:INFO@WONDERROADFEST.COM
GEO:39.7525463;-86.1407527
X-APPLE-STRUCTURED-LOCATION;VALUE=URI;X-ADDRESS=HI-FI 1043 Virginia Ave #4 Indianapolis IN 46203 United States;X-APPLE-RADIUS=500;X-TITLE=1043 Virginia Ave #4:geo:-86.1407527,39.7525463
END:VEVENT
BEGIN:VEVENT
DTSTART;TZID=America/Indiana/Indianapolis:20220612T221500
DTEND;TZID=America/Indiana/Indianapolis:20220612T230000
DTSTAMP:20260422T180208
CREATED:20220411T180041Z
LAST-MODIFIED:20220607T164555Z
UID:22818-1655072100-1655074800@mokbpresents.com
SUMMARY:WonderRoad Aftershow: The Blue Stones
DESCRIPTION:
URL:https://mokbpresents.com/event/wonderroad-aftershow-the-blue-stones/
LOCATION:HI-FI\, 1043 Virginia Ave #4\, Indianapolis\, IN\, 46203\, United States
ORGANIZER;CN="WonderRoad":MAILTO:INFO@WONDERROADFEST.COM
GEO:39.7525463;-86.1407527
X-APPLE-STRUCTURED-LOCATION;VALUE=URI;X-ADDRESS=HI-FI 1043 Virginia Ave #4 Indianapolis IN 46203 United States;X-APPLE-RADIUS=500;X-TITLE=1043 Virginia Ave #4:geo:-86.1407527,39.7525463
END:VEVENT
BEGIN:VEVENT
DTSTART;TZID=America/Indiana/Indianapolis:20220615T190000
DTEND;TZID=America/Indiana/Indianapolis:20220615T220000
DTSTAMP:20260422T180208
CREATED:20220502T170838Z
LAST-MODIFIED:20220526T024023Z
UID:23302-1655319600-1655330400@mokbpresents.com
SUMMARY:Palisades
DESCRIPTION:
URL:https://mokbpresents.com/event/palisades/
LOCATION:HI-FI\, 1043 Virginia Ave #4\, Indianapolis\, IN\, 46203\, United States
GEO:39.7525463;-86.1407527
X-APPLE-STRUCTURED-LOCATION;VALUE=URI;X-ADDRESS=HI-FI 1043 Virginia Ave #4 Indianapolis IN 46203 United States;X-APPLE-RADIUS=500;X-TITLE=1043 Virginia Ave #4:geo:-86.1407527,39.7525463
END:VEVENT
BEGIN:VEVENT
DTSTART;TZID=America/Indiana/Indianapolis:20220616T210000
DTEND;TZID=America/Indiana/Indianapolis:20220616T230000
DTSTAMP:20260422T180208
CREATED:20220406T140029Z
LAST-MODIFIED:20220616T163942Z
UID:22747-1655413200-1655420400@mokbpresents.com
SUMMARY:David Ramirez
DESCRIPTION:
URL:https://mokbpresents.com/event/david-ramirez/
LOCATION:HI-FI\, 1043 Virginia Ave #4\, Indianapolis\, IN\, 46203\, United States
GEO:39.7525463;-86.1407527
X-APPLE-STRUCTURED-LOCATION;VALUE=URI;X-ADDRESS=HI-FI 1043 Virginia Ave #4 Indianapolis IN 46203 United States;X-APPLE-RADIUS=500;X-TITLE=1043 Virginia Ave #4:geo:-86.1407527,39.7525463
END:VEVENT
BEGIN:VEVENT
DTSTART;TZID=America/Indiana/Indianapolis:20220617T190000
DTEND;TZID=America/Indiana/Indianapolis:20220617T220000
DTSTAMP:20260422T180208
CREATED:20220506T140317Z
LAST-MODIFIED:20220506T143610Z
UID:23376-1655492400-1655503200@mokbpresents.com
SUMMARY:The Four Horsemen
DESCRIPTION:
URL:https://mokbpresents.com/event/the-four-horsemen/
LOCATION:HI-FI Annex\, 1065 St. Patrick St\, Indianapolis\, IN\, 46203\, United States
ATTACH;FMTTYPE=image/jpeg:https://cdn.kicksdigital.com/mokbpresents.com/2022/05/4-horse-12-scaled.jpeg
END:VEVENT
BEGIN:VEVENT
DTSTART;TZID=America/Indiana/Indianapolis:20220617T203000
DTEND;TZID=America/Indiana/Indianapolis:20220617T233000
DTSTAMP:20260422T180208
CREATED:20220422T220842Z
LAST-MODIFIED:20220615T192030Z
UID:22968-1655497800-1655508600@mokbpresents.com
SUMMARY:Starbenders
DESCRIPTION:
URL:https://mokbpresents.com/event/starbenders/
LOCATION:HI-FI\, 1043 Virginia Ave #4\, Indianapolis\, IN\, 46203\, United States
GEO:39.7525463;-86.1407527
X-APPLE-STRUCTURED-LOCATION;VALUE=URI;X-ADDRESS=HI-FI 1043 Virginia Ave #4 Indianapolis IN 46203 United States;X-APPLE-RADIUS=500;X-TITLE=1043 Virginia Ave #4:geo:-86.1407527,39.7525463
END:VEVENT
BEGIN:VEVENT
DTSTART;TZID=America/Indiana/Indianapolis:20220617T210000
DTEND;TZID=America/Indiana/Indianapolis:20220617T230000
DTSTAMP:20260422T180208
CREATED:20220228T150058Z
LAST-MODIFIED:20220511T154834Z
UID:21966-1655499600-1655506800@mokbpresents.com
SUMMARY:Potterless Podcast
DESCRIPTION:
URL:https://mokbpresents.com/event/potterless-podcast/
LOCATION:White Rabbit Cabaret\, 1116 Prospect St.\, Indianapolis\, IN\, 46203\, United States
ATTACH;FMTTYPE=image/png:https://cdn.kicksdigital.com/mokbpresents.com/2022/02/PTR_PotTOURless_22promo.png
END:VEVENT
BEGIN:VEVENT
DTSTART;TZID=America/Indiana/Indianapolis:20220618T200000
DTEND;TZID=America/Indiana/Indianapolis:20220618T230000
DTSTAMP:20260422T180208
CREATED:20220308T170044Z
LAST-MODIFIED:20220611T011747Z
UID:22107-1655582400-1655593200@mokbpresents.com
SUMMARY:Houndmouth
DESCRIPTION:
URL:https://mokbpresents.com/event/houndmouth/
LOCATION:Nickel Plate Amphitheater\, 6 Municipal Dr\, Fishers\, IN\, 46038\, United States
END:VEVENT
BEGIN:VEVENT
DTSTART;TZID=America/Indiana/Indianapolis:20220618T210000
DTEND;TZID=America/Indiana/Indianapolis:20220618T233000
DTSTAMP:20260422T180208
CREATED:20220412T170027Z
LAST-MODIFIED:20220617T202232Z
UID:22834-1655586000-1655595000@mokbpresents.com
SUMMARY:Liily
DESCRIPTION:  \n 
URL:https://mokbpresents.com/event/liily/
LOCATION:LO-FI Lounge\, 1043 Virginia Ave #215\, Indianapolis\, IN\, 46203\, United States
END:VEVENT
BEGIN:VEVENT
DTSTART;TZID=America/Indiana/Indianapolis:20220619T190000
DTEND;TZID=America/Indiana/Indianapolis:20220619T220000
DTSTAMP:20260422T180208
CREATED:20220509T140056Z
LAST-MODIFIED:20220614T202905Z
UID:23396-1655665200-1655676000@mokbpresents.com
SUMMARY:An Evening with Big Head Todd and the Monsters
DESCRIPTION:
URL:https://mokbpresents.com/event/an-evening-with-big-head-todd-and-the-monsters/
LOCATION:HI-FI Annex\, 1065 St. Patrick St\, Indianapolis\, IN\, 46203\, United States
END:VEVENT
BEGIN:VEVENT
DTSTART;TZID=America/Indiana/Indianapolis:20220619T200000
DTEND;TZID=America/Indiana/Indianapolis:20220619T235900
DTSTAMP:20260422T180208
CREATED:20220510T160055Z
LAST-MODIFIED:20220609T164344Z
UID:23446-1655668800-1655683140@mokbpresents.com
SUMMARY:Ben Nichols & Cory Branan
DESCRIPTION:
URL:https://mokbpresents.com/event/ben-nichols-cory-branan/
LOCATION:HI-FI\, 1043 Virginia Ave #4\, Indianapolis\, IN\, 46203\, United States
ATTACH;FMTTYPE=image/png:https://cdn.kicksdigital.com/mokbpresents.com/2022/05/BenCory.png
GEO:39.7525463;-86.1407527
X-APPLE-STRUCTURED-LOCATION;VALUE=URI;X-ADDRESS=HI-FI 1043 Virginia Ave #4 Indianapolis IN 46203 United States;X-APPLE-RADIUS=500;X-TITLE=1043 Virginia Ave #4:geo:-86.1407527,39.7525463
END:VEVENT
BEGIN:VEVENT
DTSTART;TZID=America/Indiana/Indianapolis:20220621T200000
DTEND;TZID=America/Indiana/Indianapolis:20220621T230000
DTSTAMP:20260422T180208
CREATED:20220427T160504Z
LAST-MODIFIED:20220620T151425Z
UID:23183-1655841600-1655852400@mokbpresents.com
SUMMARY:Fruition
DESCRIPTION:
URL:https://mokbpresents.com/event/fruition-2/
LOCATION:HI-FI\, 1043 Virginia Ave #4\, Indianapolis\, IN\, 46203\, United States
ATTACH;FMTTYPE=image/jpeg:https://cdn.kicksdigital.com/mokbpresents.com/2022/04/Fruition.jpg
GEO:39.7525463;-86.1407527
X-APPLE-STRUCTURED-LOCATION;VALUE=URI;X-ADDRESS=HI-FI 1043 Virginia Ave #4 Indianapolis IN 46203 United States;X-APPLE-RADIUS=500;X-TITLE=1043 Virginia Ave #4:geo:-86.1407527,39.7525463
END:VEVENT
BEGIN:VEVENT
DTSTART;TZID=America/Indiana/Indianapolis:20220622T190000
DTEND;TZID=America/Indiana/Indianapolis:20220622T220000
DTSTAMP:20260422T180208
CREATED:20220405T140045Z
LAST-MODIFIED:20220421T191247Z
UID:22705-1655924400-1655935200@mokbpresents.com
SUMMARY:Cracker
DESCRIPTION:
URL:https://mokbpresents.com/event/cracker-2/
LOCATION:HI-FI Annex\, 1065 St. Patrick St\, Indianapolis\, IN\, 46203\, United States
END:VEVENT
BEGIN:VEVENT
DTSTART;TZID=America/Indiana/Indianapolis:20220623T200000
DTEND;TZID=America/Indiana/Indianapolis:20220623T233000
DTSTAMP:20260422T180208
CREATED:20220323T140019Z
LAST-MODIFIED:20220623T160253Z
UID:22401-1656014400-1656027000@mokbpresents.com
SUMMARY:The Soul Rebels
DESCRIPTION:
URL:https://mokbpresents.com/event/the-soul-rebels-2/
LOCATION:HI-FI\, 1043 Virginia Ave #4\, Indianapolis\, IN\, 46203\, United States
GEO:39.7525463;-86.1407527
X-APPLE-STRUCTURED-LOCATION;VALUE=URI;X-ADDRESS=HI-FI 1043 Virginia Ave #4 Indianapolis IN 46203 United States;X-APPLE-RADIUS=500;X-TITLE=1043 Virginia Ave #4:geo:-86.1407527,39.7525463
END:VEVENT
END:VCALENDAR