BEGIN:VCALENDAR
VERSION:2.0
PRODID:-//MOKB Presents - ECPv6.15.16.1//NONSGML v1.0//EN
CALSCALE:GREGORIAN
METHOD:PUBLISH
X-WR-CALNAME:MOKB Presents
X-ORIGINAL-URL:https://mokbpresents.com
X-WR-CALDESC:Events for MOKB Presents
REFRESH-INTERVAL;VALUE=DURATION:PT1H
X-Robots-Tag:noindex
X-PUBLISHED-TTL:PT1H
BEGIN:VTIMEZONE
TZID:America/Indiana/Indianapolis
BEGIN:DAYLIGHT
TZOFFSETFROM:-0500
TZOFFSETTO:-0400
TZNAME:EDT
DTSTART:20220313T070000
END:DAYLIGHT
BEGIN:STANDARD
TZOFFSETFROM:-0400
TZOFFSETTO:-0500
TZNAME:EST
DTSTART:20221106T060000
END:STANDARD
BEGIN:DAYLIGHT
TZOFFSETFROM:-0500
TZOFFSETTO:-0400
TZNAME:EDT
DTSTART:20230312T070000
END:DAYLIGHT
BEGIN:STANDARD
TZOFFSETFROM:-0400
TZOFFSETTO:-0500
TZNAME:EST
DTSTART:20231105T060000
END:STANDARD
BEGIN:DAYLIGHT
TZOFFSETFROM:-0500
TZOFFSETTO:-0400
TZNAME:EDT
DTSTART:20240310T070000
END:DAYLIGHT
BEGIN:STANDARD
TZOFFSETFROM:-0400
TZOFFSETTO:-0500
TZNAME:EST
DTSTART:20241103T060000
END:STANDARD
END:VTIMEZONE
BEGIN:VEVENT
DTSTART;TZID=America/Indiana/Indianapolis:20230422T210000
DTEND;TZID=America/Indiana/Indianapolis:20230422T235900
DTSTAMP:20260422T135117
CREATED:20230117T154343Z
LAST-MODIFIED:20230216T163701Z
UID:26991-1682197200-1682207940@mokbpresents.com
SUMMARY:RECOIL
DESCRIPTION:
URL:https://mokbpresents.com/event/recoil/
LOCATION:HI-FI\, 1043 Virginia Ave #4\, Indianapolis\, IN\, 46203\, United States
CATEGORIES:18+,Cover Band,Rock
GEO:39.7525463;-86.1407527
X-APPLE-STRUCTURED-LOCATION;VALUE=URI;X-ADDRESS=HI-FI 1043 Virginia Ave #4 Indianapolis IN 46203 United States;X-APPLE-RADIUS=500;X-TITLE=1043 Virginia Ave #4:geo:-86.1407527,39.7525463
END:VEVENT
END:VCALENDAR