BEGIN:VCALENDAR
VERSION:2.0
PRODID:-//MOKB Presents - ECPv6.15.16.1//NONSGML v1.0//EN
CALSCALE:GREGORIAN
METHOD:PUBLISH
X-WR-CALNAME:MOKB Presents
X-ORIGINAL-URL:https://mokbpresents.com
X-WR-CALDESC:Events for MOKB Presents
REFRESH-INTERVAL;VALUE=DURATION:PT1H
X-Robots-Tag:noindex
X-PUBLISHED-TTL:PT1H
BEGIN:VTIMEZONE
TZID:America/Indiana/Indianapolis
BEGIN:DAYLIGHT
TZOFFSETFROM:-0500
TZOFFSETTO:-0400
TZNAME:EDT
DTSTART:20200308T070000
END:DAYLIGHT
BEGIN:STANDARD
TZOFFSETFROM:-0400
TZOFFSETTO:-0500
TZNAME:EST
DTSTART:20201101T060000
END:STANDARD
BEGIN:DAYLIGHT
TZOFFSETFROM:-0500
TZOFFSETTO:-0400
TZNAME:EDT
DTSTART:20210314T070000
END:DAYLIGHT
BEGIN:STANDARD
TZOFFSETFROM:-0400
TZOFFSETTO:-0500
TZNAME:EST
DTSTART:20211107T060000
END:STANDARD
BEGIN:DAYLIGHT
TZOFFSETFROM:-0500
TZOFFSETTO:-0400
TZNAME:EDT
DTSTART:20220313T070000
END:DAYLIGHT
BEGIN:STANDARD
TZOFFSETFROM:-0400
TZOFFSETTO:-0500
TZNAME:EST
DTSTART:20221106T060000
END:STANDARD
END:VTIMEZONE
BEGIN:VEVENT
DTSTART;TZID=America/Indiana/Indianapolis:20210305T200000
DTEND;TZID=America/Indiana/Indianapolis:20210305T230000
DTSTAMP:20260425T110147
CREATED:20210225T220016Z
LAST-MODIFIED:20210225T220226Z
UID:16664-1614974400-1614985200@mokbpresents.com
SUMMARY:First Friday: Papa Warfleigh's Funk Revival
DESCRIPTION:
URL:https://mokbpresents.com/event/papa-warfleighs-funk-revival/
LOCATION:HI-FI\, 1043 Virginia Ave #4\, Indianapolis\, IN\, 46203\, United States
ATTACH;FMTTYPE=image/jpeg:https://cdn.kicksdigital.com/mokbpresents.com/2021/02/Papa-Warfleigh.jpg
GEO:39.7525463;-86.1407527
X-APPLE-STRUCTURED-LOCATION;VALUE=URI;X-ADDRESS=HI-FI 1043 Virginia Ave #4 Indianapolis IN 46203 United States;X-APPLE-RADIUS=500;X-TITLE=1043 Virginia Ave #4:geo:-86.1407527,39.7525463
END:VEVENT
BEGIN:VEVENT
DTSTART;TZID=America/Indiana/Indianapolis:20210306T190000
DTEND;TZID=America/Indiana/Indianapolis:20210306T230000
DTSTAMP:20260425T110147
CREATED:20210226T152744Z
LAST-MODIFIED:20210226T152745Z
UID:16677-1615057200-1615071600@mokbpresents.com
SUMMARY:Crime\, Cults & Corruption: True Crime Free Trivia
DESCRIPTION:
URL:https://mokbpresents.com/event/crime-cults-corruption-true-crime-free-trivia/
LOCATION:HI-FI\, 1043 Virginia Ave #4\, Indianapolis\, IN\, 46203\, United States
ATTACH;FMTTYPE=image/png:https://cdn.kicksdigital.com/mokbpresents.com/2021/02/True-Crime-Trivia-FB-Cover.png
GEO:39.7525463;-86.1407527
X-APPLE-STRUCTURED-LOCATION;VALUE=URI;X-ADDRESS=HI-FI 1043 Virginia Ave #4 Indianapolis IN 46203 United States;X-APPLE-RADIUS=500;X-TITLE=1043 Virginia Ave #4:geo:-86.1407527,39.7525463
END:VEVENT
BEGIN:VEVENT
DTSTART;TZID=America/Indiana/Indianapolis:20210312T200000
DTEND;TZID=America/Indiana/Indianapolis:20210312T230000
DTSTAMP:20260425T110147
CREATED:20210226T212745Z
LAST-MODIFIED:20210306T024716Z
UID:16681-1615579200-1615590000@mokbpresents.com
SUMMARY:Shadeland
DESCRIPTION:
URL:https://mokbpresents.com/event/shadeland/
LOCATION:HI-FI\, 1043 Virginia Ave #4\, Indianapolis\, IN\, 46203\, United States
ATTACH;FMTTYPE=image/gif:https://cdn.kicksdigital.com/mokbpresents.com/2021/02/ShadelandTable.gif
GEO:39.7525463;-86.1407527
X-APPLE-STRUCTURED-LOCATION;VALUE=URI;X-ADDRESS=HI-FI 1043 Virginia Ave #4 Indianapolis IN 46203 United States;X-APPLE-RADIUS=500;X-TITLE=1043 Virginia Ave #4:geo:-86.1407527,39.7525463
END:VEVENT
BEGIN:VEVENT
DTSTART;TZID=America/Indiana/Indianapolis:20210313T200000
DTEND;TZID=America/Indiana/Indianapolis:20210313T230000
DTSTAMP:20260425T110147
CREATED:20210223T142748Z
LAST-MODIFIED:20210223T170208Z
UID:16602-1615665600-1615676400@mokbpresents.com
SUMMARY:An Evening with Left Lane Cruiser
DESCRIPTION:
URL:https://mokbpresents.com/event/an-evening-with-left-lane-cruiser/
LOCATION:HI-FI\, 1043 Virginia Ave #4\, Indianapolis\, IN\, 46203\, United States
ATTACH;FMTTYPE=image/jpeg:https://cdn.kicksdigital.com/mokbpresents.com/2021/02/91A418A5-C9B0-4EE5-912F-ED0F367CDD0B.jpeg
GEO:39.7525463;-86.1407527
X-APPLE-STRUCTURED-LOCATION;VALUE=URI;X-ADDRESS=HI-FI 1043 Virginia Ave #4 Indianapolis IN 46203 United States;X-APPLE-RADIUS=500;X-TITLE=1043 Virginia Ave #4:geo:-86.1407527,39.7525463
END:VEVENT
BEGIN:VEVENT
DTSTART;TZID=America/Indiana/Indianapolis:20210319T200000
DTEND;TZID=America/Indiana/Indianapolis:20210319T230000
DTSTAMP:20260425T110148
CREATED:20210224T150204Z
LAST-MODIFIED:20210225T220609Z
UID:16618-1616184000-1616194800@mokbpresents.com
SUMMARY:Bobby Donnelly
DESCRIPTION:
URL:https://mokbpresents.com/event/bobby-donnelly/
LOCATION:HI-FI\, 1043 Virginia Ave #4\, Indianapolis\, IN\, 46203\, United States
ATTACH;FMTTYPE=image/jpeg:https://cdn.kicksdigital.com/mokbpresents.com/2021/02/image-e1614178308234.jpg
GEO:39.7525463;-86.1407527
X-APPLE-STRUCTURED-LOCATION;VALUE=URI;X-ADDRESS=HI-FI 1043 Virginia Ave #4 Indianapolis IN 46203 United States;X-APPLE-RADIUS=500;X-TITLE=1043 Virginia Ave #4:geo:-86.1407527,39.7525463
END:VEVENT
BEGIN:VEVENT
DTSTART;TZID=America/Indiana/Indianapolis:20210320T200000
DTEND;TZID=America/Indiana/Indianapolis:20210320T230000
DTSTAMP:20260425T110148
CREATED:20210223T151352Z
LAST-MODIFIED:20210223T165849Z
UID:16608-1616270400-1616281200@mokbpresents.com
SUMMARY:Allison Victoria
DESCRIPTION:
URL:https://mokbpresents.com/event/allison-victoria/
LOCATION:HI-FI\, 1043 Virginia Ave #4\, Indianapolis\, IN\, 46203\, United States
ATTACH;FMTTYPE=image/jpeg:https://cdn.kicksdigital.com/mokbpresents.com/2021/02/Allison-Victoria_new1.jpeg
GEO:39.7525463;-86.1407527
X-APPLE-STRUCTURED-LOCATION;VALUE=URI;X-ADDRESS=HI-FI 1043 Virginia Ave #4 Indianapolis IN 46203 United States;X-APPLE-RADIUS=500;X-TITLE=1043 Virginia Ave #4:geo:-86.1407527,39.7525463
END:VEVENT
BEGIN:VEVENT
DTSTART;TZID=America/Indiana/Indianapolis:20210326T210000
DTEND;TZID=America/Indiana/Indianapolis:20210326T230000
DTSTAMP:20260425T110148
CREATED:20210217T150008Z
LAST-MODIFIED:20210315T160013Z
UID:16514-1616792400-1616799600@mokbpresents.com
SUMMARY:An Evening With Martin Sexton
DESCRIPTION:
URL:https://mokbpresents.com/event/an-evening-with-martin-sexton/
LOCATION:HI-FI\, 1043 Virginia Ave #4\, Indianapolis\, IN\, 46203\, United States
ATTACH;FMTTYPE=image/jpeg:https://cdn.kicksdigital.com/mokbpresents.com/2021/02/Unknown-1.jpeg12.jpeg68-scaled-e1615823985192.jpeg
GEO:39.7525463;-86.1407527
X-APPLE-STRUCTURED-LOCATION;VALUE=URI;X-ADDRESS=HI-FI 1043 Virginia Ave #4 Indianapolis IN 46203 United States;X-APPLE-RADIUS=500;X-TITLE=1043 Virginia Ave #4:geo:-86.1407527,39.7525463
END:VEVENT
BEGIN:VEVENT
DTSTART;TZID=America/Indiana/Indianapolis:20210327T200000
DTEND;TZID=America/Indiana/Indianapolis:20210327T230000
DTSTAMP:20260425T110148
CREATED:20210223T144729Z
LAST-MODIFIED:20210225T210227Z
UID:16605-1616875200-1616886000@mokbpresents.com
SUMMARY:Bashiri Asad & The Lady
DESCRIPTION:
URL:https://mokbpresents.com/event/bashiri-asad-the-lady/
LOCATION:HI-FI\, 1043 Virginia Ave #4\, Indianapolis\, IN\, 46203\, United States
ATTACH;FMTTYPE=image/jpeg:https://cdn.kicksdigital.com/mokbpresents.com/2021/02/bashiri-e1614092054299.jpg
GEO:39.7525463;-86.1407527
X-APPLE-STRUCTURED-LOCATION;VALUE=URI;X-ADDRESS=HI-FI 1043 Virginia Ave #4 Indianapolis IN 46203 United States;X-APPLE-RADIUS=500;X-TITLE=1043 Virginia Ave #4:geo:-86.1407527,39.7525463
END:VEVENT
END:VCALENDAR