BEGIN:VCALENDAR
VERSION:2.0
PRODID:-//MOKB Presents - ECPv6.15.16.1//NONSGML v1.0//EN
CALSCALE:GREGORIAN
METHOD:PUBLISH
X-ORIGINAL-URL:https://mokbpresents.com
X-WR-CALDESC:Events for MOKB Presents
REFRESH-INTERVAL;VALUE=DURATION:PT1H
X-Robots-Tag:noindex
X-PUBLISHED-TTL:PT1H
BEGIN:VTIMEZONE
TZID:America/Indiana/Indianapolis
BEGIN:DAYLIGHT
TZOFFSETFROM:-0500
TZOFFSETTO:-0400
TZNAME:EDT
DTSTART:20200308T070000
END:DAYLIGHT
BEGIN:STANDARD
TZOFFSETFROM:-0400
TZOFFSETTO:-0500
TZNAME:EST
DTSTART:20201101T060000
END:STANDARD
BEGIN:DAYLIGHT
TZOFFSETFROM:-0500
TZOFFSETTO:-0400
TZNAME:EDT
DTSTART:20210314T070000
END:DAYLIGHT
BEGIN:STANDARD
TZOFFSETFROM:-0400
TZOFFSETTO:-0500
TZNAME:EST
DTSTART:20211107T060000
END:STANDARD
BEGIN:DAYLIGHT
TZOFFSETFROM:-0500
TZOFFSETTO:-0400
TZNAME:EDT
DTSTART:20220313T070000
END:DAYLIGHT
BEGIN:STANDARD
TZOFFSETFROM:-0400
TZOFFSETTO:-0500
TZNAME:EST
DTSTART:20221106T060000
END:STANDARD
END:VTIMEZONE
BEGIN:VEVENT
DTSTART;TZID=America/Indiana/Indianapolis:20210402T200000
DTEND;TZID=America/Indiana/Indianapolis:20210402T233000
DTSTAMP:20260425T092233
CREATED:20210329T161902Z
LAST-MODIFIED:20210329T161902Z
UID:16851-1617393600-1617406200@mokbpresents.com
SUMMARY:First Friday: Pushing Daisy's Band
DESCRIPTION:
URL:https://mokbpresents.com/event/first-friday-pushing-daisys-band/
LOCATION:HI-FI\, 1043 Virginia Ave #4\, Indianapolis\, IN\, 46203\, United States
ATTACH;FMTTYPE=image/jpeg:https://cdn.kicksdigital.com/mokbpresents.com/2021/03/Pushing-Daisys-Band-2-scaled.jpeg
GEO:39.7525463;-86.1407527
X-APPLE-STRUCTURED-LOCATION;VALUE=URI;X-ADDRESS=HI-FI 1043 Virginia Ave #4 Indianapolis IN 46203 United States;X-APPLE-RADIUS=500;X-TITLE=1043 Virginia Ave #4:geo:-86.1407527,39.7525463
END:VEVENT
BEGIN:VEVENT
DTSTART;TZID=America/Indiana/Indianapolis:20210403T190000
DTEND;TZID=America/Indiana/Indianapolis:20210403T230000
DTSTAMP:20260425T092233
CREATED:20210329T203737Z
LAST-MODIFIED:20210403T155946Z
UID:16864-1617476400-1617490800@mokbpresents.com
SUMMARY:CANCELLED: Are You Still Watching? Arrested Development Free Trivia!
DESCRIPTION:
URL:https://mokbpresents.com/event/are-you-still-watching-arrested-development-free-trivia/
LOCATION:HI-FI\, 1043 Virginia Ave #4\, Indianapolis\, IN\, 46203\, United States
ATTACH;FMTTYPE=image/jpeg:https://cdn.kicksdigital.com/mokbpresents.com/2021/03/Arrested-Development-Trivia-01-scaled.jpg
GEO:39.7525463;-86.1407527
X-APPLE-STRUCTURED-LOCATION;VALUE=URI;X-ADDRESS=HI-FI 1043 Virginia Ave #4 Indianapolis IN 46203 United States;X-APPLE-RADIUS=500;X-TITLE=1043 Virginia Ave #4:geo:-86.1407527,39.7525463
END:VEVENT
BEGIN:VEVENT
DTSTART;TZID=America/Indiana/Indianapolis:20210409T210000
DTEND;TZID=America/Indiana/Indianapolis:20210409T233000
DTSTAMP:20260425T092233
CREATED:20210303T145923Z
LAST-MODIFIED:20210401T140205Z
UID:16701-1618002000-1618011000@mokbpresents.com
SUMMARY:Chris Knight
DESCRIPTION:
URL:https://mokbpresents.com/event/chris-knight/
LOCATION:HI-FI\, 1043 Virginia Ave #4\, Indianapolis\, IN\, 46203\, United States
GEO:39.7525463;-86.1407527
X-APPLE-STRUCTURED-LOCATION;VALUE=URI;X-ADDRESS=HI-FI 1043 Virginia Ave #4 Indianapolis IN 46203 United States;X-APPLE-RADIUS=500;X-TITLE=1043 Virginia Ave #4:geo:-86.1407527,39.7525463
END:VEVENT
BEGIN:VEVENT
DTSTART;TZID=America/Indiana/Indianapolis:20210417T210000
DTEND;TZID=America/Indiana/Indianapolis:20210417T233000
DTSTAMP:20260425T092233
CREATED:20210322T170941Z
LAST-MODIFIED:20210416T130855Z
UID:16817-1618693200-1618702200@mokbpresents.com
SUMMARY:Ross Hollow
DESCRIPTION:
URL:https://mokbpresents.com/event/ross-hollow/
LOCATION:HI-FI\, 1043 Virginia Ave #4\, Indianapolis\, IN\, 46203\, United States
ATTACH;FMTTYPE=image/jpeg:https://cdn.kicksdigital.com/mokbpresents.com/2021/03/Ross-Hollow-1-scaled.jpg
GEO:39.7525463;-86.1407527
X-APPLE-STRUCTURED-LOCATION;VALUE=URI;X-ADDRESS=HI-FI 1043 Virginia Ave #4 Indianapolis IN 46203 United States;X-APPLE-RADIUS=500;X-TITLE=1043 Virginia Ave #4:geo:-86.1407527,39.7525463
END:VEVENT
BEGIN:VEVENT
DTSTART;TZID=America/Indiana/Indianapolis:20210424T190000
DTEND;TZID=America/Indiana/Indianapolis:20210424T223000
DTSTAMP:20260425T092233
CREATED:20210324T145735Z
LAST-MODIFIED:20210424T173500Z
UID:16824-1619290800-1619303400@mokbpresents.com
SUMMARY:Thunderstruck - America's AC/DC Tribute Band
DESCRIPTION:
URL:https://mokbpresents.com/event/thunderstruck-americas-ac-dc-tribute-band/
LOCATION:HI-FI Annex\, 1065 St. Patrick St\, Indianapolis\, IN\, 46203\, United States
ATTACH;FMTTYPE=image/jpeg:https://cdn.kicksdigital.com/mokbpresents.com/2021/03/IMG_2165-e1616597981298.jpg
END:VEVENT
BEGIN:VEVENT
DTSTART;TZID=America/Indiana/Indianapolis:20210424T200000
DTEND;TZID=America/Indiana/Indianapolis:20210424T230000
DTSTAMP:20260425T092233
CREATED:20210322T164334Z
LAST-MODIFIED:20210412T184342Z
UID:16813-1619294400-1619305200@mokbpresents.com
SUMMARY:Alex Franc
DESCRIPTION:
URL:https://mokbpresents.com/event/alex-franc/
LOCATION:HI-FI\, 1043 Virginia Ave #4\, Indianapolis\, IN\, 46203\, United States
ATTACH;FMTTYPE=image/jpeg:https://cdn.kicksdigital.com/mokbpresents.com/2021/03/Alex-Franc-1.jpg
GEO:39.7525463;-86.1407527
X-APPLE-STRUCTURED-LOCATION;VALUE=URI;X-ADDRESS=HI-FI 1043 Virginia Ave #4 Indianapolis IN 46203 United States;X-APPLE-RADIUS=500;X-TITLE=1043 Virginia Ave #4:geo:-86.1407527,39.7525463
END:VEVENT
BEGIN:VEVENT
DTSTART;TZID=America/Indiana/Indianapolis:20210425T180000
DTEND;TZID=America/Indiana/Indianapolis:20210425T220000
DTSTAMP:20260425T092233
CREATED:20210401T140434Z
LAST-MODIFIED:20210409T165742Z
UID:16922-1619373600-1619388000@mokbpresents.com
SUMMARY:Fourth Sunday Music Co. Showcase
DESCRIPTION:
URL:https://mokbpresents.com/event/fourth-sunday-music-co-showcase/
LOCATION:HI-FI Annex\, 1065 St. Patrick St\, Indianapolis\, IN\, 46203\, United States
ATTACH;FMTTYPE=image/jpeg:https://cdn.kicksdigital.com/mokbpresents.com/2021/04/Fourth-Sunday-April-IG.jpg
END:VEVENT
END:VCALENDAR