BEGIN:VCALENDAR
VERSION:2.0
PRODID:-//MOKB Presents - ECPv6.15.16.1//NONSGML v1.0//EN
CALSCALE:GREGORIAN
METHOD:PUBLISH
X-ORIGINAL-URL:https://mokbpresents.com
X-WR-CALDESC:Events for MOKB Presents
REFRESH-INTERVAL;VALUE=DURATION:PT1H
X-Robots-Tag:noindex
X-PUBLISHED-TTL:PT1H
BEGIN:VTIMEZONE
TZID:America/Indiana/Indianapolis
BEGIN:DAYLIGHT
TZOFFSETFROM:-0500
TZOFFSETTO:-0400
TZNAME:EDT
DTSTART:20200308T070000
END:DAYLIGHT
BEGIN:STANDARD
TZOFFSETFROM:-0400
TZOFFSETTO:-0500
TZNAME:EST
DTSTART:20201101T060000
END:STANDARD
BEGIN:DAYLIGHT
TZOFFSETFROM:-0500
TZOFFSETTO:-0400
TZNAME:EDT
DTSTART:20210314T070000
END:DAYLIGHT
BEGIN:STANDARD
TZOFFSETFROM:-0400
TZOFFSETTO:-0500
TZNAME:EST
DTSTART:20211107T060000
END:STANDARD
BEGIN:DAYLIGHT
TZOFFSETFROM:-0500
TZOFFSETTO:-0400
TZNAME:EDT
DTSTART:20220313T070000
END:DAYLIGHT
BEGIN:STANDARD
TZOFFSETFROM:-0400
TZOFFSETTO:-0500
TZNAME:EST
DTSTART:20221106T060000
END:STANDARD
END:VTIMEZONE
BEGIN:VEVENT
DTSTART;TZID=America/Indiana/Indianapolis:20210801T180000
DTEND;TZID=America/Indiana/Indianapolis:20210801T220000
DTSTAMP:20260423T070928
CREATED:20210427T142835Z
LAST-MODIFIED:20210623T174009Z
UID:17277-1627840800-1627855200@mokbpresents.com
SUMMARY:Buckcherry
DESCRIPTION:
URL:https://mokbpresents.com/event/buckcherry/
LOCATION:HI-FI Annex\, 1065 St. Patrick St\, Indianapolis\, IN\, 46203\, United States
CATEGORIES:Promo: Hot Diggity Deals 2025,Promo: July 4 Ticket Explosion 2021
END:VEVENT
BEGIN:VEVENT
DTSTART;TZID=America/Indiana/Indianapolis:20210804T200000
DTEND;TZID=America/Indiana/Indianapolis:20210804T233000
DTSTAMP:20260423T070928
CREATED:20210617T143554Z
LAST-MODIFIED:20210617T170429Z
UID:18212-1628107200-1628119800@mokbpresents.com
SUMMARY:Utopia Parkway (Fountains of Wayne Triubte)
DESCRIPTION:
URL:https://mokbpresents.com/event/utopia-parkway-fountains-of-wayne-triubte/
LOCATION:HI-FI\, 1043 Virginia Ave #4\, Indianapolis\, IN\, 46203\, United States
ATTACH;FMTTYPE=image/jpeg:https://cdn.kicksdigital.com/mokbpresents.com/2021/06/Fountains-of-Wayne-Art.jpg
GEO:39.7525463;-86.1407527
X-APPLE-STRUCTURED-LOCATION;VALUE=URI;X-ADDRESS=HI-FI 1043 Virginia Ave #4 Indianapolis IN 46203 United States;X-APPLE-RADIUS=500;X-TITLE=1043 Virginia Ave #4:geo:-86.1407527,39.7525463
END:VEVENT
BEGIN:VEVENT
DTSTART;TZID=America/Indiana/Indianapolis:20210805T200000
DTEND;TZID=America/Indiana/Indianapolis:20210805T230000
DTSTAMP:20260423T070928
CREATED:20210715T160035Z
LAST-MODIFIED:20210805T225825Z
UID:18880-1628193600-1628204400@mokbpresents.com
SUMMARY:Quiet Hollers
DESCRIPTION:
URL:https://mokbpresents.com/event/quiet-hollers/
LOCATION:HI-FI\, 1043 Virginia Ave #4\, Indianapolis\, IN\, 46203\, United States
GEO:39.7525463;-86.1407527
X-APPLE-STRUCTURED-LOCATION;VALUE=URI;X-ADDRESS=HI-FI 1043 Virginia Ave #4 Indianapolis IN 46203 United States;X-APPLE-RADIUS=500;X-TITLE=1043 Virginia Ave #4:geo:-86.1407527,39.7525463
END:VEVENT
BEGIN:VEVENT
DTSTART;TZID=America/Indiana/Indianapolis:20210806T180000
DTEND;TZID=America/Indiana/Indianapolis:20210806T220000
DTSTAMP:20260423T070928
CREATED:20210709T150046Z
LAST-MODIFIED:20210723T003834Z
UID:18766-1628272800-1628287200@mokbpresents.com
SUMMARY:FIRST FRIDAY: Fat Pockets
DESCRIPTION:
URL:https://mokbpresents.com/event/fat-pockets-2/
LOCATION:HI-FI Annex\, 1065 St. Patrick St\, Indianapolis\, IN\, 46203\, United States
END:VEVENT
BEGIN:VEVENT
DTSTART;TZID=America/Indiana/Indianapolis:20210806T190000
DTEND;TZID=America/Indiana/Indianapolis:20210806T233000
DTSTAMP:20260423T070928
CREATED:20210709T140035Z
LAST-MODIFIED:20210709T144203Z
UID:18751-1628276400-1628292600@mokbpresents.com
SUMMARY:First Friday: Saint Aubin | I Dream In Evergreen
DESCRIPTION:
URL:https://mokbpresents.com/event/first-friday-saint-aubin-i-dream-in-evergreen/
LOCATION:HI-FI\, 1043 Virginia Ave #4\, Indianapolis\, IN\, 46203\, United States
ATTACH;FMTTYPE=image/jpeg:https://cdn.kicksdigital.com/mokbpresents.com/2021/07/picstitch.jpg
GEO:39.7525463;-86.1407527
X-APPLE-STRUCTURED-LOCATION;VALUE=URI;X-ADDRESS=HI-FI 1043 Virginia Ave #4 Indianapolis IN 46203 United States;X-APPLE-RADIUS=500;X-TITLE=1043 Virginia Ave #4:geo:-86.1407527,39.7525463
END:VEVENT
BEGIN:VEVENT
DTSTART;TZID=America/Indiana/Indianapolis:20210807T180000
DTEND;TZID=America/Indiana/Indianapolis:20210807T220000
DTSTAMP:20260423T070928
CREATED:20210429T160313Z
LAST-MODIFIED:20210720T175343Z
UID:17341-1628359200-1628373600@mokbpresents.com
SUMMARY:Minnesota
DESCRIPTION:
URL:https://mokbpresents.com/event/minnesota/
LOCATION:HI-FI Annex\, 1065 St. Patrick St\, Indianapolis\, IN\, 46203\, United States
CATEGORIES:Promo: July 4 Ticket Explosion 2021
END:VEVENT
BEGIN:VEVENT
DTSTART;TZID=America/Indiana/Indianapolis:20210807T200000
DTEND;TZID=America/Indiana/Indianapolis:20210807T233000
DTSTAMP:20260423T070928
CREATED:20210621T141718Z
LAST-MODIFIED:20210621T144007Z
UID:18264-1628366400-1628379000@mokbpresents.com
SUMMARY:Ritch Henderson & The Grandoise Delusion
DESCRIPTION:
URL:https://mokbpresents.com/event/ritch-henderson-the-grandoise-delusion/
LOCATION:HI-FI\, 1043 Virginia Ave #4\, Indianapolis\, IN\, 46203\, United States
ATTACH;FMTTYPE=image/jpeg:https://cdn.kicksdigital.com/mokbpresents.com/2021/06/313DF88B-052B-43D2-A4DA-52488E6EF1DA_1_201_a.jpeg
GEO:39.7525463;-86.1407527
X-APPLE-STRUCTURED-LOCATION;VALUE=URI;X-ADDRESS=HI-FI 1043 Virginia Ave #4 Indianapolis IN 46203 United States;X-APPLE-RADIUS=500;X-TITLE=1043 Virginia Ave #4:geo:-86.1407527,39.7525463
END:VEVENT
BEGIN:VEVENT
DTSTART;TZID=America/Indiana/Indianapolis:20210808T180000
DTEND;TZID=America/Indiana/Indianapolis:20210808T220000
DTSTAMP:20260423T070928
CREATED:20210630T140635Z
LAST-MODIFIED:20210805T190543Z
UID:18538-1628445600-1628460000@mokbpresents.com
SUMMARY:Son Volt
DESCRIPTION:
URL:https://mokbpresents.com/event/son-volt/
LOCATION:HI-FI Annex\, 1065 St. Patrick St\, Indianapolis\, IN\, 46203\, United States
END:VEVENT
BEGIN:VEVENT
DTSTART;TZID=America/Indiana/Indianapolis:20210808T223000
DTEND;TZID=America/Indiana/Indianapolis:20210809T010000
DTSTAMP:20260423T070928
CREATED:20210713T140023Z
LAST-MODIFIED:20210805T045208Z
UID:18816-1628461800-1628470800@mokbpresents.com
SUMMARY:Dizgo - PHSH Afterparty
DESCRIPTION:
URL:https://mokbpresents.com/event/dizgo-afterparty/
LOCATION:HI-FI\, 1043 Virginia Ave #4\, Indianapolis\, IN\, 46203\, United States
GEO:39.7525463;-86.1407527
X-APPLE-STRUCTURED-LOCATION;VALUE=URI;X-ADDRESS=HI-FI 1043 Virginia Ave #4 Indianapolis IN 46203 United States;X-APPLE-RADIUS=500;X-TITLE=1043 Virginia Ave #4:geo:-86.1407527,39.7525463
END:VEVENT
BEGIN:VEVENT
DTSTART;TZID=America/Indiana/Indianapolis:20210810T200000
DTEND;TZID=America/Indiana/Indianapolis:20210810T233000
DTSTAMP:20260423T070928
CREATED:20210510T141300Z
LAST-MODIFIED:20210510T141302Z
UID:17469-1628625600-1628638200@mokbpresents.com
SUMMARY:The Lone Bellow
DESCRIPTION:
URL:https://mokbpresents.com/event/the-lone-bellow/
LOCATION:The Vogue\, 6259 N. College Ave\, Indianapolis\, IN\, 46220\, United States
END:VEVENT
BEGIN:VEVENT
DTSTART;TZID=America/Indiana/Indianapolis:20210810T200000
DTEND;TZID=America/Indiana/Indianapolis:20210810T233000
DTSTAMP:20260423T070928
CREATED:20210602T135657Z
LAST-MODIFIED:20210722T205723Z
UID:17792-1628625600-1628638200@mokbpresents.com
SUMMARY:The Unlikely Candidates
DESCRIPTION:
URL:https://mokbpresents.com/event/the-unlikely-candidates/
LOCATION:HI-FI\, 1043 Virginia Ave #4\, Indianapolis\, IN\, 46203\, United States
ATTACH;FMTTYPE=image/jpeg:https://cdn.kicksdigital.com/mokbpresents.com/2021/06/TUC1-scaled.jpg
GEO:39.7525463;-86.1407527
X-APPLE-STRUCTURED-LOCATION;VALUE=URI;X-ADDRESS=HI-FI 1043 Virginia Ave #4 Indianapolis IN 46203 United States;X-APPLE-RADIUS=500;X-TITLE=1043 Virginia Ave #4:geo:-86.1407527,39.7525463
END:VEVENT
BEGIN:VEVENT
DTSTART;TZID=America/Indiana/Indianapolis:20210812T203000
DTEND;TZID=America/Indiana/Indianapolis:20210812T233000
DTSTAMP:20260423T070928
CREATED:20210525T145100Z
LAST-MODIFIED:20210809T220101Z
UID:17718-1628800200-1628811000@mokbpresents.com
SUMMARY:An Evening With Billy Bob Thornton & The Boxmasters
DESCRIPTION:
URL:https://mokbpresents.com/event/billy-bob-thornton-the-boxmasters/
LOCATION:HI-FI\, 1043 Virginia Ave #4\, Indianapolis\, IN\, 46203\, United States
GEO:39.7525463;-86.1407527
X-APPLE-STRUCTURED-LOCATION;VALUE=URI;X-ADDRESS=HI-FI 1043 Virginia Ave #4 Indianapolis IN 46203 United States;X-APPLE-RADIUS=500;X-TITLE=1043 Virginia Ave #4:geo:-86.1407527,39.7525463
END:VEVENT
BEGIN:VEVENT
DTSTART;TZID=America/Indiana/Indianapolis:20210813T190000
DTEND;TZID=America/Indiana/Indianapolis:20210813T220000
DTSTAMP:20260423T070928
CREATED:20210707T140037Z
LAST-MODIFIED:20210707T140119Z
UID:18636-1628881200-1628892000@mokbpresents.com
SUMMARY:Rod Tuffcurls & The Bench Press
DESCRIPTION:
URL:https://mokbpresents.com/event/rod-tuffcurls-the-bench-press-2/
LOCATION:HI-FI Annex\, 1065 St. Patrick St\, Indianapolis\, IN\, 46203\, United States
END:VEVENT
BEGIN:VEVENT
DTSTART;TZID=America/Indiana/Indianapolis:20210813T220000
DTEND;TZID=America/Indiana/Indianapolis:20210814T020000
DTSTAMP:20260423T070928
CREATED:20210803T140048Z
LAST-MODIFIED:20210803T143129Z
UID:19073-1628892000-1628906400@mokbpresents.com
SUMMARY:Afterparty - Action Jackson
DESCRIPTION:
URL:https://mokbpresents.com/event/afterparty-actioon-jackson/
LOCATION:HI-FI\, 1043 Virginia Ave #4\, Indianapolis\, IN\, 46203\, United States
GEO:39.7525463;-86.1407527
X-APPLE-STRUCTURED-LOCATION;VALUE=URI;X-ADDRESS=HI-FI 1043 Virginia Ave #4 Indianapolis IN 46203 United States;X-APPLE-RADIUS=500;X-TITLE=1043 Virginia Ave #4:geo:-86.1407527,39.7525463
END:VEVENT
BEGIN:VEVENT
DTSTART;TZID=America/Indiana/Indianapolis:20210815T183000
DTEND;TZID=America/Indiana/Indianapolis:20210815T220000
DTSTAMP:20260423T070928
CREATED:20210405T140852Z
LAST-MODIFIED:20210805T172841Z
UID:16939-1629052200-1629064800@mokbpresents.com
SUMMARY:An Evening With Zoso - The Ultimate Led Zeppelin Experience
DESCRIPTION:
URL:https://mokbpresents.com/event/zoso-the-ultimate-led-zeppelin-experience/
LOCATION:HI-FI Annex\, 1065 St. Patrick St\, Indianapolis\, IN\, 46203\, United States
CATEGORIES:Promo: July 4 Ticket Explosion 2021
END:VEVENT
BEGIN:VEVENT
DTSTART;TZID=America/Indiana/Indianapolis:20210815T200000
DTEND;TZID=America/Indiana/Indianapolis:20210815T233000
DTSTAMP:20260423T070928
CREATED:20210604T135436Z
LAST-MODIFIED:20210618T215424Z
UID:17885-1629057600-1629070200@mokbpresents.com
SUMMARY:Sarah Shook & The Disarmers
DESCRIPTION:
URL:https://mokbpresents.com/event/sarah-shook-the-disarmers/
LOCATION:HI-FI\, 1043 Virginia Ave #4\, Indianapolis\, IN\, 46203\, United States
GEO:39.7525463;-86.1407527
X-APPLE-STRUCTURED-LOCATION;VALUE=URI;X-ADDRESS=HI-FI 1043 Virginia Ave #4 Indianapolis IN 46203 United States;X-APPLE-RADIUS=500;X-TITLE=1043 Virginia Ave #4:geo:-86.1407527,39.7525463
END:VEVENT
BEGIN:VEVENT
DTSTART;TZID=America/Indiana/Indianapolis:20210818T190000
DTEND;TZID=America/Indiana/Indianapolis:20210818T220000
DTSTAMP:20260423T070928
CREATED:20210604T160718Z
LAST-MODIFIED:20210812T162325Z
UID:17903-1629313200-1629324000@mokbpresents.com
SUMMARY:The Backseat Lovers
DESCRIPTION:
URL:https://mokbpresents.com/event/the-backseat-lovers/
LOCATION:HI-FI Annex\, 1065 St. Patrick St\, Indianapolis\, IN\, 46203\, United States
CATEGORIES:Promo: July 4 Ticket Explosion 2021
END:VEVENT
BEGIN:VEVENT
DTSTART;TZID=America/Indiana/Indianapolis:20210819T210000
DTEND;TZID=America/Indiana/Indianapolis:20210819T233000
DTSTAMP:20260423T070928
CREATED:20210310T150151Z
LAST-MODIFIED:20210818T174621Z
UID:16746-1629406800-1629415800@mokbpresents.com
SUMMARY:The Lonely Ones (fka Bobaflex)
DESCRIPTION:
URL:https://mokbpresents.com/event/the-lonely-ones/
LOCATION:HI-FI\, 1043 Virginia Ave #4\, Indianapolis\, IN\, 46203\, United States
ATTACH;FMTTYPE=image/jpeg:https://cdn.kicksdigital.com/mokbpresents.com/2021/03/The-Lonely-Ones-_New-Aug-pic.jpg
GEO:39.7525463;-86.1407527
X-APPLE-STRUCTURED-LOCATION;VALUE=URI;X-ADDRESS=HI-FI 1043 Virginia Ave #4 Indianapolis IN 46203 United States;X-APPLE-RADIUS=500;X-TITLE=1043 Virginia Ave #4:geo:-86.1407527,39.7525463
END:VEVENT
BEGIN:VEVENT
DTSTART;TZID=America/Indiana/Indianapolis:20210820T170000
DTEND;TZID=America/Indiana/Indianapolis:20210820T220000
DTSTAMP:20260423T070928
CREATED:20210624T140004Z
LAST-MODIFIED:20210624T143032Z
UID:18401-1629478800-1629496800@mokbpresents.com
SUMMARY:Rich Hardesty Band
DESCRIPTION:
URL:https://mokbpresents.com/event/rich-hardesty-band/
LOCATION:HI-FI Annex\, 1065 St. Patrick St\, Indianapolis\, IN\, 46203\, United States
END:VEVENT
BEGIN:VEVENT
DTSTART;TZID=America/Indiana/Indianapolis:20210820T210000
DTEND;TZID=America/Indiana/Indianapolis:20210820T230000
DTSTAMP:20260423T070928
CREATED:20210714T150356Z
LAST-MODIFIED:20210714T151252Z
UID:18860-1629493200-1629500400@mokbpresents.com
SUMMARY:Little Jesus
DESCRIPTION:
URL:https://mokbpresents.com/event/little-jesus/
LOCATION:HI-FI\, 1043 Virginia Ave #4\, Indianapolis\, IN\, 46203\, United States
GEO:39.7525463;-86.1407527
X-APPLE-STRUCTURED-LOCATION;VALUE=URI;X-ADDRESS=HI-FI 1043 Virginia Ave #4 Indianapolis IN 46203 United States;X-APPLE-RADIUS=500;X-TITLE=1043 Virginia Ave #4:geo:-86.1407527,39.7525463
END:VEVENT
BEGIN:VEVENT
DTSTART;TZID=America/Indiana/Indianapolis:20210821T193000
DTEND;TZID=America/Indiana/Indianapolis:20210821T233000
DTSTAMP:20260423T070928
CREATED:20210519T160147Z
LAST-MODIFIED:20210819T144822Z
UID:17665-1629574200-1629588600@mokbpresents.com
SUMMARY:Billy Strings
DESCRIPTION:
URL:https://mokbpresents.com/event/billy-strings/
LOCATION:Garfield Park\, 2432 Conservatory Drive\, Indianapolis\, IN\, 46203\, United States
END:VEVENT
BEGIN:VEVENT
DTSTART;TZID=America/Indiana/Indianapolis:20210821T220000
DTEND;TZID=America/Indiana/Indianapolis:20210821T235900
DTSTAMP:20260423T070928
CREATED:20210716T140022Z
LAST-MODIFIED:20210716T141848Z
UID:18896-1629583200-1629590340@mokbpresents.com
SUMMARY:An Evening with Fireside Collective
DESCRIPTION:
URL:https://mokbpresents.com/event/an-evening-with-fireside-collective/
LOCATION:HI-FI\, 1043 Virginia Ave #4\, Indianapolis\, IN\, 46203\, United States
GEO:39.7525463;-86.1407527
X-APPLE-STRUCTURED-LOCATION;VALUE=URI;X-ADDRESS=HI-FI 1043 Virginia Ave #4 Indianapolis IN 46203 United States;X-APPLE-RADIUS=500;X-TITLE=1043 Virginia Ave #4:geo:-86.1407527,39.7525463
END:VEVENT
BEGIN:VEVENT
DTSTART;TZID=America/Indiana/Indianapolis:20210822T180000
DTEND;TZID=America/Indiana/Indianapolis:20210822T220000
DTSTAMP:20260423T070928
CREATED:20210614T150240Z
LAST-MODIFIED:20210623T175125Z
UID:18104-1629655200-1629669600@mokbpresents.com
SUMMARY:Brent Cobb & Nikki Lane - Soap Box Derby Tour
DESCRIPTION:
URL:https://mokbpresents.com/event/brent-cobb-nikki-lane-soap-box-derby-tour/
LOCATION:HI-FI Annex\, 1065 St. Patrick St\, Indianapolis\, IN\, 46203\, United States
CATEGORIES:Promo: July 4 Ticket Explosion 2021
ATTACH;FMTTYPE=image/jpeg:https://cdn.kicksdigital.com/mokbpresents.com/2021/06/Brent-Cobb-Nikki-Lane-Newport-Folk-7-28-17-92-scaled.jpg
END:VEVENT
BEGIN:VEVENT
DTSTART;TZID=America/Indiana/Indianapolis:20210822T190000
DTEND;TZID=America/Indiana/Indianapolis:20210822T230000
DTSTAMP:20260423T070928
CREATED:20210608T140053Z
LAST-MODIFIED:20210811T220245Z
UID:17954-1629658800-1629673200@mokbpresents.com
SUMMARY:Soul Asylum
DESCRIPTION:
URL:https://mokbpresents.com/event/soul-asylum/
LOCATION:Garfield Park\, 2432 Conservatory Drive\, Indianapolis\, IN\, 46203\, United States
CATEGORIES:Promo: July 4 Ticket Explosion 2021
ATTACH;FMTTYPE=image/jpeg:https://cdn.kicksdigital.com/mokbpresents.com/2021/06/Soul-Asylum.jpeg
END:VEVENT
BEGIN:VEVENT
DTSTART;TZID=America/Indiana/Indianapolis:20210823T200000
DTEND;TZID=America/Indiana/Indianapolis:20210823T233000
DTSTAMP:20260423T070928
CREATED:20210629T140057Z
LAST-MODIFIED:20210629T140319Z
UID:18516-1629748800-1629761400@mokbpresents.com
SUMMARY:Leland Blue
DESCRIPTION:
URL:https://mokbpresents.com/event/leland-blue/
LOCATION:HI-FI\, 1043 Virginia Ave #4\, Indianapolis\, IN\, 46203\, United States
GEO:39.7525463;-86.1407527
X-APPLE-STRUCTURED-LOCATION;VALUE=URI;X-ADDRESS=HI-FI 1043 Virginia Ave #4 Indianapolis IN 46203 United States;X-APPLE-RADIUS=500;X-TITLE=1043 Virginia Ave #4:geo:-86.1407527,39.7525463
END:VEVENT
BEGIN:VEVENT
DTSTART;TZID=America/Indiana/Indianapolis:20210825T190000
DTEND;TZID=America/Indiana/Indianapolis:20210825T220000
DTSTAMP:20260423T070928
CREATED:20210616T141724Z
LAST-MODIFIED:20210824T223352Z
UID:18178-1629918000-1629928800@mokbpresents.com
SUMMARY:POSTPONED: The Nauti Yachtys
DESCRIPTION:
URL:https://mokbpresents.com/event/the-nauti-yachtys/
LOCATION:HI-FI Annex\, 1065 St. Patrick St\, Indianapolis\, IN\, 46203\, United States
CATEGORIES:Promo: July 4 Ticket Explosion 2021
ATTACH;FMTTYPE=image/jpeg:https://cdn.kicksdigital.com/mokbpresents.com/2021/06/Nauti-Yachtys-1.jpeg
END:VEVENT
BEGIN:VEVENT
DTSTART;TZID=America/Indiana/Indianapolis:20210825T210000
DTEND;TZID=America/Indiana/Indianapolis:20210825T233000
DTSTAMP:20260423T070928
CREATED:20210609T140505Z
LAST-MODIFIED:20210824T190257Z
UID:18040-1629925200-1629934200@mokbpresents.com
SUMMARY:Bendigo Fletcher
DESCRIPTION:
URL:https://mokbpresents.com/event/bendigo-fletcher/
LOCATION:HI-FI\, 1043 Virginia Ave #4\, Indianapolis\, IN\, 46203\, United States
GEO:39.7525463;-86.1407527
X-APPLE-STRUCTURED-LOCATION;VALUE=URI;X-ADDRESS=HI-FI 1043 Virginia Ave #4 Indianapolis IN 46203 United States;X-APPLE-RADIUS=500;X-TITLE=1043 Virginia Ave #4:geo:-86.1407527,39.7525463
END:VEVENT
BEGIN:VEVENT
DTSTART;TZID=America/Indiana/Indianapolis:20210826T190000
DTEND;TZID=America/Indiana/Indianapolis:20210826T200000
DTSTAMP:20260423T070928
CREATED:20210601T161010Z
LAST-MODIFIED:20210714T144034Z
UID:17785-1630004400-1630008000@mokbpresents.com
SUMMARY:Motherfolk
DESCRIPTION:
URL:https://mokbpresents.com/event/motherfolk-2/
LOCATION:HI-FI\, 1043 Virginia Ave #4\, Indianapolis\, IN\, 46203\, United States
GEO:39.7525463;-86.1407527
X-APPLE-STRUCTURED-LOCATION;VALUE=URI;X-ADDRESS=HI-FI 1043 Virginia Ave #4 Indianapolis IN 46203 United States;X-APPLE-RADIUS=500;X-TITLE=1043 Virginia Ave #4:geo:-86.1407527,39.7525463
END:VEVENT
BEGIN:VEVENT
DTSTART;TZID=America/Indiana/Indianapolis:20210827T180000
DTEND;TZID=America/Indiana/Indianapolis:20210827T220000
DTSTAMP:20260423T070928
CREATED:20210818T165831Z
LAST-MODIFIED:20210818T165833Z
UID:19298-1630087200-1630101600@mokbpresents.com
SUMMARY:Saliva
DESCRIPTION:
URL:https://mokbpresents.com/event/saliva/
LOCATION:HI-FI Annex\, 1065 St. Patrick St\, Indianapolis\, IN\, 46203\, United States
END:VEVENT
END:VCALENDAR