BEGIN:VCALENDAR
VERSION:2.0
PRODID:-//MOKB Presents - ECPv6.15.16.1//NONSGML v1.0//EN
CALSCALE:GREGORIAN
METHOD:PUBLISH
X-WR-CALNAME:MOKB Presents
X-ORIGINAL-URL:https://mokbpresents.com
X-WR-CALDESC:Events for MOKB Presents
REFRESH-INTERVAL;VALUE=DURATION:PT1H
X-Robots-Tag:noindex
X-PUBLISHED-TTL:PT1H
BEGIN:VTIMEZONE
TZID:America/Indiana/Indianapolis
BEGIN:DAYLIGHT
TZOFFSETFROM:-0500
TZOFFSETTO:-0400
TZNAME:EDT
DTSTART:20210314T070000
END:DAYLIGHT
BEGIN:STANDARD
TZOFFSETFROM:-0400
TZOFFSETTO:-0500
TZNAME:EST
DTSTART:20211107T060000
END:STANDARD
BEGIN:DAYLIGHT
TZOFFSETFROM:-0500
TZOFFSETTO:-0400
TZNAME:EDT
DTSTART:20220313T070000
END:DAYLIGHT
BEGIN:STANDARD
TZOFFSETFROM:-0400
TZOFFSETTO:-0500
TZNAME:EST
DTSTART:20221106T060000
END:STANDARD
BEGIN:DAYLIGHT
TZOFFSETFROM:-0500
TZOFFSETTO:-0400
TZNAME:EDT
DTSTART:20230312T070000
END:DAYLIGHT
BEGIN:STANDARD
TZOFFSETFROM:-0400
TZOFFSETTO:-0500
TZNAME:EST
DTSTART:20231105T060000
END:STANDARD
END:VTIMEZONE
BEGIN:VEVENT
DTSTART;TZID=America/Indiana/Indianapolis:20220204T200000
DTEND;TZID=America/Indiana/Indianapolis:20220204T230000
DTSTAMP:20260422T233213
CREATED:20211020T140046Z
LAST-MODIFIED:20220204T014342Z
UID:20113-1644004800-1644015600@mokbpresents.com
SUMMARY:FREE FIRST FRIDAY: Brother Moses
DESCRIPTION:
URL:https://mokbpresents.com/event/free-first-friday-brother-moses/
LOCATION:LO-FI Lounge\, 1043 Virginia Ave #215\, Indianapolis\, IN\, 46203\, United States
END:VEVENT
BEGIN:VEVENT
DTSTART;TZID=America/Indiana/Indianapolis:20220204T200000
DTEND;TZID=America/Indiana/Indianapolis:20220204T233000
DTSTAMP:20260422T233213
CREATED:20211119T155252Z
LAST-MODIFIED:20220203T222904Z
UID:20472-1644004800-1644017400@mokbpresents.com
SUMMARY:The Palace
DESCRIPTION:
URL:https://mokbpresents.com/event/the-palace/
LOCATION:HI-FI\, 1043 Virginia Ave #4\, Indianapolis\, IN\, 46203\, United States
CATEGORIES:Promo: Yams & Jams
ATTACH;FMTTYPE=image/jpeg:https://cdn.kicksdigital.com/mokbpresents.com/2021/06/The-Palace-e1643654283121.jpeg
GEO:39.7525463;-86.1407527
X-APPLE-STRUCTURED-LOCATION;VALUE=URI;X-ADDRESS=HI-FI 1043 Virginia Ave #4 Indianapolis IN 46203 United States;X-APPLE-RADIUS=500;X-TITLE=1043 Virginia Ave #4:geo:-86.1407527,39.7525463
END:VEVENT
BEGIN:VEVENT
DTSTART;TZID=America/Indiana/Indianapolis:20220205T210000
DTEND;TZID=America/Indiana/Indianapolis:20220205T233000
DTSTAMP:20260422T233213
CREATED:20211020T160052Z
LAST-MODIFIED:20220204T002314Z
UID:20129-1644094800-1644103800@mokbpresents.com
SUMMARY:Brittney Spencer
DESCRIPTION:
URL:https://mokbpresents.com/event/brittney-spencer/
LOCATION:HI-FI\, 1043 Virginia Ave #4\, Indianapolis\, IN\, 46203\, United States
CATEGORIES:Promo: Yams & Jams
ATTACH;FMTTYPE=image/jpeg:https://cdn.kicksdigital.com/mokbpresents.com/2021/10/Brittney-Spencer-SS-Cover-Image_PhotoCred.NickiFletcher-scaled.jpg
GEO:39.7525463;-86.1407527
X-APPLE-STRUCTURED-LOCATION;VALUE=URI;X-ADDRESS=HI-FI 1043 Virginia Ave #4 Indianapolis IN 46203 United States;X-APPLE-RADIUS=500;X-TITLE=1043 Virginia Ave #4:geo:-86.1407527,39.7525463
END:VEVENT
BEGIN:VEVENT
DTSTART;TZID=America/Indiana/Indianapolis:20220209T190000
DTEND;TZID=America/Indiana/Indianapolis:20220209T220000
DTSTAMP:20260422T233213
CREATED:20211213T143909Z
LAST-MODIFIED:20220208T225229Z
UID:20800-1644433200-1644444000@mokbpresents.com
SUMMARY:Daniel Donato
DESCRIPTION:
URL:https://mokbpresents.com/event/daniel-donato/
LOCATION:LO-FI Lounge\, 1043 Virginia Ave #215\, Indianapolis\, IN\, 46203\, United States
END:VEVENT
BEGIN:VEVENT
DTSTART;TZID=America/Indiana/Indianapolis:20220210T200000
DTEND;TZID=America/Indiana/Indianapolis:20220210T230000
DTSTAMP:20260422T233213
CREATED:20211117T150056Z
LAST-MODIFIED:20220208T230622Z
UID:20442-1644523200-1644534000@mokbpresents.com
SUMMARY:Red Wanting Blue
DESCRIPTION:
URL:https://mokbpresents.com/event/red-wanting-blue-2/
LOCATION:HI-FI\, 1043 Virginia Ave #4\, Indianapolis\, IN\, 46203\, United States
GEO:39.7525463;-86.1407527
X-APPLE-STRUCTURED-LOCATION;VALUE=URI;X-ADDRESS=HI-FI 1043 Virginia Ave #4 Indianapolis IN 46203 United States;X-APPLE-RADIUS=500;X-TITLE=1043 Virginia Ave #4:geo:-86.1407527,39.7525463
END:VEVENT
BEGIN:VEVENT
DTSTART;TZID=America/Indiana/Indianapolis:20220211T190000
DTEND;TZID=America/Indiana/Indianapolis:20220211T230000
DTSTAMP:20260422T233213
CREATED:20211216T150024Z
LAST-MODIFIED:20220208T225220Z
UID:20850-1644606000-1644620400@mokbpresents.com
SUMMARY:The Buffalo Wabs & The Price Hill Hustle
DESCRIPTION:
URL:https://mokbpresents.com/event/the-buffalo-wabs-the-price-hill-hustle/
LOCATION:LO-FI Lounge\, 1043 Virginia Ave #215\, Indianapolis\, IN\, 46203\, United States
END:VEVENT
BEGIN:VEVENT
DTSTART;TZID=America/Indiana/Indianapolis:20220211T200000
DTEND;TZID=America/Indiana/Indianapolis:20220211T233000
DTSTAMP:20260422T233213
CREATED:20211213T164712Z
LAST-MODIFIED:20220208T213557Z
UID:20808-1644609600-1644622200@mokbpresents.com
SUMMARY:SOLD OUT: Langhorne Slim
DESCRIPTION:
URL:https://mokbpresents.com/event/langhorn-slim/
LOCATION:HI-FI\, 1043 Virginia Ave #4\, Indianapolis\, IN\, 46203\, United States
GEO:39.7525463;-86.1407527
X-APPLE-STRUCTURED-LOCATION;VALUE=URI;X-ADDRESS=HI-FI 1043 Virginia Ave #4 Indianapolis IN 46203 United States;X-APPLE-RADIUS=500;X-TITLE=1043 Virginia Ave #4:geo:-86.1407527,39.7525463
END:VEVENT
BEGIN:VEVENT
DTSTART;TZID=America/Indiana/Indianapolis:20220211T210000
DTEND;TZID=America/Indiana/Indianapolis:20220211T233000
DTSTAMP:20260422T233213
CREATED:20211103T140204Z
LAST-MODIFIED:20220204T003706Z
UID:20276-1644613200-1644622200@mokbpresents.com
SUMMARY:Stay Outside
DESCRIPTION:
URL:https://mokbpresents.com/event/stay-outside/
LOCATION:White Rabbit Cabaret\, 1116 Prospect St.\, Indianapolis\, IN\, 46203\, United States
END:VEVENT
BEGIN:VEVENT
DTSTART;TZID=America/Indiana/Indianapolis:20220216T200000
DTEND;TZID=America/Indiana/Indianapolis:20220216T233000
DTSTAMP:20260422T233213
CREATED:20211029T143710Z
LAST-MODIFIED:20220215T003504Z
UID:20243-1645041600-1645054200@mokbpresents.com
SUMMARY:Tenille Townes
DESCRIPTION:
URL:https://mokbpresents.com/event/tenille-townes/
LOCATION:HI-FI\, 1043 Virginia Ave #4\, Indianapolis\, IN\, 46203\, United States
CATEGORIES:Promo: Yams & Jams
GEO:39.7525463;-86.1407527
X-APPLE-STRUCTURED-LOCATION;VALUE=URI;X-ADDRESS=HI-FI 1043 Virginia Ave #4 Indianapolis IN 46203 United States;X-APPLE-RADIUS=500;X-TITLE=1043 Virginia Ave #4:geo:-86.1407527,39.7525463
END:VEVENT
BEGIN:VEVENT
DTSTART;TZID=America/Indiana/Indianapolis:20220217T190000
DTEND;TZID=America/Indiana/Indianapolis:20220217T230000
DTSTAMP:20260422T233213
CREATED:20211102T160004Z
LAST-MODIFIED:20220217T175956Z
UID:20260-1645124400-1645138800@mokbpresents.com
SUMMARY:Greensky Bluegrass
DESCRIPTION:
URL:https://mokbpresents.com/event/greensky-bluegrass/
LOCATION:The Pavilion at Pan Am\, 201 S Capitol Ave.\, Indianapolis\, IN\, 46225\, United States
END:VEVENT
BEGIN:VEVENT
DTSTART;TZID=America/Indiana/Indianapolis:20220217T193000
DTEND;TZID=America/Indiana/Indianapolis:20220217T230000
DTSTAMP:20260422T233213
CREATED:20211206T205211Z
LAST-MODIFIED:20220216T231059Z
UID:20647-1645126200-1645138800@mokbpresents.com
SUMMARY:Prof
DESCRIPTION:
URL:https://mokbpresents.com/event/prof/
LOCATION:HI-FI\, 1043 Virginia Ave #4\, Indianapolis\, IN\, 46203\, United States
GEO:39.7525463;-86.1407527
X-APPLE-STRUCTURED-LOCATION;VALUE=URI;X-ADDRESS=HI-FI 1043 Virginia Ave #4 Indianapolis IN 46203 United States;X-APPLE-RADIUS=500;X-TITLE=1043 Virginia Ave #4:geo:-86.1407527,39.7525463
END:VEVENT
BEGIN:VEVENT
DTSTART;TZID=America/Indiana/Indianapolis:20220217T200000
DTEND;TZID=America/Indiana/Indianapolis:20220217T233000
DTSTAMP:20260422T233213
CREATED:20211122T145315Z
LAST-MODIFIED:20220204T181556Z
UID:20496-1645128000-1645140600@mokbpresents.com
SUMMARY:An Evening With Patrick Sweany
DESCRIPTION:
URL:https://mokbpresents.com/event/patrick-sweany/
LOCATION:White Rabbit Cabaret\, 1116 Prospect St.\, Indianapolis\, IN\, 46203\, United States
ATTACH;FMTTYPE=image/jpeg:https://cdn.kicksdigital.com/mokbpresents.com/2021/11/2020patsweany01cropped-e1637592920269.jpeg
END:VEVENT
BEGIN:VEVENT
DTSTART;TZID=America/Indiana/Indianapolis:20220218T180000
DTEND;TZID=America/Indiana/Indianapolis:20220218T220000
DTSTAMP:20260422T233213
CREATED:20211220T144631Z
LAST-MODIFIED:20220208T225329Z
UID:20953-1645207200-1645221600@mokbpresents.com
SUMMARY:Davey and The Midnights
DESCRIPTION:
URL:https://mokbpresents.com/event/davey-and-the-midnights/
LOCATION:LO-FI Lounge\, 1043 Virginia Ave #215\, Indianapolis\, IN\, 46203\, United States
END:VEVENT
BEGIN:VEVENT
DTSTART;TZID=America/Indiana/Indianapolis:20220218T190000
DTEND;TZID=America/Indiana/Indianapolis:20220218T230000
DTSTAMP:20260422T233213
CREATED:20220107T150043Z
LAST-MODIFIED:20220218T221436Z
UID:21048-1645210800-1645225200@mokbpresents.com
SUMMARY:Ovrslept
DESCRIPTION:
URL:https://mokbpresents.com/event/ovrslept/
LOCATION:HI-FI\, 1043 Virginia Ave #4\, Indianapolis\, IN\, 46203\, United States
GEO:39.7525463;-86.1407527
X-APPLE-STRUCTURED-LOCATION;VALUE=URI;X-ADDRESS=HI-FI 1043 Virginia Ave #4 Indianapolis IN 46203 United States;X-APPLE-RADIUS=500;X-TITLE=1043 Virginia Ave #4:geo:-86.1407527,39.7525463
END:VEVENT
BEGIN:VEVENT
DTSTART;TZID=America/Indiana/Indianapolis:20220219T190000
DTEND;TZID=America/Indiana/Indianapolis:20220219T210000
DTSTAMP:20260422T233213
CREATED:20211116T160002Z
LAST-MODIFIED:20220208T162822Z
UID:20402-1645297200-1645304400@mokbpresents.com
SUMMARY:Skout + Marielle Kraft
DESCRIPTION:
URL:https://mokbpresents.com/event/marielle-kraft-skout/
LOCATION:LO-FI Lounge\, 1043 Virginia Ave #215\, Indianapolis\, IN\, 46203\, United States
ATTACH;FMTTYPE=image/jpeg:https://cdn.kicksdigital.com/mokbpresents.com/2021/11/Joint-Press-Photo-scaled-e1637077482754.jpg
END:VEVENT
BEGIN:VEVENT
DTSTART;TZID=America/Indiana/Indianapolis:20220219T190000
DTEND;TZID=America/Indiana/Indianapolis:20220219T233000
DTSTAMP:20260422T233213
CREATED:20210727T135838Z
LAST-MODIFIED:20220204T013010Z
UID:18998-1645297200-1645313400@mokbpresents.com
SUMMARY:Hippo Campus
DESCRIPTION:
URL:https://mokbpresents.com/event/hippo-campus/
LOCATION:Old National Centre\, 502 N New Jersey St\, Indianapolis\, 46204\, United States
END:VEVENT
BEGIN:VEVENT
DTSTART;TZID=America/Indiana/Indianapolis:20220219T200000
DTEND;TZID=America/Indiana/Indianapolis:20220219T233000
DTSTAMP:20260422T233213
CREATED:20211115T160020Z
LAST-MODIFIED:20220204T021229Z
UID:20368-1645300800-1645313400@mokbpresents.com
SUMMARY:Brent Cobb - When It's My Time Tour
DESCRIPTION:
URL:https://mokbpresents.com/event/brent-cobb-when-its-my-time-tour/
LOCATION:HI-FI\, 1043 Virginia Ave #4\, Indianapolis\, IN\, 46203\, United States
GEO:39.7525463;-86.1407527
X-APPLE-STRUCTURED-LOCATION;VALUE=URI;X-ADDRESS=HI-FI 1043 Virginia Ave #4 Indianapolis IN 46203 United States;X-APPLE-RADIUS=500;X-TITLE=1043 Virginia Ave #4:geo:-86.1407527,39.7525463
END:VEVENT
BEGIN:VEVENT
DTSTART;TZID=America/Indiana/Indianapolis:20220220T200000
DTEND;TZID=America/Indiana/Indianapolis:20220220T233000
DTSTAMP:20260422T233213
CREATED:20211011T140701Z
LAST-MODIFIED:20220204T023048Z
UID:20037-1645387200-1645399800@mokbpresents.com
SUMMARY:Giovannie & The Hired Guns
DESCRIPTION:
URL:https://mokbpresents.com/event/giovannie-the-hired-guns/
LOCATION:HI-FI\, 1043 Virginia Ave #4\, Indianapolis\, IN\, 46203\, United States
ATTACH;FMTTYPE=image/jpeg:https://cdn.kicksdigital.com/mokbpresents.com/2021/10/Final-edit1-scaled.jpg
GEO:39.7525463;-86.1407527
X-APPLE-STRUCTURED-LOCATION;VALUE=URI;X-ADDRESS=HI-FI 1043 Virginia Ave #4 Indianapolis IN 46203 United States;X-APPLE-RADIUS=500;X-TITLE=1043 Virginia Ave #4:geo:-86.1407527,39.7525463
END:VEVENT
BEGIN:VEVENT
DTSTART;TZID=America/Indiana/Indianapolis:20220221T200000
DTEND;TZID=America/Indiana/Indianapolis:20220221T230000
DTSTAMP:20260422T233213
CREATED:20211126T190810Z
LAST-MODIFIED:20220208T162649Z
UID:20550-1645473600-1645484400@mokbpresents.com
SUMMARY:Patrick Droney
DESCRIPTION:
URL:https://mokbpresents.com/event/patrick-droney/
LOCATION:HI-FI\, 1043 Virginia Ave #4\, Indianapolis\, IN\, 46203\, United States
GEO:39.7525463;-86.1407527
X-APPLE-STRUCTURED-LOCATION;VALUE=URI;X-ADDRESS=HI-FI 1043 Virginia Ave #4 Indianapolis IN 46203 United States;X-APPLE-RADIUS=500;X-TITLE=1043 Virginia Ave #4:geo:-86.1407527,39.7525463
END:VEVENT
BEGIN:VEVENT
DTSTART;TZID=America/Indiana/Indianapolis:20220224T200000
DTEND;TZID=America/Indiana/Indianapolis:20220224T233000
DTSTAMP:20260422T233213
CREATED:20210615T150014Z
LAST-MODIFIED:20220204T024449Z
UID:18114-1645732800-1645745400@mokbpresents.com
SUMMARY:Lilly Hiatt
DESCRIPTION:
URL:https://mokbpresents.com/event/lilly-hiatt/
LOCATION:HI-FI\, 1043 Virginia Ave #4\, Indianapolis\, IN\, 46203\, United States
CATEGORIES:Americana/Folk
GEO:39.7525463;-86.1407527
X-APPLE-STRUCTURED-LOCATION;VALUE=URI;X-ADDRESS=HI-FI 1043 Virginia Ave #4 Indianapolis IN 46203 United States;X-APPLE-RADIUS=500;X-TITLE=1043 Virginia Ave #4:geo:-86.1407527,39.7525463
END:VEVENT
BEGIN:VEVENT
DTSTART;TZID=America/Indiana/Indianapolis:20220225T150000
DTEND;TZID=America/Indiana/Indianapolis:20220225T190000
DTSTAMP:20260422T233213
CREATED:20211218T190002Z
LAST-MODIFIED:20220218T214251Z
UID:20753-1645801200-1645815600@mokbpresents.com
SUMMARY:Jon McLaughlin - Show #1: Indiana
DESCRIPTION:
URL:https://mokbpresents.com/event/jon-mclaughlin-show-1-indiana/
LOCATION:HI-FI\, 1043 Virginia Ave #4\, Indianapolis\, IN\, 46203\, United States
CATEGORIES:Jon McLaughlin: 6 Albums
GEO:39.7525463;-86.1407527
X-APPLE-STRUCTURED-LOCATION;VALUE=URI;X-ADDRESS=HI-FI 1043 Virginia Ave #4 Indianapolis IN 46203 United States;X-APPLE-RADIUS=500;X-TITLE=1043 Virginia Ave #4:geo:-86.1407527,39.7525463
END:VEVENT
BEGIN:VEVENT
DTSTART;TZID=America/Indiana/Indianapolis:20220225T200000
DTEND;TZID=America/Indiana/Indianapolis:20220225T230000
DTSTAMP:20260422T233213
CREATED:20211218T190052Z
LAST-MODIFIED:20220218T214305Z
UID:20759-1645819200-1645830000@mokbpresents.com
SUMMARY:Jon McLaughlin - Show #2: OK Now
DESCRIPTION:
URL:https://mokbpresents.com/event/jon-mclaughlin-show-2-ok-now/
LOCATION:HI-FI\, 1043 Virginia Ave #4\, Indianapolis\, IN\, 46203\, United States
CATEGORIES:Jon McLaughlin: 6 Albums
GEO:39.7525463;-86.1407527
X-APPLE-STRUCTURED-LOCATION;VALUE=URI;X-ADDRESS=HI-FI 1043 Virginia Ave #4 Indianapolis IN 46203 United States;X-APPLE-RADIUS=500;X-TITLE=1043 Virginia Ave #4:geo:-86.1407527,39.7525463
END:VEVENT
BEGIN:VEVENT
DTSTART;TZID=America/Indiana/Indianapolis:20220226T150000
DTEND;TZID=America/Indiana/Indianapolis:20220226T190000
DTSTAMP:20260422T233213
CREATED:20211218T190054Z
LAST-MODIFIED:20220218T214315Z
UID:20761-1645887600-1645902000@mokbpresents.com
SUMMARY:Jon McLaughlin - Show #3: Promising Promises
DESCRIPTION:
URL:https://mokbpresents.com/event/jon-mclaughlin-show-3-promising-promises/
LOCATION:HI-FI\, 1043 Virginia Ave #4\, Indianapolis\, IN\, 46203\, United States
CATEGORIES:Jon McLaughlin: 6 Albums
GEO:39.7525463;-86.1407527
X-APPLE-STRUCTURED-LOCATION;VALUE=URI;X-ADDRESS=HI-FI 1043 Virginia Ave #4 Indianapolis IN 46203 United States;X-APPLE-RADIUS=500;X-TITLE=1043 Virginia Ave #4:geo:-86.1407527,39.7525463
END:VEVENT
BEGIN:VEVENT
DTSTART;TZID=America/Indiana/Indianapolis:20220226T200000
DTEND;TZID=America/Indiana/Indianapolis:20220226T230000
DTSTAMP:20260422T233213
CREATED:20211218T190019Z
LAST-MODIFIED:20220218T214441Z
UID:20765-1645905600-1645916400@mokbpresents.com
SUMMARY:Jon McLaughlin - Show #4: Holding My Breath
DESCRIPTION:
URL:https://mokbpresents.com/event/jon-mclaughlin-show-4-holding-my-breath/
LOCATION:HI-FI\, 1043 Virginia Ave #4\, Indianapolis\, IN\, 46203\, United States
CATEGORIES:Jon McLaughlin: 6 Albums
GEO:39.7525463;-86.1407527
X-APPLE-STRUCTURED-LOCATION;VALUE=URI;X-ADDRESS=HI-FI 1043 Virginia Ave #4 Indianapolis IN 46203 United States;X-APPLE-RADIUS=500;X-TITLE=1043 Virginia Ave #4:geo:-86.1407527,39.7525463
END:VEVENT
BEGIN:VEVENT
DTSTART;TZID=America/Indiana/Indianapolis:20220227T150000
DTEND;TZID=America/Indiana/Indianapolis:20220227T190000
DTSTAMP:20260422T233213
CREATED:20211218T190007Z
LAST-MODIFIED:20220218T214552Z
UID:20770-1645974000-1645988400@mokbpresents.com
SUMMARY:Jon McLaughlin - Show #5: Like Us
DESCRIPTION:
URL:https://mokbpresents.com/event/jon-mclaughlin-show-5-like-us/
LOCATION:HI-FI\, 1043 Virginia Ave #4\, Indianapolis\, IN\, 46203\, United States
CATEGORIES:Jon McLaughlin: 6 Albums
GEO:39.7525463;-86.1407527
X-APPLE-STRUCTURED-LOCATION;VALUE=URI;X-ADDRESS=HI-FI 1043 Virginia Ave #4 Indianapolis IN 46203 United States;X-APPLE-RADIUS=500;X-TITLE=1043 Virginia Ave #4:geo:-86.1407527,39.7525463
END:VEVENT
BEGIN:VEVENT
DTSTART;TZID=America/Indiana/Indianapolis:20220227T200000
DTEND;TZID=America/Indiana/Indianapolis:20220227T230000
DTSTAMP:20260422T233213
CREATED:20211218T190019Z
LAST-MODIFIED:20220218T214944Z
UID:20773-1645992000-1646002800@mokbpresents.com
SUMMARY:Jon McLaughlin - Show #6: Angst & Grace
DESCRIPTION:
URL:https://mokbpresents.com/event/jon-mclaughlin-show-6-angst-grace/
LOCATION:HI-FI\, 1043 Virginia Ave #4\, Indianapolis\, IN\, 46203\, United States
CATEGORIES:Jon McLaughlin: 6 Albums
GEO:39.7525463;-86.1407527
X-APPLE-STRUCTURED-LOCATION;VALUE=URI;X-ADDRESS=HI-FI 1043 Virginia Ave #4 Indianapolis IN 46203 United States;X-APPLE-RADIUS=500;X-TITLE=1043 Virginia Ave #4:geo:-86.1407527,39.7525463
END:VEVENT
END:VCALENDAR