BEGIN:VCALENDAR
VERSION:2.0
PRODID:-//MOKB Presents - ECPv6.15.16.1//NONSGML v1.0//EN
CALSCALE:GREGORIAN
METHOD:PUBLISH
X-WR-CALNAME:MOKB Presents
X-ORIGINAL-URL:https://mokbpresents.com
X-WR-CALDESC:Events for MOKB Presents
REFRESH-INTERVAL;VALUE=DURATION:PT1H
X-Robots-Tag:noindex
X-PUBLISHED-TTL:PT1H
BEGIN:VTIMEZONE
TZID:America/Indiana/Indianapolis
BEGIN:DAYLIGHT
TZOFFSETFROM:-0500
TZOFFSETTO:-0400
TZNAME:EDT
DTSTART:20210314T070000
END:DAYLIGHT
BEGIN:STANDARD
TZOFFSETFROM:-0400
TZOFFSETTO:-0500
TZNAME:EST
DTSTART:20211107T060000
END:STANDARD
BEGIN:DAYLIGHT
TZOFFSETFROM:-0500
TZOFFSETTO:-0400
TZNAME:EDT
DTSTART:20220313T070000
END:DAYLIGHT
BEGIN:STANDARD
TZOFFSETFROM:-0400
TZOFFSETTO:-0500
TZNAME:EST
DTSTART:20221106T060000
END:STANDARD
BEGIN:DAYLIGHT
TZOFFSETFROM:-0500
TZOFFSETTO:-0400
TZNAME:EDT
DTSTART:20230312T070000
END:DAYLIGHT
BEGIN:STANDARD
TZOFFSETFROM:-0400
TZOFFSETTO:-0500
TZNAME:EST
DTSTART:20231105T060000
END:STANDARD
END:VTIMEZONE
BEGIN:VEVENT
DTSTART;TZID=America/Indiana/Indianapolis:20220302T180000
DTEND;TZID=America/Indiana/Indianapolis:20220302T233000
DTSTAMP:20260422T221621
CREATED:20211026T150011Z
LAST-MODIFIED:20220212T012619Z
UID:20140-1646244000-1646263800@mokbpresents.com
SUMMARY:The Way Down Wanderers
DESCRIPTION:
URL:https://mokbpresents.com/event/the-way-down-wanderers/
LOCATION:LO-FI Lounge\, 1043 Virginia Ave #215\, Indianapolis\, IN\, 46203\, United States
END:VEVENT
BEGIN:VEVENT
DTSTART;TZID=America/Indiana/Indianapolis:20220303T203000
DTEND;TZID=America/Indiana/Indianapolis:20220303T233000
DTSTAMP:20260422T221621
CREATED:20211019T160030Z
LAST-MODIFIED:20220303T205233Z
UID:20106-1646339400-1646350200@mokbpresents.com
SUMMARY:SOLD OUT: Wilderado
DESCRIPTION:
URL:https://mokbpresents.com/event/wilderado/
LOCATION:HI-FI\, 1043 Virginia Ave #4\, Indianapolis\, IN\, 46203\, United States
GEO:39.7525463;-86.1407527
X-APPLE-STRUCTURED-LOCATION;VALUE=URI;X-ADDRESS=HI-FI 1043 Virginia Ave #4 Indianapolis IN 46203 United States;X-APPLE-RADIUS=500;X-TITLE=1043 Virginia Ave #4:geo:-86.1407527,39.7525463
END:VEVENT
BEGIN:VEVENT
DTSTART;TZID=America/Indiana/Indianapolis:20220304T190000
DTEND;TZID=America/Indiana/Indianapolis:20220304T230000
DTSTAMP:20260422T221621
CREATED:20211203T150034Z
LAST-MODIFIED:20220304T194415Z
UID:20621-1646420400-1646434800@mokbpresents.com
SUMMARY:FREE FIRST FRIDAY: Whitehall
DESCRIPTION:
URL:https://mokbpresents.com/event/free-first-friday-the-criticals/
LOCATION:LO-FI Lounge\, 1043 Virginia Ave #215\, Indianapolis\, IN\, 46203\, United States
END:VEVENT
BEGIN:VEVENT
DTSTART;TZID=America/Indiana/Indianapolis:20220304T200000
DTEND;TZID=America/Indiana/Indianapolis:20220304T230000
DTSTAMP:20260422T221621
CREATED:20210622T160050Z
LAST-MODIFIED:20211231T221635Z
UID:18331-1646424000-1646434800@mokbpresents.com
SUMMARY:SOLD OUT: Briston Maroney
DESCRIPTION:
URL:https://mokbpresents.com/event/briston-maroney/
LOCATION:HI-FI\, 1043 Virginia Ave #4\, Indianapolis\, IN\, 46203\, United States
GEO:39.7525463;-86.1407527
X-APPLE-STRUCTURED-LOCATION;VALUE=URI;X-ADDRESS=HI-FI 1043 Virginia Ave #4 Indianapolis IN 46203 United States;X-APPLE-RADIUS=500;X-TITLE=1043 Virginia Ave #4:geo:-86.1407527,39.7525463
END:VEVENT
BEGIN:VEVENT
DTSTART;TZID=America/Indiana/Indianapolis:20220305T190000
DTEND;TZID=America/Indiana/Indianapolis:20220305T213000
DTSTAMP:20260422T221621
CREATED:20220104T170022Z
LAST-MODIFIED:20220223T034234Z
UID:21017-1646506800-1646515800@mokbpresents.com
SUMMARY:Cycles
DESCRIPTION:
URL:https://mokbpresents.com/event/cycles/
LOCATION:LO-FI Lounge\, 1043 Virginia Ave #215\, Indianapolis\, IN\, 46203\, United States
END:VEVENT
BEGIN:VEVENT
DTSTART;TZID=America/Indiana/Indianapolis:20220305T200000
DTEND;TZID=America/Indiana/Indianapolis:20220305T233000
DTSTAMP:20260422T221621
CREATED:20211206T170059Z
LAST-MODIFIED:20211206T200407Z
UID:19068-1646510400-1646523000@mokbpresents.com
SUMMARY:John Paul White
DESCRIPTION:
URL:https://mokbpresents.com/event/john-paul-white/
LOCATION:The Basile Theatre\, 401 E Michigan St\, Indianapolis\, IN\, 46204\, United States
END:VEVENT
BEGIN:VEVENT
DTSTART;TZID=America/Indiana/Indianapolis:20220305T210000
DTEND;TZID=America/Indiana/Indianapolis:20220305T230000
DTSTAMP:20260422T221621
CREATED:20211117T150057Z
LAST-MODIFIED:20220228T231008Z
UID:20445-1646514000-1646521200@mokbpresents.com
SUMMARY:Molly Tuttle & The Golden Highway
DESCRIPTION:
URL:https://mokbpresents.com/event/molly-tuttle/
LOCATION:HI-FI\, 1043 Virginia Ave #4\, Indianapolis\, IN\, 46203\, United States
GEO:39.7525463;-86.1407527
X-APPLE-STRUCTURED-LOCATION;VALUE=URI;X-ADDRESS=HI-FI 1043 Virginia Ave #4 Indianapolis IN 46203 United States;X-APPLE-RADIUS=500;X-TITLE=1043 Virginia Ave #4:geo:-86.1407527,39.7525463
END:VEVENT
BEGIN:VEVENT
DTSTART;TZID=America/Indiana/Indianapolis:20220308T200000
DTEND;TZID=America/Indiana/Indianapolis:20220308T230000
DTSTAMP:20260422T221621
CREATED:20220105T150039Z
LAST-MODIFIED:20220222T021107Z
UID:21022-1646769600-1646780400@mokbpresents.com
SUMMARY:Gangstagrass
DESCRIPTION:
URL:https://mokbpresents.com/event/gangstagrass/
LOCATION:HI-FI\, 1043 Virginia Ave #4\, Indianapolis\, IN\, 46203\, United States
GEO:39.7525463;-86.1407527
X-APPLE-STRUCTURED-LOCATION;VALUE=URI;X-ADDRESS=HI-FI 1043 Virginia Ave #4 Indianapolis IN 46203 United States;X-APPLE-RADIUS=500;X-TITLE=1043 Virginia Ave #4:geo:-86.1407527,39.7525463
END:VEVENT
BEGIN:VEVENT
DTSTART;TZID=America/Indiana/Indianapolis:20220309T200000
DTEND;TZID=America/Indiana/Indianapolis:20220309T233000
DTSTAMP:20260422T221621
CREATED:20211220T145029Z
LAST-MODIFIED:20211220T163422Z
UID:20956-1646856000-1646868600@mokbpresents.com
SUMMARY:Mipso
DESCRIPTION:
URL:https://mokbpresents.com/event/mipso/
LOCATION:HI-FI\, 1043 Virginia Ave #4\, Indianapolis\, IN\, 46203\, United States
GEO:39.7525463;-86.1407527
X-APPLE-STRUCTURED-LOCATION;VALUE=URI;X-ADDRESS=HI-FI 1043 Virginia Ave #4 Indianapolis IN 46203 United States;X-APPLE-RADIUS=500;X-TITLE=1043 Virginia Ave #4:geo:-86.1407527,39.7525463
END:VEVENT
BEGIN:VEVENT
DTSTART;TZID=America/Indiana/Indianapolis:20220309T210000
DTEND;TZID=America/Indiana/Indianapolis:20220309T233000
DTSTAMP:20260422T221621
CREATED:20220112T160005Z
LAST-MODIFIED:20220223T173602Z
UID:21007-1646859600-1646868600@mokbpresents.com
SUMMARY:All Them Witches
DESCRIPTION:
URL:https://mokbpresents.com/event/all-them-witches/
LOCATION:The Vogue\, 6259 N. College Ave\, Indianapolis\, IN\, 46220\, United States
END:VEVENT
BEGIN:VEVENT
DTSTART;TZID=America/Indiana/Indianapolis:20220310T190000
DTEND;TZID=America/Indiana/Indianapolis:20220310T210000
DTSTAMP:20260422T221621
CREATED:20220222T170050Z
LAST-MODIFIED:20220305T164257Z
UID:21827-1646938800-1646946000@mokbpresents.com
SUMMARY:Naked Gypsy Queens
DESCRIPTION:
URL:https://mokbpresents.com/event/naked-gypsy-queens/
LOCATION:LO-FI Lounge\, 1043 Virginia Ave #215\, Indianapolis\, IN\, 46203\, United States
END:VEVENT
BEGIN:VEVENT
DTSTART;TZID=America/Indiana/Indianapolis:20220310T200000
DTEND;TZID=America/Indiana/Indianapolis:20220310T230000
DTSTAMP:20260422T221621
CREATED:20211206T150429Z
LAST-MODIFIED:20220215T213346Z
UID:20629-1646942400-1646953200@mokbpresents.com
SUMMARY:Tow'rs
DESCRIPTION:
URL:https://mokbpresents.com/event/towrs/
LOCATION:HI-FI\, 1043 Virginia Ave #4\, Indianapolis\, IN\, 46203\, United States
GEO:39.7525463;-86.1407527
X-APPLE-STRUCTURED-LOCATION;VALUE=URI;X-ADDRESS=HI-FI 1043 Virginia Ave #4 Indianapolis IN 46203 United States;X-APPLE-RADIUS=500;X-TITLE=1043 Virginia Ave #4:geo:-86.1407527,39.7525463
END:VEVENT
BEGIN:VEVENT
DTSTART;TZID=America/Indiana/Indianapolis:20220311T180000
DTEND;TZID=America/Indiana/Indianapolis:20220311T210000
DTSTAMP:20260422T221621
CREATED:20220118T150026Z
LAST-MODIFIED:20220223T040105Z
UID:21168-1647021600-1647032400@mokbpresents.com
SUMMARY:Dogs In A Pile
DESCRIPTION:
URL:https://mokbpresents.com/event/dogs-in-a-pile/
LOCATION:LO-FI Lounge\, 1043 Virginia Ave #215\, Indianapolis\, IN\, 46203\, United States
END:VEVENT
BEGIN:VEVENT
DTSTART;TZID=America/Indiana/Indianapolis:20220311T200000
DTEND;TZID=America/Indiana/Indianapolis:20220311T230000
DTSTAMP:20260422T221621
CREATED:20220124T150023Z
LAST-MODIFIED:20220310T212706Z
UID:21227-1647028800-1647039600@mokbpresents.com
SUMMARY:Heather Land
DESCRIPTION:
URL:https://mokbpresents.com/event/heather-land/
LOCATION:The Basile Theatre\, 401 E Michigan St\, Indianapolis\, IN\, 46204\, United States
END:VEVENT
BEGIN:VEVENT
DTSTART;TZID=America/Indiana/Indianapolis:20220311T200000
DTEND;TZID=America/Indiana/Indianapolis:20220311T233000
DTSTAMP:20260422T221621
CREATED:20220112T150739Z
LAST-MODIFIED:20220307T142036Z
UID:21123-1647028800-1647041400@mokbpresents.com
SUMMARY:FREE: Joslyn & The Sweet Compression
DESCRIPTION:
URL:https://mokbpresents.com/event/joslyn-the-sweet-compression/
LOCATION:HI-FI\, 1043 Virginia Ave #4\, Indianapolis\, IN\, 46203\, United States
GEO:39.7525463;-86.1407527
X-APPLE-STRUCTURED-LOCATION;VALUE=URI;X-ADDRESS=HI-FI 1043 Virginia Ave #4 Indianapolis IN 46203 United States;X-APPLE-RADIUS=500;X-TITLE=1043 Virginia Ave #4:geo:-86.1407527,39.7525463
END:VEVENT
BEGIN:VEVENT
DTSTART;TZID=America/Indiana/Indianapolis:20220312T210000
DTEND;TZID=America/Indiana/Indianapolis:20220312T233000
DTSTAMP:20260422T221621
CREATED:20220112T150046Z
LAST-MODIFIED:20220217T221038Z
UID:21119-1647118800-1647127800@mokbpresents.com
SUMMARY:Huckleberry Funk
DESCRIPTION:
URL:https://mokbpresents.com/event/huckleberry-funk-3/
LOCATION:HI-FI\, 1043 Virginia Ave #4\, Indianapolis\, IN\, 46203\, United States
GEO:39.7525463;-86.1407527
X-APPLE-STRUCTURED-LOCATION;VALUE=URI;X-ADDRESS=HI-FI 1043 Virginia Ave #4 Indianapolis IN 46203 United States;X-APPLE-RADIUS=500;X-TITLE=1043 Virginia Ave #4:geo:-86.1407527,39.7525463
END:VEVENT
BEGIN:VEVENT
DTSTART;TZID=America/Indiana/Indianapolis:20220316T190000
DTEND;TZID=America/Indiana/Indianapolis:20220316T233000
DTSTAMP:20260422T221621
CREATED:20211110T165927Z
LAST-MODIFIED:20220302T182519Z
UID:20351-1647457200-1647473400@mokbpresents.com
SUMMARY:Tall Heights
DESCRIPTION:
URL:https://mokbpresents.com/event/tall-heights/
LOCATION:HI-FI\, 1043 Virginia Ave #4\, Indianapolis\, IN\, 46203\, United States
CATEGORIES:Promo: Yams & Jams
GEO:39.7525463;-86.1407527
X-APPLE-STRUCTURED-LOCATION;VALUE=URI;X-ADDRESS=HI-FI 1043 Virginia Ave #4 Indianapolis IN 46203 United States;X-APPLE-RADIUS=500;X-TITLE=1043 Virginia Ave #4:geo:-86.1407527,39.7525463
END:VEVENT
BEGIN:VEVENT
DTSTART;TZID=America/Indiana/Indianapolis:20220316T200000
DTEND;TZID=America/Indiana/Indianapolis:20220316T233000
DTSTAMP:20260422T221621
CREATED:20211006T140254Z
LAST-MODIFIED:20220221T213756Z
UID:20006-1647460800-1647473400@mokbpresents.com
SUMMARY:Lost Dog Street Band
DESCRIPTION:
URL:https://mokbpresents.com/event/lost-dog-street-band-2/
LOCATION:The Vogue\, 6259 N. College Ave\, Indianapolis\, IN\, 46220\, United States
END:VEVENT
BEGIN:VEVENT
DTSTART;TZID=America/Indiana/Indianapolis:20220317T190000
DTEND;TZID=America/Indiana/Indianapolis:20220317T210000
DTSTAMP:20260422T221621
CREATED:20220217T151749Z
LAST-MODIFIED:20220227T041718Z
UID:21742-1647543600-1647550800@mokbpresents.com
SUMMARY:Oshima Brothers
DESCRIPTION:
URL:https://mokbpresents.com/event/oshima-brothers/
LOCATION:LO-FI Lounge\, 1043 Virginia Ave #215\, Indianapolis\, IN\, 46203\, United States
ATTACH;FMTTYPE=image/jpeg:https://cdn.kicksdigital.com/mokbpresents.com/2022/02/OBGoldenPhoto-scaled.jpeg
END:VEVENT
BEGIN:VEVENT
DTSTART;TZID=America/Indiana/Indianapolis:20220317T190000
DTEND;TZID=America/Indiana/Indianapolis:20220317T233000
DTSTAMP:20260422T221621
CREATED:20220118T150005Z
LAST-MODIFIED:20220307T024419Z
UID:21175-1647543600-1647559800@mokbpresents.com
SUMMARY:Kody West & Austin Meade
DESCRIPTION:
URL:https://mokbpresents.com/event/kody-west-austin-meade/
LOCATION:HI-FI\, 1043 Virginia Ave #4\, Indianapolis\, IN\, 46203\, United States
GEO:39.7525463;-86.1407527
X-APPLE-STRUCTURED-LOCATION;VALUE=URI;X-ADDRESS=HI-FI 1043 Virginia Ave #4 Indianapolis IN 46203 United States;X-APPLE-RADIUS=500;X-TITLE=1043 Virginia Ave #4:geo:-86.1407527,39.7525463
END:VEVENT
BEGIN:VEVENT
DTSTART;TZID=America/Indiana/Indianapolis:20220318T200000
DTEND;TZID=America/Indiana/Indianapolis:20220318T233000
DTSTAMP:20260422T221621
CREATED:20220217T152123Z
LAST-MODIFIED:20220226T233908Z
UID:21746-1647633600-1647646200@mokbpresents.com
SUMMARY:American Bombshell
DESCRIPTION:
URL:https://mokbpresents.com/event/american-bombshell/
LOCATION:HI-FI\, 1043 Virginia Ave #4\, Indianapolis\, IN\, 46203\, United States
ATTACH;FMTTYPE=image/jpeg:https://cdn.kicksdigital.com/mokbpresents.com/2022/02/American-Bombshell-e1645918738329.jpg
GEO:39.7525463;-86.1407527
X-APPLE-STRUCTURED-LOCATION;VALUE=URI;X-ADDRESS=HI-FI 1043 Virginia Ave #4 Indianapolis IN 46203 United States;X-APPLE-RADIUS=500;X-TITLE=1043 Virginia Ave #4:geo:-86.1407527,39.7525463
END:VEVENT
BEGIN:VEVENT
DTSTART;TZID=America/Indiana/Indianapolis:20220319T200000
DTEND;TZID=America/Indiana/Indianapolis:20220319T233000
DTSTAMP:20260422T221621
CREATED:20211007T164138Z
LAST-MODIFIED:20220118T155245Z
UID:20022-1647720000-1647732600@mokbpresents.com
SUMMARY:Sammy Rae & The Friends
DESCRIPTION:
URL:https://mokbpresents.com/event/sammy-rae-the-friends/
LOCATION:The Vogue\, 6259 N. College Ave\, Indianapolis\, IN\, 46220\, United States
END:VEVENT
BEGIN:VEVENT
DTSTART;TZID=America/Indiana/Indianapolis:20220319T210000
DTEND;TZID=America/Indiana/Indianapolis:20220319T233000
DTSTAMP:20260422T221621
CREATED:20220218T144404Z
LAST-MODIFIED:20220223T173803Z
UID:21780-1647723600-1647732600@mokbpresents.com
SUMMARY:Southern Accents - The Ultimate Tom Petty Experience
DESCRIPTION:
URL:https://mokbpresents.com/event/southern-accents-the-ultimate-tom-petty-experience/
LOCATION:HI-FI\, 1043 Virginia Ave #4\, Indianapolis\, IN\, 46203\, United States
GEO:39.7525463;-86.1407527
X-APPLE-STRUCTURED-LOCATION;VALUE=URI;X-ADDRESS=HI-FI 1043 Virginia Ave #4 Indianapolis IN 46203 United States;X-APPLE-RADIUS=500;X-TITLE=1043 Virginia Ave #4:geo:-86.1407527,39.7525463
END:VEVENT
BEGIN:VEVENT
DTSTART;TZID=America/Indiana/Indianapolis:20220320T190000
DTEND;TZID=America/Indiana/Indianapolis:20220320T230000
DTSTAMP:20260422T221621
CREATED:20220126T180031Z
LAST-MODIFIED:20220208T210930Z
UID:21307-1647802800-1647817200@mokbpresents.com
SUMMARY:Struggle Jennings
DESCRIPTION:
URL:https://mokbpresents.com/event/struggle-jennings/
LOCATION:The Vogue\, 6259 N. College Ave\, Indianapolis\, IN\, 46220\, United States
ATTACH;FMTTYPE=image/jpeg:https://cdn.kicksdigital.com/mokbpresents.com/2022/01/Struggle-Jennings.jpeg
END:VEVENT
BEGIN:VEVENT
DTSTART;TZID=America/Indiana/Indianapolis:20220320T200000
DTEND;TZID=America/Indiana/Indianapolis:20220320T220000
DTSTAMP:20260422T221621
CREATED:20211207T143909Z
LAST-MODIFIED:20220217T175439Z
UID:20653-1647806400-1647813600@mokbpresents.com
SUMMARY:Schaffer The Darklord
DESCRIPTION:
URL:https://mokbpresents.com/event/schaffer-the-darklord/
LOCATION:LO-FI Lounge\, 1043 Virginia Ave #215\, Indianapolis\, IN\, 46203\, United States
ATTACH;FMTTYPE=image/jpeg:https://cdn.kicksdigital.com/mokbpresents.com/2021/12/Schaffer-The-Darklord-Press-Photo-scaled-e1638887932592.jpg
END:VEVENT
BEGIN:VEVENT
DTSTART;TZID=America/Indiana/Indianapolis:20220320T200000
DTEND;TZID=America/Indiana/Indianapolis:20220320T233000
DTSTAMP:20260422T221621
CREATED:20220208T150037Z
LAST-MODIFIED:20220314T170048Z
UID:21495-1647806400-1647819000@mokbpresents.com
SUMMARY:The Rival Sons
DESCRIPTION:
URL:https://mokbpresents.com/event/the-rival-sons/
LOCATION:HI-FI\, 1043 Virginia Ave #4\, Indianapolis\, IN\, 46203\, United States
GEO:39.7525463;-86.1407527
X-APPLE-STRUCTURED-LOCATION;VALUE=URI;X-ADDRESS=HI-FI 1043 Virginia Ave #4 Indianapolis IN 46203 United States;X-APPLE-RADIUS=500;X-TITLE=1043 Virginia Ave #4:geo:-86.1407527,39.7525463
END:VEVENT
BEGIN:VEVENT
DTSTART;TZID=America/Indiana/Indianapolis:20220322T210000
DTEND;TZID=America/Indiana/Indianapolis:20220322T233000
DTSTAMP:20260422T221621
CREATED:20211116T170057Z
LAST-MODIFIED:20220224T201934Z
UID:20430-1647982800-1647991800@mokbpresents.com
SUMMARY:Del Water Gap
DESCRIPTION:
URL:https://mokbpresents.com/event/del-water-gap/
LOCATION:HI-FI\, 1043 Virginia Ave #4\, Indianapolis\, IN\, 46203\, United States
GEO:39.7525463;-86.1407527
X-APPLE-STRUCTURED-LOCATION;VALUE=URI;X-ADDRESS=HI-FI 1043 Virginia Ave #4 Indianapolis IN 46203 United States;X-APPLE-RADIUS=500;X-TITLE=1043 Virginia Ave #4:geo:-86.1407527,39.7525463
END:VEVENT
BEGIN:VEVENT
DTSTART;TZID=America/Indiana/Indianapolis:20220323T190000
DTEND;TZID=America/Indiana/Indianapolis:20220323T233000
DTSTAMP:20260422T221621
CREATED:20210602T160449Z
LAST-MODIFIED:20220224T194941Z
UID:17809-1648062000-1648078200@mokbpresents.com
SUMMARY:Sports - Get A Good Look World Tour
DESCRIPTION:
URL:https://mokbpresents.com/event/sports-get-a-good-look-world-tour/
LOCATION:HI-FI\, 1043 Virginia Ave #4\, Indianapolis\, IN\, 46203\, United States
ATTACH;FMTTYPE=image/jpeg:https://cdn.kicksdigital.com/mokbpresents.com/2021/06/SportsWorldTour_ApprovedPress_2-scaled.jpeg
GEO:39.7525463;-86.1407527
X-APPLE-STRUCTURED-LOCATION;VALUE=URI;X-ADDRESS=HI-FI 1043 Virginia Ave #4 Indianapolis IN 46203 United States;X-APPLE-RADIUS=500;X-TITLE=1043 Virginia Ave #4:geo:-86.1407527,39.7525463
END:VEVENT
BEGIN:VEVENT
DTSTART;TZID=America/Indiana/Indianapolis:20220324T200000
DTEND;TZID=America/Indiana/Indianapolis:20220324T233000
DTSTAMP:20260422T221621
CREATED:20220114T150014Z
LAST-MODIFIED:20220217T182213Z
UID:21140-1648152000-1648164600@mokbpresents.com
SUMMARY:Ian Noe
DESCRIPTION:
URL:https://mokbpresents.com/event/ian-noe/
LOCATION:HI-FI\, 1043 Virginia Ave #4\, Indianapolis\, IN\, 46203\, United States
GEO:39.7525463;-86.1407527
X-APPLE-STRUCTURED-LOCATION;VALUE=URI;X-ADDRESS=HI-FI 1043 Virginia Ave #4 Indianapolis IN 46203 United States;X-APPLE-RADIUS=500;X-TITLE=1043 Virginia Ave #4:geo:-86.1407527,39.7525463
END:VEVENT
BEGIN:VEVENT
DTSTART;TZID=America/Indiana/Indianapolis:20220325T190000
DTEND;TZID=America/Indiana/Indianapolis:20220325T223000
DTSTAMP:20260422T221621
CREATED:20220112T150024Z
LAST-MODIFIED:20220311T172904Z
UID:21112-1648234800-1648247400@mokbpresents.com
SUMMARY:Karina Rykman
DESCRIPTION:
URL:https://mokbpresents.com/event/karina-rykman/
LOCATION:LO-FI Lounge\, 1043 Virginia Ave #215\, Indianapolis\, IN\, 46203\, United States
END:VEVENT
END:VCALENDAR