BEGIN:VCALENDAR
VERSION:2.0
PRODID:-//MOKB Presents - ECPv6.15.16.1//NONSGML v1.0//EN
CALSCALE:GREGORIAN
METHOD:PUBLISH
X-ORIGINAL-URL:https://mokbpresents.com
X-WR-CALDESC:Events for MOKB Presents
REFRESH-INTERVAL;VALUE=DURATION:PT1H
X-Robots-Tag:noindex
X-PUBLISHED-TTL:PT1H
BEGIN:VTIMEZONE
TZID:America/Indiana/Indianapolis
BEGIN:DAYLIGHT
TZOFFSETFROM:-0500
TZOFFSETTO:-0400
TZNAME:EDT
DTSTART:20210314T070000
END:DAYLIGHT
BEGIN:STANDARD
TZOFFSETFROM:-0400
TZOFFSETTO:-0500
TZNAME:EST
DTSTART:20211107T060000
END:STANDARD
BEGIN:DAYLIGHT
TZOFFSETFROM:-0500
TZOFFSETTO:-0400
TZNAME:EDT
DTSTART:20220313T070000
END:DAYLIGHT
BEGIN:STANDARD
TZOFFSETFROM:-0400
TZOFFSETTO:-0500
TZNAME:EST
DTSTART:20221106T060000
END:STANDARD
BEGIN:DAYLIGHT
TZOFFSETFROM:-0500
TZOFFSETTO:-0400
TZNAME:EDT
DTSTART:20230312T070000
END:DAYLIGHT
BEGIN:STANDARD
TZOFFSETFROM:-0400
TZOFFSETTO:-0500
TZNAME:EST
DTSTART:20231105T060000
END:STANDARD
END:VTIMEZONE
BEGIN:VEVENT
DTSTART;TZID=America/Indiana/Indianapolis:20220802T183000
DTEND;TZID=America/Indiana/Indianapolis:20220802T220000
DTSTAMP:20260422T145411
CREATED:20220518T140007Z
LAST-MODIFIED:20220802T202246Z
UID:23555-1659465000-1659477600@mokbpresents.com
SUMMARY:Ballyhoo! & Shwayze
DESCRIPTION:I
URL:https://mokbpresents.com/event/ballyhoo-shwayze/
LOCATION:HI-FI Annex\, 1065 St. Patrick St\, Indianapolis\, IN\, 46203\, United States
CATEGORIES:Promo: July 4 Ticket Explosion 2022
END:VEVENT
BEGIN:VEVENT
DTSTART;TZID=America/Indiana/Indianapolis:20220804T180000
DTEND;TZID=America/Indiana/Indianapolis:20220804T220000
DTSTAMP:20260422T145411
CREATED:20220715T151639Z
LAST-MODIFIED:20220802T202431Z
UID:24626-1659636000-1659650400@mokbpresents.com
SUMMARY:By Indy\, For Indy Concert w/ Huckleberry Funk
DESCRIPTION:
URL:https://mokbpresents.com/event/by-indy-for-indy-concert-w-huckleberry-funk/
LOCATION:HI-FI Annex\, 1065 St. Patrick St\, Indianapolis\, IN\, 46203\, United States
END:VEVENT
BEGIN:VEVENT
DTSTART;TZID=America/Indiana/Indianapolis:20220804T200000
DTEND;TZID=America/Indiana/Indianapolis:20220804T233000
DTSTAMP:20260422T145411
CREATED:20220520T150201Z
LAST-MODIFIED:20220520T150201Z
UID:23616-1659643200-1659655800@mokbpresents.com
SUMMARY:Glass Cannon Live! Evening Show #1
DESCRIPTION:
URL:https://mokbpresents.com/event/glass-cannon-live-evening-show-1/
LOCATION:Helium Comedy Club\, 10 W. Georgia St.\, Indianapolis\, IN\, 46225\, United States
END:VEVENT
BEGIN:VEVENT
DTSTART;TZID=America/Indiana/Indianapolis:20220804T210000
DTEND;TZID=America/Indiana/Indianapolis:20220804T233000
DTSTAMP:20260422T145411
CREATED:20220322T160043Z
LAST-MODIFIED:20220718T142306Z
UID:22430-1659646800-1659655800@mokbpresents.com
SUMMARY:Holy Fuck
DESCRIPTION:
URL:https://mokbpresents.com/event/holy-fuck/
LOCATION:HI-FI\, 1043 Virginia Ave #4\, Indianapolis\, IN\, 46203\, United States
GEO:39.7525463;-86.1407527
X-APPLE-STRUCTURED-LOCATION;VALUE=URI;X-ADDRESS=HI-FI 1043 Virginia Ave #4 Indianapolis IN 46203 United States;X-APPLE-RADIUS=500;X-TITLE=1043 Virginia Ave #4:geo:-86.1407527,39.7525463
END:VEVENT
BEGIN:VEVENT
DTSTART;TZID=America/Indiana/Indianapolis:20220805T200000
DTEND;TZID=America/Indiana/Indianapolis:20220805T230000
DTSTAMP:20260422T145411
CREATED:20220314T140032Z
LAST-MODIFIED:20220623T180950Z
UID:22213-1659729600-1659740400@mokbpresents.com
SUMMARY:Waxahatchee
DESCRIPTION:
URL:https://mokbpresents.com/event/waxahatchee/
LOCATION:Nickel Plate Amphitheater\, 6 Municipal Dr\, Fishers\, IN\, 46038\, United States
CATEGORIES:Promo: July 4 Ticket Explosion 2022
END:VEVENT
BEGIN:VEVENT
DTSTART;TZID=America/Indiana/Indianapolis:20220805T200000
DTEND;TZID=America/Indiana/Indianapolis:20220805T235900
DTSTAMP:20260422T145411
CREATED:20211118T150505Z
LAST-MODIFIED:20220615T142454Z
UID:20456-1659729600-1659743940@mokbpresents.com
SUMMARY:FREE FIRST FRIDAY: Goldpark
DESCRIPTION:
URL:https://mokbpresents.com/event/free-first-friday-goldpark/
LOCATION:HI-FI\, 1043 Virginia Ave #4\, Indianapolis\, IN\, 46203\, United States
GEO:39.7525463;-86.1407527
X-APPLE-STRUCTURED-LOCATION;VALUE=URI;X-ADDRESS=HI-FI 1043 Virginia Ave #4 Indianapolis IN 46203 United States;X-APPLE-RADIUS=500;X-TITLE=1043 Virginia Ave #4:geo:-86.1407527,39.7525463
END:VEVENT
BEGIN:VEVENT
DTSTART;TZID=America/Indiana/Indianapolis:20220806T140000
DTEND;TZID=America/Indiana/Indianapolis:20220806T180000
DTSTAMP:20260422T145411
CREATED:20220520T150132Z
LAST-MODIFIED:20220520T150132Z
UID:23620-1659794400-1659808800@mokbpresents.com
SUMMARY:Glass Cannon Live! Matinee Show #2
DESCRIPTION:
URL:https://mokbpresents.com/event/glass-cannon-live-matinee-show-2/
LOCATION:Helium Comedy Club\, 10 W. Georgia St.\, Indianapolis\, IN\, 46225\, United States
END:VEVENT
BEGIN:VEVENT
DTSTART;TZID=America/Indiana/Indianapolis:20220806T183000
DTEND;TZID=America/Indiana/Indianapolis:20220806T220000
DTSTAMP:20260422T145411
CREATED:20220613T155908Z
LAST-MODIFIED:20220613T155908Z
UID:23934-1659810600-1659823200@mokbpresents.com
SUMMARY:Hot Mulligan
DESCRIPTION:
URL:https://mokbpresents.com/event/hot-mulligan/
LOCATION:HI-FI Annex\, 1065 St. Patrick St\, Indianapolis\, IN\, 46203\, United States
END:VEVENT
BEGIN:VEVENT
DTSTART;TZID=America/Indiana/Indianapolis:20220807T180000
DTEND;TZID=America/Indiana/Indianapolis:20220807T220000
DTSTAMP:20260422T145411
CREATED:20220516T150002Z
LAST-MODIFIED:20220623T181002Z
UID:23523-1659895200-1659909600@mokbpresents.com
SUMMARY:Kidd G
DESCRIPTION:
URL:https://mokbpresents.com/event/kidd-g/
LOCATION:HI-FI Annex\, 1065 St. Patrick St\, Indianapolis\, IN\, 46203\, United States
CATEGORIES:Promo: July 4 Ticket Explosion 2022
END:VEVENT
BEGIN:VEVENT
DTSTART;TZID=America/Indiana/Indianapolis:20220807T200000
DTEND;TZID=America/Indiana/Indianapolis:20220807T235900
DTSTAMP:20260422T145411
CREATED:20220608T160041Z
LAST-MODIFIED:20220608T153506Z
UID:23898-1659902400-1659916740@mokbpresents.com
SUMMARY:Hotel Mira
DESCRIPTION:
URL:https://mokbpresents.com/event/hotel-mira/
LOCATION:HI-FI\, 1043 Virginia Ave #4\, Indianapolis\, IN\, 46203\, United States
GEO:39.7525463;-86.1407527
X-APPLE-STRUCTURED-LOCATION;VALUE=URI;X-ADDRESS=HI-FI 1043 Virginia Ave #4 Indianapolis IN 46203 United States;X-APPLE-RADIUS=500;X-TITLE=1043 Virginia Ave #4:geo:-86.1407527,39.7525463
END:VEVENT
BEGIN:VEVENT
DTSTART;TZID=America/Indiana/Indianapolis:20220811T193000
DTEND;TZID=America/Indiana/Indianapolis:20220811T220000
DTSTAMP:20260422T145411
CREATED:20220321T140057Z
LAST-MODIFIED:20220810T212310Z
UID:22165-1660246200-1660255200@mokbpresents.com
SUMMARY:The Breeders
DESCRIPTION:
URL:https://mokbpresents.com/event/the-breeders/
LOCATION:HI-FI Annex\, 1065 St. Patrick St\, Indianapolis\, IN\, 46203\, United States
CATEGORIES:Indie Rock
END:VEVENT
BEGIN:VEVENT
DTSTART;TZID=America/Indiana/Indianapolis:20220812T180000
DTEND;TZID=America/Indiana/Indianapolis:20220812T230000
DTSTAMP:20260422T145411
CREATED:20220425T140058Z
LAST-MODIFIED:20220701T004903Z
UID:22983-1660327200-1660345200@mokbpresents.com
SUMMARY:Red Wanting Blue - “Thumbs To The Road” Summer ‘22 Tour
DESCRIPTION:
URL:https://mokbpresents.com/event/red-wanting-blue-thumbs-to-the-road-summer-22-tour/
LOCATION:HI-FI Annex\, 1065 St. Patrick St\, Indianapolis\, IN\, 46203\, United States
CATEGORIES:Promo: July 4 Ticket Explosion 2022
END:VEVENT
BEGIN:VEVENT
DTSTART;TZID=America/Indiana/Indianapolis:20220812T210000
DTEND;TZID=America/Indiana/Indianapolis:20220812T235900
DTSTAMP:20260422T145411
CREATED:20220615T152419Z
LAST-MODIFIED:20220805T171605Z
UID:23996-1660338000-1660348740@mokbpresents.com
SUMMARY:Goodbye June
DESCRIPTION:
URL:https://mokbpresents.com/event/goodbye-june/
LOCATION:HI-FI\, 1043 Virginia Ave #4\, Indianapolis\, IN\, 46203\, United States
GEO:39.7525463;-86.1407527
X-APPLE-STRUCTURED-LOCATION;VALUE=URI;X-ADDRESS=HI-FI 1043 Virginia Ave #4 Indianapolis IN 46203 United States;X-APPLE-RADIUS=500;X-TITLE=1043 Virginia Ave #4:geo:-86.1407527,39.7525463
END:VEVENT
BEGIN:VEVENT
DTSTART;TZID=America/Indiana/Indianapolis:20220813T173000
DTEND;TZID=America/Indiana/Indianapolis:20220813T220000
DTSTAMP:20260422T145411
CREATED:20220608T140044Z
LAST-MODIFIED:20220608T135512Z
UID:23878-1660411800-1660428000@mokbpresents.com
SUMMARY:Rock The Catbox w/ American Bombshell
DESCRIPTION:
URL:https://mokbpresents.com/event/rock-the-catbox-w-american-bombshell/
LOCATION:HI-FI Annex\, 1065 St. Patrick St\, Indianapolis\, IN\, 46203\, United States
END:VEVENT
BEGIN:VEVENT
DTSTART;TZID=America/Indiana/Indianapolis:20220813T200000
DTEND;TZID=America/Indiana/Indianapolis:20220813T235900
DTSTAMP:20260422T145411
CREATED:20220531T135135Z
LAST-MODIFIED:20220623T181023Z
UID:23745-1660420800-1660435140@mokbpresents.com
SUMMARY:Tyler Bryant & The Shakedown + GA-20
DESCRIPTION:
URL:https://mokbpresents.com/event/tyler-bryant-the-shakedown/
LOCATION:HI-FI\, 1043 Virginia Ave #4\, Indianapolis\, IN\, 46203\, United States
CATEGORIES:Promo: July 4 Ticket Explosion 2022
ATTACH;FMTTYPE=image/png:https://cdn.kicksdigital.com/mokbpresents.com/2022/05/TylerBryant-GA20.png
GEO:39.7525463;-86.1407527
X-APPLE-STRUCTURED-LOCATION;VALUE=URI;X-ADDRESS=HI-FI 1043 Virginia Ave #4 Indianapolis IN 46203 United States;X-APPLE-RADIUS=500;X-TITLE=1043 Virginia Ave #4:geo:-86.1407527,39.7525463
END:VEVENT
BEGIN:VEVENT
DTSTART;TZID=America/Indiana/Indianapolis:20220814T200000
DTEND;TZID=America/Indiana/Indianapolis:20220814T235900
DTSTAMP:20260422T145411
CREATED:20220615T150144Z
LAST-MODIFIED:20220810T212403Z
UID:23991-1660507200-1660521540@mokbpresents.com
SUMMARY:The Elovaters
DESCRIPTION:
URL:https://mokbpresents.com/event/the-elovaters/
LOCATION:HI-FI\, 1043 Virginia Ave #4\, Indianapolis\, IN\, 46203\, United States
CATEGORIES:Reggae/Ska
GEO:39.7525463;-86.1407527
X-APPLE-STRUCTURED-LOCATION;VALUE=URI;X-ADDRESS=HI-FI 1043 Virginia Ave #4 Indianapolis IN 46203 United States;X-APPLE-RADIUS=500;X-TITLE=1043 Virginia Ave #4:geo:-86.1407527,39.7525463
END:VEVENT
BEGIN:VEVENT
DTSTART;TZID=America/Indiana/Indianapolis:20220816T190000
DTEND;TZID=America/Indiana/Indianapolis:20220816T220000
DTSTAMP:20260422T145411
CREATED:20220427T140022Z
LAST-MODIFIED:20220812T202140Z
UID:23173-1660676400-1660687200@mokbpresents.com
SUMMARY:An Evening With Hiss Golden Messenger + Aoife O'Donovan
DESCRIPTION:
URL:https://mokbpresents.com/event/an-evening-with-hiss-golden-messenger-aoife-odonovan/
LOCATION:HI-FI Annex\, 1065 St. Patrick St\, Indianapolis\, IN\, 46203\, United States
CATEGORIES:Promo: July 4 Ticket Explosion 2022
ATTACH;FMTTYPE=image/png:https://cdn.kicksdigital.com/mokbpresents.com/2022/04/aoife-hiss-web.png
END:VEVENT
BEGIN:VEVENT
DTSTART;TZID=America/Indiana/Indianapolis:20220818T231500
DTEND;TZID=America/Indiana/Indianapolis:20220818T235900
DTSTAMP:20260422T145411
CREATED:20220614T163154Z
LAST-MODIFIED:20220817T163953Z
UID:23965-1660864500-1660867140@mokbpresents.com
SUMMARY:Bad Dagger After Show
DESCRIPTION:
URL:https://mokbpresents.com/event/bad-dagger-after-show/
LOCATION:HI-FI\, 1043 Virginia Ave #4\, Indianapolis\, IN\, 46203\, United States
GEO:39.7525463;-86.1407527
X-APPLE-STRUCTURED-LOCATION;VALUE=URI;X-ADDRESS=HI-FI 1043 Virginia Ave #4 Indianapolis IN 46203 United States;X-APPLE-RADIUS=500;X-TITLE=1043 Virginia Ave #4:geo:-86.1407527,39.7525463
END:VEVENT
BEGIN:VEVENT
DTSTART;TZID=America/Indiana/Indianapolis:20220819T190000
DTEND;TZID=America/Indiana/Indianapolis:20220819T220000
DTSTAMP:20260422T145411
CREATED:20220425T140022Z
LAST-MODIFIED:20220817T164153Z
UID:22978-1660935600-1660946400@mokbpresents.com
SUMMARY:Gov't Mule
DESCRIPTION:
URL:https://mokbpresents.com/event/govt-mule/
LOCATION:Nickel Plate Amphitheater\, 6 Municipal Dr\, Fishers\, IN\, 46038\, United States
CATEGORIES:Promo: July 4 Ticket Explosion 2022
END:VEVENT
BEGIN:VEVENT
DTSTART;TZID=America/Indiana/Indianapolis:20220819T190000
DTEND;TZID=America/Indiana/Indianapolis:20220819T220000
DTSTAMP:20260422T145411
CREATED:20220531T160053Z
LAST-MODIFIED:20220818T034904Z
UID:23761-1660935600-1660946400@mokbpresents.com
SUMMARY:Black Stone Cherry + Ayron Jones
DESCRIPTION:
URL:https://mokbpresents.com/event/black-stone-cherry-ayron-jones/
LOCATION:HI-FI Annex\, 1065 St. Patrick St\, Indianapolis\, IN\, 46203\, United States
CATEGORIES:Promo: July 4 Ticket Explosion 2022
END:VEVENT
BEGIN:VEVENT
DTSTART;TZID=America/Indiana/Indianapolis:20220819T210000
DTEND;TZID=America/Indiana/Indianapolis:20220819T233000
DTSTAMP:20260422T145411
CREATED:20220503T160111Z
LAST-MODIFIED:20220812T195723Z
UID:23322-1660942800-1660951800@mokbpresents.com
SUMMARY:The Beths
DESCRIPTION:
URL:https://mokbpresents.com/event/the-beths/
LOCATION:HI-FI\, 1043 Virginia Ave #4\, Indianapolis\, IN\, 46203\, United States
CATEGORIES:Promo: July 4 Ticket Explosion 2022
GEO:39.7525463;-86.1407527
X-APPLE-STRUCTURED-LOCATION;VALUE=URI;X-ADDRESS=HI-FI 1043 Virginia Ave #4 Indianapolis IN 46203 United States;X-APPLE-RADIUS=500;X-TITLE=1043 Virginia Ave #4:geo:-86.1407527,39.7525463
END:VEVENT
BEGIN:VEVENT
DTSTART;TZID=America/Indiana/Indianapolis:20220820T180000
DTEND;TZID=America/Indiana/Indianapolis:20220820T220000
DTSTAMP:20260422T145411
CREATED:20220324T140024Z
LAST-MODIFIED:20220331T204647Z
UID:22466-1661018400-1661032800@mokbpresents.com
SUMMARY:ICA 2022 Presented By Estep's Products
DESCRIPTION:
URL:https://mokbpresents.com/event/cannabis-awards/
LOCATION:HI-FI Annex\, 1065 St. Patrick St\, Indianapolis\, IN\, 46203\, United States
ATTACH;FMTTYPE=image/png:https://cdn.kicksdigital.com/mokbpresents.com/2022/03/INDIANA-CANNABIS-AWARDS-2.png
ORGANIZER;CN="Estep's Products Presents":MAILTO:haley@estepsproducts.com
END:VEVENT
BEGIN:VEVENT
DTSTART;TZID=America/Indiana/Indianapolis:20220820T193000
DTEND;TZID=America/Indiana/Indianapolis:20220820T223000
DTSTAMP:20260422T145411
CREATED:20211210T150017Z
LAST-MODIFIED:20220811T154654Z
UID:20636-1661023800-1661034600@mokbpresents.com
SUMMARY:An Evening With The Avett Brothers (Night #1)
DESCRIPTION:
URL:https://mokbpresents.com/event/the-avett-brothers/
LOCATION:Nickel Plate Amphitheater\, 6 Municipal Dr\, Fishers\, IN\, 46038\, United States
END:VEVENT
BEGIN:VEVENT
DTSTART;TZID=America/Indiana/Indianapolis:20220820T200000
DTEND;TZID=America/Indiana/Indianapolis:20220820T233000
DTSTAMP:20260422T145411
CREATED:20220519T140604Z
LAST-MODIFIED:20220519T140606Z
UID:23602-1661025600-1661038200@mokbpresents.com
SUMMARY:FOXD'LEGND
DESCRIPTION:
URL:https://mokbpresents.com/event/foxdlegnd/
LOCATION:HI-FI\, 1043 Virginia Ave #4\, Indianapolis\, IN\, 46203\, United States
GEO:39.7525463;-86.1407527
X-APPLE-STRUCTURED-LOCATION;VALUE=URI;X-ADDRESS=HI-FI 1043 Virginia Ave #4 Indianapolis IN 46203 United States;X-APPLE-RADIUS=500;X-TITLE=1043 Virginia Ave #4:geo:-86.1407527,39.7525463
END:VEVENT
BEGIN:VEVENT
DTSTART;TZID=America/Indiana/Indianapolis:20220821T190000
DTEND;TZID=America/Indiana/Indianapolis:20220821T220000
DTSTAMP:20260422T145411
CREATED:20220118T150020Z
LAST-MODIFIED:20220821T180804Z
UID:21153-1661108400-1661119200@mokbpresents.com
SUMMARY:An Evening with The Avett Brothers (Night #2)
DESCRIPTION:
URL:https://mokbpresents.com/event/the-avett-brothers-2/
LOCATION:Nickel Plate Amphitheater\, 6 Municipal Dr\, Fishers\, IN\, 46038\, United States
END:VEVENT
BEGIN:VEVENT
DTSTART;TZID=America/Indiana/Indianapolis:20220821T210000
DTEND;TZID=America/Indiana/Indianapolis:20220821T235900
DTSTAMP:20260422T145411
CREATED:20220707T185018Z
LAST-MODIFIED:20220818T143918Z
UID:24426-1661115600-1661126340@mokbpresents.com
SUMMARY:Blacktop Mojo
DESCRIPTION:
URL:https://mokbpresents.com/event/blacktop-mojo/
LOCATION:HI-FI\, 1043 Virginia Ave #4\, Indianapolis\, IN\, 46203\, United States
GEO:39.7525463;-86.1407527
X-APPLE-STRUCTURED-LOCATION;VALUE=URI;X-ADDRESS=HI-FI 1043 Virginia Ave #4 Indianapolis IN 46203 United States;X-APPLE-RADIUS=500;X-TITLE=1043 Virginia Ave #4:geo:-86.1407527,39.7525463
END:VEVENT
BEGIN:VEVENT
DTSTART;TZID=America/Indiana/Indianapolis:20220824T200000
DTEND;TZID=America/Indiana/Indianapolis:20220824T233000
DTSTAMP:20260422T145411
CREATED:20220722T143829Z
LAST-MODIFIED:20220814T144311Z
UID:24713-1661371200-1661383800@mokbpresents.com
SUMMARY:Caroline Jones (of Zac Brown Band)
DESCRIPTION:
URL:https://mokbpresents.com/event/caroline-jones-of-zac-brown-band/
LOCATION:HI-FI\, 1043 Virginia Ave #4\, Indianapolis\, IN\, 46203\, United States
GEO:39.7525463;-86.1407527
X-APPLE-STRUCTURED-LOCATION;VALUE=URI;X-ADDRESS=HI-FI 1043 Virginia Ave #4 Indianapolis IN 46203 United States;X-APPLE-RADIUS=500;X-TITLE=1043 Virginia Ave #4:geo:-86.1407527,39.7525463
END:VEVENT
BEGIN:VEVENT
DTSTART;TZID=America/Indiana/Indianapolis:20220826T190000
DTEND;TZID=America/Indiana/Indianapolis:20220826T220000
DTSTAMP:20260422T145411
CREATED:20220601T143043Z
LAST-MODIFIED:20220826T191108Z
UID:23801-1661540400-1661551200@mokbpresents.com
SUMMARY:Rod Tuffcurls & The Bench Press
DESCRIPTION:
URL:https://mokbpresents.com/event/rod-tuffcurls-the-bench-press-3/
LOCATION:HI-FI Annex\, 1065 St. Patrick St\, Indianapolis\, IN\, 46203\, United States
END:VEVENT
BEGIN:VEVENT
DTSTART;TZID=America/Indiana/Indianapolis:20220826T210000
DTEND;TZID=America/Indiana/Indianapolis:20220826T235900
DTSTAMP:20260422T145411
CREATED:20220722T143111Z
LAST-MODIFIED:20220727T195542Z
UID:24706-1661547600-1661558340@mokbpresents.com
SUMMARY:Fern Murphy
DESCRIPTION:
URL:https://mokbpresents.com/event/fern-murphy-2/
LOCATION:HI-FI\, 1043 Virginia Ave #4\, Indianapolis\, IN\, 46203\, United States
GEO:39.7525463;-86.1407527
X-APPLE-STRUCTURED-LOCATION;VALUE=URI;X-ADDRESS=HI-FI 1043 Virginia Ave #4 Indianapolis IN 46203 United States;X-APPLE-RADIUS=500;X-TITLE=1043 Virginia Ave #4:geo:-86.1407527,39.7525463
END:VEVENT
BEGIN:VEVENT
DTSTART;TZID=America/Indiana/Indianapolis:20220827T200000
DTEND;TZID=America/Indiana/Indianapolis:20220827T223000
DTSTAMP:20260422T145411
CREATED:20220404T140021Z
LAST-MODIFIED:20220714T193010Z
UID:22410-1661630400-1661639400@mokbpresents.com
SUMMARY:Lawrence
DESCRIPTION:
URL:https://mokbpresents.com/event/lawrence/
LOCATION:Nickel Plate Amphitheater\, 6 Municipal Dr\, Fishers\, IN\, 46038\, United States
CATEGORIES:Promo: July 4 Ticket Explosion 2022
END:VEVENT
END:VCALENDAR