BEGIN:VCALENDAR
VERSION:2.0
PRODID:-//MOKB Presents - ECPv6.15.16.1//NONSGML v1.0//EN
CALSCALE:GREGORIAN
METHOD:PUBLISH
X-WR-CALNAME:MOKB Presents
X-ORIGINAL-URL:https://mokbpresents.com
X-WR-CALDESC:Events for MOKB Presents
REFRESH-INTERVAL;VALUE=DURATION:PT1H
X-Robots-Tag:noindex
X-PUBLISHED-TTL:PT1H
BEGIN:VTIMEZONE
TZID:America/Indiana/Indianapolis
BEGIN:DAYLIGHT
TZOFFSETFROM:-0500
TZOFFSETTO:-0400
TZNAME:EDT
DTSTART:20210314T070000
END:DAYLIGHT
BEGIN:STANDARD
TZOFFSETFROM:-0400
TZOFFSETTO:-0500
TZNAME:EST
DTSTART:20211107T060000
END:STANDARD
BEGIN:DAYLIGHT
TZOFFSETFROM:-0500
TZOFFSETTO:-0400
TZNAME:EDT
DTSTART:20220313T070000
END:DAYLIGHT
BEGIN:STANDARD
TZOFFSETFROM:-0400
TZOFFSETTO:-0500
TZNAME:EST
DTSTART:20221106T060000
END:STANDARD
BEGIN:DAYLIGHT
TZOFFSETFROM:-0500
TZOFFSETTO:-0400
TZNAME:EDT
DTSTART:20230312T070000
END:DAYLIGHT
BEGIN:STANDARD
TZOFFSETFROM:-0400
TZOFFSETTO:-0500
TZNAME:EST
DTSTART:20231105T060000
END:STANDARD
END:VTIMEZONE
BEGIN:VEVENT
DTSTART;TZID=America/Indiana/Indianapolis:20221201T200000
DTEND;TZID=America/Indiana/Indianapolis:20221201T233000
DTSTAMP:20260422T075332
CREATED:20221024T170043Z
LAST-MODIFIED:20221128T180916Z
UID:26084-1669924800-1669937400@mokbpresents.com
SUMMARY:Hembree + Little Hurt
DESCRIPTION:
URL:https://mokbpresents.com/event/hembree-little-hurt/
LOCATION:HI-FI\, 1043 Virginia Ave #4\, Indianapolis\, IN\, 46203\, United States
CATEGORIES:18+,Promo: Turkey Day Ticket Deals
ATTACH;FMTTYPE=image/png:https://cdn.kicksdigital.com/mokbpresents.com/2022/10/hembree-lilhurt-web.png
GEO:39.7525463;-86.1407527
X-APPLE-STRUCTURED-LOCATION;VALUE=URI;X-ADDRESS=HI-FI 1043 Virginia Ave #4 Indianapolis IN 46203 United States;X-APPLE-RADIUS=500;X-TITLE=1043 Virginia Ave #4:geo:-86.1407527,39.7525463
END:VEVENT
BEGIN:VEVENT
DTSTART;TZID=America/Indiana/Indianapolis:20221202T200000
DTEND;TZID=America/Indiana/Indianapolis:20221202T235900
DTSTAMP:20260422T075332
CREATED:20220815T140049Z
LAST-MODIFIED:20221128T175954Z
UID:25051-1670011200-1670025540@mokbpresents.com
SUMMARY:Minnesota - Back 2 Earth Tour
DESCRIPTION:
URL:https://mokbpresents.com/event/minnesota-2/
LOCATION:HI-FI\, 1043 Virginia Ave #4\, Indianapolis\, IN\, 46203\, United States
CATEGORIES:18+,Promo: Turkey Day Ticket Deals
ATTACH;FMTTYPE=image/jpeg:https://cdn.kicksdigital.com/mokbpresents.com/2022/08/Minnesota-Press-Live-1-scaled.jpg
GEO:39.7525463;-86.1407527
X-APPLE-STRUCTURED-LOCATION;VALUE=URI;X-ADDRESS=HI-FI 1043 Virginia Ave #4 Indianapolis IN 46203 United States;X-APPLE-RADIUS=500;X-TITLE=1043 Virginia Ave #4:geo:-86.1407527,39.7525463
END:VEVENT
BEGIN:VEVENT
DTSTART;TZID=America/Indiana/Indianapolis:20221203T190000
DTEND;TZID=America/Indiana/Indianapolis:20221203T230000
DTSTAMP:20260422T075332
CREATED:20221013T150421Z
LAST-MODIFIED:20221013T150424Z
UID:25976-1670094000-1670108400@mokbpresents.com
SUMMARY:Jacob Lafever
DESCRIPTION:
URL:https://mokbpresents.com/event/jacob-lafever/
LOCATION:LO-FI Lounge\, 1043 Virginia Ave #215\, Indianapolis\, IN\, 46203\, United States
END:VEVENT
BEGIN:VEVENT
DTSTART;TZID=America/Indiana/Indianapolis:20221203T210000
DTEND;TZID=America/Indiana/Indianapolis:20221203T235900
DTSTAMP:20260422T075332
CREATED:20220826T141001Z
LAST-MODIFIED:20220926T163837Z
UID:25298-1670101200-1670111940@mokbpresents.com
SUMMARY:SunSquabi x lespecial
DESCRIPTION:
URL:https://mokbpresents.com/event/sunsquabi-x-lespecial/
LOCATION:The Vogue\, 6259 N. College Ave\, Indianapolis\, IN\, 46220\, United States
END:VEVENT
BEGIN:VEVENT
DTSTART;TZID=America/Indiana/Indianapolis:20221203T210000
DTEND;TZID=America/Indiana/Indianapolis:20221203T235900
DTSTAMP:20260422T075332
CREATED:20220921T161951Z
LAST-MODIFIED:20221201T213907Z
UID:25714-1670101200-1670111940@mokbpresents.com
SUMMARY:Bendigo Fletcher
DESCRIPTION:
URL:https://mokbpresents.com/event/bendigo-fletcher-2/
LOCATION:HI-FI\, 1043 Virginia Ave #4\, Indianapolis\, IN\, 46203\, United States
CATEGORIES:18+,Promo: Turkey Day Ticket Deals
ATTACH;FMTTYPE=image/png:https://cdn.kicksdigital.com/mokbpresents.com/2022/09/bendigo-web.png
GEO:39.7525463;-86.1407527
X-APPLE-STRUCTURED-LOCATION;VALUE=URI;X-ADDRESS=HI-FI 1043 Virginia Ave #4 Indianapolis IN 46203 United States;X-APPLE-RADIUS=500;X-TITLE=1043 Virginia Ave #4:geo:-86.1407527,39.7525463
END:VEVENT
BEGIN:VEVENT
DTSTART;TZID=America/Indiana/Indianapolis:20221204T190000
DTEND;TZID=America/Indiana/Indianapolis:20221204T233000
DTSTAMP:20260422T075332
CREATED:20221114T170000Z
LAST-MODIFIED:20221117T171744Z
UID:26316-1670180400-1670196600@mokbpresents.com
SUMMARY:Underground Sound: 5 Year Anniversary Show
DESCRIPTION:
URL:https://mokbpresents.com/event/underground-sound-5-year-anniversary-show/
LOCATION:HI-FI\, 1043 Virginia Ave #4\, Indianapolis\, IN\, 46203\, United States
ATTACH;FMTTYPE=image/png:https://cdn.kicksdigital.com/mokbpresents.com/2022/11/UGS-5YA-web.png
GEO:39.7525463;-86.1407527
X-APPLE-STRUCTURED-LOCATION;VALUE=URI;X-ADDRESS=HI-FI 1043 Virginia Ave #4 Indianapolis IN 46203 United States;X-APPLE-RADIUS=500;X-TITLE=1043 Virginia Ave #4:geo:-86.1407527,39.7525463
END:VEVENT
BEGIN:VEVENT
DTSTART;TZID=America/Indiana/Indianapolis:20221208T190000
DTEND;TZID=America/Indiana/Indianapolis:20221208T233000
DTSTAMP:20260422T075332
CREATED:20221018T142903Z
LAST-MODIFIED:20221018T142903Z
UID:26012-1670526000-1670542200@mokbpresents.com
SUMMARY:Aaron Kamm and the One Drops + Audiodacity
DESCRIPTION:
URL:https://mokbpresents.com/event/aaron-kamm-and-the-one-drops-audiodacity/
LOCATION:LO-FI Lounge\, 1043 Virginia Ave #215\, Indianapolis\, IN\, 46203\, United States
ATTACH;FMTTYPE=image/png:https://cdn.kicksdigital.com/mokbpresents.com/2022/10/AaronKamm_Audiodacity.png
END:VEVENT
BEGIN:VEVENT
DTSTART;TZID=America/Indiana/Indianapolis:20221208T210000
DTEND;TZID=America/Indiana/Indianapolis:20221208T235900
DTSTAMP:20260422T075332
CREATED:20220927T140019Z
LAST-MODIFIED:20221205T180820Z
UID:25769-1670533200-1670543940@mokbpresents.com
SUMMARY:The Wild Feathers
DESCRIPTION:
URL:https://mokbpresents.com/event/the-wild-feathers/
LOCATION:HI-FI\, 1043 Virginia Ave #4\, Indianapolis\, IN\, 46203\, United States
CATEGORIES:18+,Americana/Folk,Blues,Promo: Turkey Day Ticket Deals,Rock
ATTACH;FMTTYPE=image/jpeg:https://cdn.kicksdigital.com/mokbpresents.com/2022/09/WildFeathers_web.jpg
GEO:39.7525463;-86.1407527
X-APPLE-STRUCTURED-LOCATION;VALUE=URI;X-ADDRESS=HI-FI 1043 Virginia Ave #4 Indianapolis IN 46203 United States;X-APPLE-RADIUS=500;X-TITLE=1043 Virginia Ave #4:geo:-86.1407527,39.7525463
END:VEVENT
BEGIN:VEVENT
DTSTART;TZID=America/Indiana/Indianapolis:20221209T190000
DTEND;TZID=America/Indiana/Indianapolis:20221209T230000
DTSTAMP:20260422T075332
CREATED:20221027T161643Z
LAST-MODIFIED:20221027T180940Z
UID:26133-1670612400-1670626800@mokbpresents.com
SUMMARY:Bellow Cranes
DESCRIPTION:
URL:https://mokbpresents.com/event/bellow-cranes/
LOCATION:LO-FI Lounge\, 1043 Virginia Ave #215\, Indianapolis\, IN\, 46203\, United States
END:VEVENT
BEGIN:VEVENT
DTSTART;TZID=America/Indiana/Indianapolis:20221209T210000
DTEND;TZID=America/Indiana/Indianapolis:20221209T235900
DTSTAMP:20260422T075332
CREATED:20220829T141222Z
LAST-MODIFIED:20221209T172318Z
UID:25317-1670619600-1670630340@mokbpresents.com
SUMMARY:Jason Boland & The Stragglers
DESCRIPTION:
URL:https://mokbpresents.com/event/jason-boland-the-stragglers/
LOCATION:HI-FI\, 1043 Virginia Ave #4\, Indianapolis\, IN\, 46203\, United States
CATEGORIES:18+
ATTACH;FMTTYPE=image/jpeg:https://cdn.kicksdigital.com/mokbpresents.com/2022/08/JasonBoland-TheStragglers-scaled.jpg
GEO:39.7525463;-86.1407527
X-APPLE-STRUCTURED-LOCATION;VALUE=URI;X-ADDRESS=HI-FI 1043 Virginia Ave #4 Indianapolis IN 46203 United States;X-APPLE-RADIUS=500;X-TITLE=1043 Virginia Ave #4:geo:-86.1407527,39.7525463
END:VEVENT
BEGIN:VEVENT
DTSTART;TZID=America/Indiana/Indianapolis:20221210T210000
DTEND;TZID=America/Indiana/Indianapolis:20221210T235900
DTSTAMP:20260422T075332
CREATED:20221108T150039Z
LAST-MODIFIED:20221122T203746Z
UID:26260-1670706000-1670716740@mokbpresents.com
SUMMARY:Your Neighbors
DESCRIPTION:
URL:https://mokbpresents.com/event/your-neighbors/
LOCATION:LO-FI Lounge\, 1043 Virginia Ave #215\, Indianapolis\, IN\, 46203\, United States
CATEGORIES:Promo: Turkey Day Ticket Deals
END:VEVENT
BEGIN:VEVENT
DTSTART;TZID=America/Indiana/Indianapolis:20221213T200000
DTEND;TZID=America/Indiana/Indianapolis:20221213T235900
DTSTAMP:20260422T075332
CREATED:20221205T183301Z
LAST-MODIFIED:20221212T190350Z
UID:26502-1670961600-1670975940@mokbpresents.com
SUMMARY:Hope For The Holidays: Bass Showcase
DESCRIPTION:
URL:https://mokbpresents.com/event/hope-for-the-holidays-bass-showcase/
LOCATION:HI-FI\, 1043 Virginia Ave #4\, Indianapolis\, IN\, 46203\, United States
ATTACH;FMTTYPE=image/png:https://cdn.kicksdigital.com/mokbpresents.com/2022/12/FACEBOOK.png
GEO:39.7525463;-86.1407527
X-APPLE-STRUCTURED-LOCATION;VALUE=URI;X-ADDRESS=HI-FI 1043 Virginia Ave #4 Indianapolis IN 46203 United States;X-APPLE-RADIUS=500;X-TITLE=1043 Virginia Ave #4:geo:-86.1407527,39.7525463
END:VEVENT
BEGIN:VEVENT
DTSTART;TZID=America/Indiana/Indianapolis:20221215T200000
DTEND;TZID=America/Indiana/Indianapolis:20221215T235900
DTSTAMP:20260422T075332
CREATED:20221102T161227Z
LAST-MODIFIED:20221214T191301Z
UID:26217-1671134400-1671148740@mokbpresents.com
SUMMARY:Back 2 Mac: A Tribute to Fleetwood Mac
DESCRIPTION:
URL:https://mokbpresents.com/event/back-2-mac-a-tribute-to-fleetwood-mac/
LOCATION:HI-FI\, 1043 Virginia Ave #4\, Indianapolis\, IN\, 46203\, United States
CATEGORIES:18+,Cover Band,Promo: Turkey Day Ticket Deals
GEO:39.7525463;-86.1407527
X-APPLE-STRUCTURED-LOCATION;VALUE=URI;X-ADDRESS=HI-FI 1043 Virginia Ave #4 Indianapolis IN 46203 United States;X-APPLE-RADIUS=500;X-TITLE=1043 Virginia Ave #4:geo:-86.1407527,39.7525463
END:VEVENT
BEGIN:VEVENT
DTSTART;TZID=America/Indiana/Indianapolis:20221216T210000
DTEND;TZID=America/Indiana/Indianapolis:20221216T235900
DTSTAMP:20260422T075332
CREATED:20221024T203049Z
LAST-MODIFIED:20221216T162228Z
UID:26093-1671224400-1671235140@mokbpresents.com
SUMMARY:The Halluci Nation
DESCRIPTION:
URL:https://mokbpresents.com/event/the-halluci-nation/
LOCATION:HI-FI\, 1043 Virginia Ave #4\, Indianapolis\, IN\, 46203\, United States
CATEGORIES:18+,Promo: Turkey Day Ticket Deals
GEO:39.7525463;-86.1407527
X-APPLE-STRUCTURED-LOCATION;VALUE=URI;X-ADDRESS=HI-FI 1043 Virginia Ave #4 Indianapolis IN 46203 United States;X-APPLE-RADIUS=500;X-TITLE=1043 Virginia Ave #4:geo:-86.1407527,39.7525463
END:VEVENT
BEGIN:VEVENT
DTSTART;TZID=America/Indiana/Indianapolis:20221217T210000
DTEND;TZID=America/Indiana/Indianapolis:20221217T235900
DTSTAMP:20260422T075332
CREATED:20221019T141948Z
LAST-MODIFIED:20221112T183659Z
UID:26027-1671310800-1671321540@mokbpresents.com
SUMMARY:Drayton Farley + J.R. Carroll - Coal For Christmas Tour
DESCRIPTION:
URL:https://mokbpresents.com/event/drayton-farley-j-r-carroll-coal-for-christmas-tour/
LOCATION:HI-FI\, 1043 Virginia Ave #4\, Indianapolis\, IN\, 46203\, United States
CATEGORIES:18+,Promo: Turkey Day Ticket Deals
ATTACH;FMTTYPE=image/png:https://cdn.kicksdigital.com/mokbpresents.com/2022/10/DraytonFarley-JRCarroll-web.png
GEO:39.7525463;-86.1407527
X-APPLE-STRUCTURED-LOCATION;VALUE=URI;X-ADDRESS=HI-FI 1043 Virginia Ave #4 Indianapolis IN 46203 United States;X-APPLE-RADIUS=500;X-TITLE=1043 Virginia Ave #4:geo:-86.1407527,39.7525463
END:VEVENT
BEGIN:VEVENT
DTSTART;TZID=America/Indiana/Indianapolis:20221220T193000
DTEND;TZID=America/Indiana/Indianapolis:20221220T235900
DTSTAMP:20260422T075332
CREATED:20221114T150019Z
LAST-MODIFIED:20221219T222023Z
UID:26301-1671564600-1671580740@mokbpresents.com
SUMMARY:Classless Act
DESCRIPTION:
URL:https://mokbpresents.com/event/classless-act/
LOCATION:HI-FI\, 1043 Virginia Ave #4\, Indianapolis\, IN\, 46203\, United States
CATEGORIES:18+,Metal/Hardcore,Promo: Turkey Day Ticket Deals
GEO:39.7525463;-86.1407527
X-APPLE-STRUCTURED-LOCATION;VALUE=URI;X-ADDRESS=HI-FI 1043 Virginia Ave #4 Indianapolis IN 46203 United States;X-APPLE-RADIUS=500;X-TITLE=1043 Virginia Ave #4:geo:-86.1407527,39.7525463
END:VEVENT
BEGIN:VEVENT
DTSTART;TZID=America/Indiana/Indianapolis:20221229T210000
DTEND;TZID=America/Indiana/Indianapolis:20221229T235900
DTSTAMP:20260422T075332
CREATED:20220913T160052Z
LAST-MODIFIED:20221228T202448Z
UID:25566-1672347600-1672358340@mokbpresents.com
SUMMARY:Six Foot Santa
DESCRIPTION:
URL:https://mokbpresents.com/event/six-foot-santa/
LOCATION:HI-FI\, 1043 Virginia Ave #4\, Indianapolis\, IN\, 46203\, United States
CATEGORIES:18+,Promo: Turkey Day Ticket Deals
ATTACH;FMTTYPE=image/png:https://cdn.kicksdigital.com/mokbpresents.com/2022/09/sixfootsanta-web.png
GEO:39.7525463;-86.1407527
X-APPLE-STRUCTURED-LOCATION;VALUE=URI;X-ADDRESS=HI-FI 1043 Virginia Ave #4 Indianapolis IN 46203 United States;X-APPLE-RADIUS=500;X-TITLE=1043 Virginia Ave #4:geo:-86.1407527,39.7525463
END:VEVENT
BEGIN:VEVENT
DTSTART;TZID=America/Indiana/Indianapolis:20221230T200000
DTEND;TZID=America/Indiana/Indianapolis:20221230T235900
DTSTAMP:20260422T075332
CREATED:20221024T150957Z
LAST-MODIFIED:20221208T200353Z
UID:26066-1672430400-1672444740@mokbpresents.com
SUMMARY:Keller & Cole
DESCRIPTION:
URL:https://mokbpresents.com/event/keller-cole/
LOCATION:HI-FI\, 1043 Virginia Ave #4\, Indianapolis\, IN\, 46203\, United States
CATEGORIES:18+,Promo: Turkey Day Ticket Deals
GEO:39.7525463;-86.1407527
X-APPLE-STRUCTURED-LOCATION;VALUE=URI;X-ADDRESS=HI-FI 1043 Virginia Ave #4 Indianapolis IN 46203 United States;X-APPLE-RADIUS=500;X-TITLE=1043 Virginia Ave #4:geo:-86.1407527,39.7525463
END:VEVENT
BEGIN:VEVENT
DTSTART;TZID=America/Indiana/Indianapolis:20221231T220000
DTEND;TZID=America/Indiana/Indianapolis:20221231T235900
DTSTAMP:20260422T075332
CREATED:20221208T170001Z
LAST-MODIFIED:20221209T210446Z
UID:26608-1672524000-1672531140@mokbpresents.com
SUMMARY:New Year's In Nap!
DESCRIPTION:
URL:https://mokbpresents.com/event/new-years-in-nap/
LOCATION:HI-FI\, 1043 Virginia Ave #4\, Indianapolis\, IN\, 46203\, United States
CATEGORIES:18+
ATTACH;FMTTYPE=image/png:https://cdn.kicksdigital.com/mokbpresents.com/2022/12/NYEinNap-web.png
GEO:39.7525463;-86.1407527
X-APPLE-STRUCTURED-LOCATION;VALUE=URI;X-ADDRESS=HI-FI 1043 Virginia Ave #4 Indianapolis IN 46203 United States;X-APPLE-RADIUS=500;X-TITLE=1043 Virginia Ave #4:geo:-86.1407527,39.7525463
END:VEVENT
END:VCALENDAR