BEGIN:VCALENDAR
VERSION:2.0
PRODID:-//MOKB Presents - ECPv6.15.16.1//NONSGML v1.0//EN
CALSCALE:GREGORIAN
METHOD:PUBLISH
X-ORIGINAL-URL:https://mokbpresents.com
X-WR-CALDESC:Events for MOKB Presents
REFRESH-INTERVAL;VALUE=DURATION:PT1H
X-Robots-Tag:noindex
X-PUBLISHED-TTL:PT1H
BEGIN:VTIMEZONE
TZID:America/Indiana/Indianapolis
BEGIN:DAYLIGHT
TZOFFSETFROM:-0500
TZOFFSETTO:-0400
TZNAME:EDT
DTSTART:20220313T070000
END:DAYLIGHT
BEGIN:STANDARD
TZOFFSETFROM:-0400
TZOFFSETTO:-0500
TZNAME:EST
DTSTART:20221106T060000
END:STANDARD
BEGIN:DAYLIGHT
TZOFFSETFROM:-0500
TZOFFSETTO:-0400
TZNAME:EDT
DTSTART:20230312T070000
END:DAYLIGHT
BEGIN:STANDARD
TZOFFSETFROM:-0400
TZOFFSETTO:-0500
TZNAME:EST
DTSTART:20231105T060000
END:STANDARD
BEGIN:DAYLIGHT
TZOFFSETFROM:-0500
TZOFFSETTO:-0400
TZNAME:EDT
DTSTART:20240310T070000
END:DAYLIGHT
BEGIN:STANDARD
TZOFFSETFROM:-0400
TZOFFSETTO:-0500
TZNAME:EST
DTSTART:20241103T060000
END:STANDARD
END:VTIMEZONE
BEGIN:VEVENT
DTSTART;TZID=America/Indiana/Indianapolis:20230201T180000
DTEND;TZID=America/Indiana/Indianapolis:20230201T210000
DTSTAMP:20260422T034013
CREATED:20230120T193349Z
LAST-MODIFIED:20230120T193352Z
UID:27079-1675274400-1675285200@mokbpresents.com
SUMMARY:Nerdy Talk Trivia
DESCRIPTION:
URL:https://mokbpresents.com/event/nerdy-talk-trivia-2/
LOCATION:Easy Rider Diner\, 1043 Virginia Ave\, Suite 3\, Indianapolis\, IN\, 46203\, United States
ATTACH;FMTTYPE=image/png:https://cdn.kicksdigital.com/mokbpresents.com/2023/01/NerdyTalkTriviaNight.png
END:VEVENT
BEGIN:VEVENT
DTSTART;TZID=America/Indiana/Indianapolis:20230203T200000
DTEND;TZID=America/Indiana/Indianapolis:20230203T235900
DTSTAMP:20260422T034013
CREATED:20221202T180052Z
LAST-MODIFIED:20230201T204616Z
UID:26527-1675454400-1675468740@mokbpresents.com
SUMMARY:Ballyhoo!
DESCRIPTION:
URL:https://mokbpresents.com/event/ballyhoo/
LOCATION:HI-FI\, 1043 Virginia Ave #4\, Indianapolis\, IN\, 46203\, United States
CATEGORIES:18+,Reggae/Ska
GEO:39.7525463;-86.1407527
X-APPLE-STRUCTURED-LOCATION;VALUE=URI;X-ADDRESS=HI-FI 1043 Virginia Ave #4 Indianapolis IN 46203 United States;X-APPLE-RADIUS=500;X-TITLE=1043 Virginia Ave #4:geo:-86.1407527,39.7525463
END:VEVENT
BEGIN:VEVENT
DTSTART;TZID=America/Indiana/Indianapolis:20230203T210000
DTEND;TZID=America/Indiana/Indianapolis:20230203T235900
DTSTAMP:20260422T034013
CREATED:20221115T170048Z
LAST-MODIFIED:20230201T204742Z
UID:26325-1675458000-1675468740@mokbpresents.com
SUMMARY:DIZGO
DESCRIPTION:
URL:https://mokbpresents.com/event/dizgo-4/
LOCATION:The Vogue\, 6259 N. College Ave\, Indianapolis\, IN\, 46220\, United States
END:VEVENT
BEGIN:VEVENT
DTSTART;TZID=America/Indiana/Indianapolis:20230204T190000
DTEND;TZID=America/Indiana/Indianapolis:20230204T220000
DTSTAMP:20260422T034013
CREATED:20221216T170021Z
LAST-MODIFIED:20230120T224046Z
UID:26761-1675537200-1675548000@mokbpresents.com
SUMMARY:The Trews
DESCRIPTION:
URL:https://mokbpresents.com/event/the-trews/
LOCATION:LO-FI Lounge\, 1043 Virginia Ave #215\, Indianapolis\, IN\, 46203\, United States
CATEGORIES:21+
END:VEVENT
BEGIN:VEVENT
DTSTART;TZID=America/Indiana/Indianapolis:20230204T210000
DTEND;TZID=America/Indiana/Indianapolis:20230204T235900
DTSTAMP:20260422T034013
CREATED:20221209T165514Z
LAST-MODIFIED:20221209T165517Z
UID:26623-1675544400-1675555140@mokbpresents.com
SUMMARY:Joslyn & The Sweet Compression w/ Audiodacity
DESCRIPTION:
URL:https://mokbpresents.com/event/joslyn-the-sweet-compression-w-audiodacity/
LOCATION:HI-FI\, 1043 Virginia Ave #4\, Indianapolis\, IN\, 46203\, United States
GEO:39.7525463;-86.1407527
X-APPLE-STRUCTURED-LOCATION;VALUE=URI;X-ADDRESS=HI-FI 1043 Virginia Ave #4 Indianapolis IN 46203 United States;X-APPLE-RADIUS=500;X-TITLE=1043 Virginia Ave #4:geo:-86.1407527,39.7525463
END:VEVENT
BEGIN:VEVENT
DTSTART;TZID=America/Indiana/Indianapolis:20230205T190000
DTEND;TZID=America/Indiana/Indianapolis:20230205T230000
DTSTAMP:20260422T034013
CREATED:20230109T160014Z
LAST-MODIFIED:20230130T222113Z
UID:26883-1675623600-1675638000@mokbpresents.com
SUMMARY:Underground Sound: Open Mic Showcase
DESCRIPTION:
URL:https://mokbpresents.com/event/underground-sound-open-mic-showcase-2/
LOCATION:HI-FI\, 1043 Virginia Ave #4\, Indianapolis\, IN\, 46203\, United States
ATTACH;FMTTYPE=image/png:https://cdn.kicksdigital.com/mokbpresents.com/2023/01/UGS-web.png
GEO:39.7525463;-86.1407527
X-APPLE-STRUCTURED-LOCATION;VALUE=URI;X-ADDRESS=HI-FI 1043 Virginia Ave #4 Indianapolis IN 46203 United States;X-APPLE-RADIUS=500;X-TITLE=1043 Virginia Ave #4:geo:-86.1407527,39.7525463
END:VEVENT
BEGIN:VEVENT
DTSTART;TZID=America/Indiana/Indianapolis:20230208T180000
DTEND;TZID=America/Indiana/Indianapolis:20230208T210000
DTSTAMP:20260422T034013
CREATED:20230206T192042Z
LAST-MODIFIED:20230207T181556Z
UID:27352-1675879200-1675890000@mokbpresents.com
SUMMARY:Nerdy Talk Trivia
DESCRIPTION:
URL:https://mokbpresents.com/event/nerdy-talk-trivia-3/
LOCATION:Easy Rider Diner\, 1043 Virginia Ave\, Suite 3\, Indianapolis\, IN\, 46203\, United States
CATEGORIES:All Ages
ATTACH;FMTTYPE=image/png:https://cdn.kicksdigital.com/mokbpresents.com/2023/02/Trivia-2-8.png
END:VEVENT
BEGIN:VEVENT
DTSTART;TZID=America/Indiana/Indianapolis:20230208T200000
DTEND;TZID=America/Indiana/Indianapolis:20230208T230000
DTSTAMP:20260422T034013
CREATED:20221116T150021Z
LAST-MODIFIED:20221115T221703Z
UID:26350-1675886400-1675897200@mokbpresents.com
SUMMARY:An Evening With Lotus
DESCRIPTION:
URL:https://mokbpresents.com/event/an-evening-with-lotus/
LOCATION:The Vogue\, 6259 N. College Ave\, Indianapolis\, IN\, 46220\, United States
END:VEVENT
BEGIN:VEVENT
DTSTART;TZID=America/Indiana/Indianapolis:20230209T200000
DTEND;TZID=America/Indiana/Indianapolis:20230209T235900
DTSTAMP:20260422T034013
CREATED:20221025T145108Z
LAST-MODIFIED:20230206T182107Z
UID:26100-1675972800-1675987140@mokbpresents.com
SUMMARY:White Reaper
DESCRIPTION:
URL:https://mokbpresents.com/event/white-reaper-2/
LOCATION:HI-FI\, 1043 Virginia Ave #4\, Indianapolis\, IN\, 46203\, United States
CATEGORIES:18+
GEO:39.7525463;-86.1407527
X-APPLE-STRUCTURED-LOCATION;VALUE=URI;X-ADDRESS=HI-FI 1043 Virginia Ave #4 Indianapolis IN 46203 United States;X-APPLE-RADIUS=500;X-TITLE=1043 Virginia Ave #4:geo:-86.1407527,39.7525463
END:VEVENT
BEGIN:VEVENT
DTSTART;TZID=America/Indiana/Indianapolis:20230210T200000
DTEND;TZID=America/Indiana/Indianapolis:20230210T233000
DTSTAMP:20260422T034013
CREATED:20221207T150019Z
LAST-MODIFIED:20230206T160106Z
UID:26004-1676059200-1676071800@mokbpresents.com
SUMMARY:Robin Raps Presents: Garden Party Pt. 3
DESCRIPTION:
URL:https://mokbpresents.com/event/robin-raps-presents-garden-party-iii/
LOCATION:HI-FI\, 1043 Virginia Ave #4\, Indianapolis\, IN\, 46203\, United States
CATEGORIES:18+
ATTACH;FMTTYPE=image/png:https://cdn.kicksdigital.com/mokbpresents.com/2022/12/GP3-new-web-e1674772463993.png
ORGANIZER;CN="Robin Raps Presents":MAILTO:thekevinray@gmail.com
GEO:39.7525463;-86.1407527
X-APPLE-STRUCTURED-LOCATION;VALUE=URI;X-ADDRESS=HI-FI 1043 Virginia Ave #4 Indianapolis IN 46203 United States;X-APPLE-RADIUS=500;X-TITLE=1043 Virginia Ave #4:geo:-86.1407527,39.7525463
END:VEVENT
BEGIN:VEVENT
DTSTART;TZID=America/Indiana/Indianapolis:20230211T210000
DTEND;TZID=America/Indiana/Indianapolis:20230211T235900
DTSTAMP:20260422T034013
CREATED:20230106T150002Z
LAST-MODIFIED:20230206T180702Z
UID:26857-1676149200-1676159940@mokbpresents.com
SUMMARY:Street Pennies
DESCRIPTION:
URL:https://mokbpresents.com/event/street-pennies/
LOCATION:HI-FI\, 1043 Virginia Ave #4\, Indianapolis\, IN\, 46203\, United States
CATEGORIES:18+
GEO:39.7525463;-86.1407527
X-APPLE-STRUCTURED-LOCATION;VALUE=URI;X-ADDRESS=HI-FI 1043 Virginia Ave #4 Indianapolis IN 46203 United States;X-APPLE-RADIUS=500;X-TITLE=1043 Virginia Ave #4:geo:-86.1407527,39.7525463
END:VEVENT
BEGIN:VEVENT
DTSTART;TZID=America/Indiana/Indianapolis:20230215T180000
DTEND;TZID=America/Indiana/Indianapolis:20230215T210000
DTSTAMP:20260422T034013
CREATED:20230206T192259Z
LAST-MODIFIED:20230215T200628Z
UID:27355-1676484000-1676494800@mokbpresents.com
SUMMARY:Nerdy Talk Trivia
DESCRIPTION:
URL:https://mokbpresents.com/event/nerdy-talk-trivia-4/
LOCATION:Easy Rider Diner\, 1043 Virginia Ave\, Suite 3\, Indianapolis\, IN\, 46203\, United States
CATEGORIES:All Ages
ATTACH;FMTTYPE=image/png:https://cdn.kicksdigital.com/mokbpresents.com/2023/02/Trivia-2-15.png
END:VEVENT
BEGIN:VEVENT
DTSTART;TZID=America/Indiana/Indianapolis:20230216T200000
DTEND;TZID=America/Indiana/Indianapolis:20230216T235900
DTSTAMP:20260422T034013
CREATED:20221212T170046Z
LAST-MODIFIED:20230216T161744Z
UID:26655-1676577600-1676591940@mokbpresents.com
SUMMARY:Mac Saturn - Until The Money Runs Out Tour
DESCRIPTION:
URL:https://mokbpresents.com/event/mac-saturn-until-the-money-runs-out-tour/
LOCATION:HI-FI\, 1043 Virginia Ave #4\, Indianapolis\, IN\, 46203\, United States
CATEGORIES:18+
GEO:39.7525463;-86.1407527
X-APPLE-STRUCTURED-LOCATION;VALUE=URI;X-ADDRESS=HI-FI 1043 Virginia Ave #4 Indianapolis IN 46203 United States;X-APPLE-RADIUS=500;X-TITLE=1043 Virginia Ave #4:geo:-86.1407527,39.7525463
END:VEVENT
BEGIN:VEVENT
DTSTART;TZID=America/Indiana/Indianapolis:20230217T210000
DTEND;TZID=America/Indiana/Indianapolis:20230217T235900
DTSTAMP:20260422T034013
CREATED:20221025T153120Z
LAST-MODIFIED:20230216T161756Z
UID:26118-1676667600-1676678340@mokbpresents.com
SUMMARY:Seaforth - About Time Tour
DESCRIPTION:
URL:https://mokbpresents.com/event/seaforth-about-time-tour/
LOCATION:HI-FI\, 1043 Virginia Ave #4\, Indianapolis\, IN\, 46203\, United States
CATEGORIES:18+,Promo: Turkey Day Ticket Deals
ATTACH;FMTTYPE=image/jpeg:https://cdn.kicksdigital.com/mokbpresents.com/2022/10/SEAFORTH_creditNolanKnight_1642R-scaled-e1666711845682.jpg
GEO:39.7525463;-86.1407527
X-APPLE-STRUCTURED-LOCATION;VALUE=URI;X-ADDRESS=HI-FI 1043 Virginia Ave #4 Indianapolis IN 46203 United States;X-APPLE-RADIUS=500;X-TITLE=1043 Virginia Ave #4:geo:-86.1407527,39.7525463
END:VEVENT
BEGIN:VEVENT
DTSTART;TZID=America/Indiana/Indianapolis:20230218T190000
DTEND;TZID=America/Indiana/Indianapolis:20230218T220000
DTSTAMP:20260422T034013
CREATED:20230113T191503Z
LAST-MODIFIED:20230216T161826Z
UID:26976-1676746800-1676757600@mokbpresents.com
SUMMARY:Eric Bolander
DESCRIPTION:
URL:https://mokbpresents.com/event/eric-bolander/
LOCATION:LO-FI Lounge\, 1043 Virginia Ave #215\, Indianapolis\, IN\, 46203\, United States
CATEGORIES:21+
END:VEVENT
BEGIN:VEVENT
DTSTART;TZID=America/Indiana/Indianapolis:20230218T210000
DTEND;TZID=America/Indiana/Indianapolis:20230218T235900
DTSTAMP:20260422T034013
CREATED:20230105T150029Z
LAST-MODIFIED:20230216T161836Z
UID:26842-1676754000-1676764740@mokbpresents.com
SUMMARY:Chamber Music
DESCRIPTION:
URL:https://mokbpresents.com/event/chamber-music/
LOCATION:HI-FI\, 1043 Virginia Ave #4\, Indianapolis\, IN\, 46203\, United States
CATEGORIES:18+
GEO:39.7525463;-86.1407527
X-APPLE-STRUCTURED-LOCATION;VALUE=URI;X-ADDRESS=HI-FI 1043 Virginia Ave #4 Indianapolis IN 46203 United States;X-APPLE-RADIUS=500;X-TITLE=1043 Virginia Ave #4:geo:-86.1407527,39.7525463
END:VEVENT
BEGIN:VEVENT
DTSTART;TZID=America/Indiana/Indianapolis:20230219T200000
DTEND;TZID=America/Indiana/Indianapolis:20230219T233000
DTSTAMP:20260422T034013
CREATED:20221103T140030Z
LAST-MODIFIED:20230216T161847Z
UID:26223-1676836800-1676849400@mokbpresents.com
SUMMARY:SOLD OUT: flipturn - Shadowglow Tour
DESCRIPTION:
URL:https://mokbpresents.com/event/flipturn-shadowglow-tour/
LOCATION:HI-FI\, 1043 Virginia Ave #4\, Indianapolis\, IN\, 46203\, United States
CATEGORIES:18+
GEO:39.7525463;-86.1407527
X-APPLE-STRUCTURED-LOCATION;VALUE=URI;X-ADDRESS=HI-FI 1043 Virginia Ave #4 Indianapolis IN 46203 United States;X-APPLE-RADIUS=500;X-TITLE=1043 Virginia Ave #4:geo:-86.1407527,39.7525463
END:VEVENT
BEGIN:VEVENT
DTSTART;TZID=America/Indiana/Indianapolis:20230221T200000
DTEND;TZID=America/Indiana/Indianapolis:20230221T233000
DTSTAMP:20260422T034013
CREATED:20221214T150010Z
LAST-MODIFIED:20230220T201636Z
UID:26692-1677009600-1677022200@mokbpresents.com
SUMMARY:Cody Canada & The Departed
DESCRIPTION:
URL:https://mokbpresents.com/event/cody-canada-the-departed/
LOCATION:HI-FI\, 1043 Virginia Ave #4\, Indianapolis\, IN\, 46203\, United States
CATEGORIES:18+
GEO:39.7525463;-86.1407527
X-APPLE-STRUCTURED-LOCATION;VALUE=URI;X-ADDRESS=HI-FI 1043 Virginia Ave #4 Indianapolis IN 46203 United States;X-APPLE-RADIUS=500;X-TITLE=1043 Virginia Ave #4:geo:-86.1407527,39.7525463
END:VEVENT
BEGIN:VEVENT
DTSTART;TZID=America/Indiana/Indianapolis:20230222T200000
DTEND;TZID=America/Indiana/Indianapolis:20230222T233000
DTSTAMP:20260422T034013
CREATED:20230119T160311Z
LAST-MODIFIED:20230216T161910Z
UID:27058-1677096000-1677108600@mokbpresents.com
SUMMARY:Five Door Sedan (fka Dacota Muckey)
DESCRIPTION:
URL:https://mokbpresents.com/event/five-door-sedan/
LOCATION:HI-FI\, 1043 Virginia Ave #4\, Indianapolis\, IN\, 46203\, United States
CATEGORIES:18+
GEO:39.7525463;-86.1407527
X-APPLE-STRUCTURED-LOCATION;VALUE=URI;X-ADDRESS=HI-FI 1043 Virginia Ave #4 Indianapolis IN 46203 United States;X-APPLE-RADIUS=500;X-TITLE=1043 Virginia Ave #4:geo:-86.1407527,39.7525463
END:VEVENT
BEGIN:VEVENT
DTSTART;TZID=America/Indiana/Indianapolis:20230222T200000
DTEND;TZID=America/Indiana/Indianapolis:20230222T235900
DTSTAMP:20260422T034013
CREATED:20220920T140114Z
LAST-MODIFIED:20230220T155249Z
UID:25659-1677096000-1677110340@mokbpresents.com
SUMMARY:Margo Price - 'Til The Wheels Fall Off Tour
DESCRIPTION:
URL:https://mokbpresents.com/event/margo-price-til-the-wheels-fall-off-tour/
LOCATION:The Vogue\, 6259 N. College Ave\, Indianapolis\, IN\, 46220\, United States
CATEGORIES:Americana/Folk,Country
END:VEVENT
BEGIN:VEVENT
DTSTART;TZID=America/Indiana/Indianapolis:20230223T210000
DTEND;TZID=America/Indiana/Indianapolis:20230223T235900
DTSTAMP:20260422T034013
CREATED:20230103T160011Z
LAST-MODIFIED:20230216T161953Z
UID:26813-1677186000-1677196740@mokbpresents.com
SUMMARY:Danielle Bradbery - A Special Place Tour
DESCRIPTION:
URL:https://mokbpresents.com/event/danielle-bradbery-a-special-place-tour/
LOCATION:HI-FI\, 1043 Virginia Ave #4\, Indianapolis\, IN\, 46203\, United States
CATEGORIES:18+
GEO:39.7525463;-86.1407527
X-APPLE-STRUCTURED-LOCATION;VALUE=URI;X-ADDRESS=HI-FI 1043 Virginia Ave #4 Indianapolis IN 46203 United States;X-APPLE-RADIUS=500;X-TITLE=1043 Virginia Ave #4:geo:-86.1407527,39.7525463
END:VEVENT
BEGIN:VEVENT
DTSTART;TZID=America/Indiana/Indianapolis:20230224T190000
DTEND;TZID=America/Indiana/Indianapolis:20230224T210000
DTSTAMP:20260422T034013
CREATED:20230117T160627Z
LAST-MODIFIED:20230216T162004Z
UID:26995-1677265200-1677272400@mokbpresents.com
SUMMARY:Connor McLaren
DESCRIPTION:
URL:https://mokbpresents.com/event/connor-mclaren/
LOCATION:LO-FI Lounge\, 1043 Virginia Ave #215\, Indianapolis\, IN\, 46203\, United States
CATEGORIES:21+
END:VEVENT
BEGIN:VEVENT
DTSTART;TZID=America/Indiana/Indianapolis:20230224T210000
DTEND;TZID=America/Indiana/Indianapolis:20230224T235900
DTSTAMP:20260422T034013
CREATED:20221114T150031Z
LAST-MODIFIED:20230216T162014Z
UID:26292-1677272400-1677283140@mokbpresents.com
SUMMARY:Larry McCray
DESCRIPTION:
URL:https://mokbpresents.com/event/larry-mccray/
LOCATION:HI-FI\, 1043 Virginia Ave #4\, Indianapolis\, IN\, 46203\, United States
CATEGORIES:18+,Blues,Promo: Turkey Day Ticket Deals
ATTACH;FMTTYPE=image/png:https://cdn.kicksdigital.com/mokbpresents.com/2022/11/Larry-McCray-2.png
GEO:39.7525463;-86.1407527
X-APPLE-STRUCTURED-LOCATION;VALUE=URI;X-ADDRESS=HI-FI 1043 Virginia Ave #4 Indianapolis IN 46203 United States;X-APPLE-RADIUS=500;X-TITLE=1043 Virginia Ave #4:geo:-86.1407527,39.7525463
END:VEVENT
BEGIN:VEVENT
DTSTART;TZID=America/Indiana/Indianapolis:20230225T190000
DTEND;TZID=America/Indiana/Indianapolis:20230225T220000
DTSTAMP:20260422T034013
CREATED:20230113T191226Z
LAST-MODIFIED:20230220T170521Z
UID:26973-1677351600-1677362400@mokbpresents.com
SUMMARY:For Elijah Fundraiser Showcase
DESCRIPTION:
URL:https://mokbpresents.com/event/for-elijah-fundraiser-showcase/
LOCATION:LO-FI Lounge\, 1043 Virginia Ave #215\, Indianapolis\, IN\, 46203\, United States
CATEGORIES:21+
ATTACH;FMTTYPE=image/jpeg:https://cdn.kicksdigital.com/mokbpresents.com/2023/01/For-Elijah.jpg
END:VEVENT
BEGIN:VEVENT
DTSTART;TZID=America/Indiana/Indianapolis:20230225T210000
DTEND;TZID=America/Indiana/Indianapolis:20230225T235900
DTSTAMP:20260422T034013
CREATED:20230210T153932Z
LAST-MODIFIED:20230216T162024Z
UID:27440-1677358800-1677369540@mokbpresents.com
SUMMARY:Small Words / The Lakewoods / Sunset Etc.
DESCRIPTION:
URL:https://mokbpresents.com/event/small-words-the-lakewoods-sunset-etc/
LOCATION:HI-FI\, 1043 Virginia Ave #4\, Indianapolis\, IN\, 46203\, United States
CATEGORIES:18+
GEO:39.7525463;-86.1407527
X-APPLE-STRUCTURED-LOCATION;VALUE=URI;X-ADDRESS=HI-FI 1043 Virginia Ave #4 Indianapolis IN 46203 United States;X-APPLE-RADIUS=500;X-TITLE=1043 Virginia Ave #4:geo:-86.1407527,39.7525463
END:VEVENT
END:VCALENDAR