BEGIN:VCALENDAR
VERSION:2.0
PRODID:-//MOKB Presents - ECPv6.15.16.1//NONSGML v1.0//EN
CALSCALE:GREGORIAN
METHOD:PUBLISH
X-WR-CALNAME:MOKB Presents
X-ORIGINAL-URL:https://mokbpresents.com
X-WR-CALDESC:Events for MOKB Presents
REFRESH-INTERVAL;VALUE=DURATION:PT1H
X-Robots-Tag:noindex
X-PUBLISHED-TTL:PT1H
BEGIN:VTIMEZONE
TZID:America/Indiana/Indianapolis
BEGIN:DAYLIGHT
TZOFFSETFROM:-0500
TZOFFSETTO:-0400
TZNAME:EDT
DTSTART:20220313T070000
END:DAYLIGHT
BEGIN:STANDARD
TZOFFSETFROM:-0400
TZOFFSETTO:-0500
TZNAME:EST
DTSTART:20221106T060000
END:STANDARD
BEGIN:DAYLIGHT
TZOFFSETFROM:-0500
TZOFFSETTO:-0400
TZNAME:EDT
DTSTART:20230312T070000
END:DAYLIGHT
BEGIN:STANDARD
TZOFFSETFROM:-0400
TZOFFSETTO:-0500
TZNAME:EST
DTSTART:20231105T060000
END:STANDARD
BEGIN:DAYLIGHT
TZOFFSETFROM:-0500
TZOFFSETTO:-0400
TZNAME:EDT
DTSTART:20240310T070000
END:DAYLIGHT
BEGIN:STANDARD
TZOFFSETFROM:-0400
TZOFFSETTO:-0500
TZNAME:EST
DTSTART:20241103T060000
END:STANDARD
END:VTIMEZONE
BEGIN:VEVENT
DTSTART;TZID=America/Indiana/Indianapolis:20230301T190000
DTEND;TZID=America/Indiana/Indianapolis:20230301T233000
DTSTAMP:20260422T020409
CREATED:20221214T170055Z
LAST-MODIFIED:20230227T204139Z
UID:26703-1677697200-1677713400@mokbpresents.com
SUMMARY:Prince Daddy & the Hyena + Drug Church
DESCRIPTION:
URL:https://mokbpresents.com/event/prince-daddy-the-hyena-drug-church/
LOCATION:HI-FI\, 1043 Virginia Ave #4\, Indianapolis\, IN\, 46203\, United States
CATEGORIES:18+
ATTACH;FMTTYPE=image/png:https://cdn.kicksdigital.com/mokbpresents.com/2022/12/PDHxDC-web.png
GEO:39.7525463;-86.1407527
X-APPLE-STRUCTURED-LOCATION;VALUE=URI;X-ADDRESS=HI-FI 1043 Virginia Ave #4 Indianapolis IN 46203 United States;X-APPLE-RADIUS=500;X-TITLE=1043 Virginia Ave #4:geo:-86.1407527,39.7525463
END:VEVENT
BEGIN:VEVENT
DTSTART;TZID=America/Indiana/Indianapolis:20230303T200000
DTEND;TZID=America/Indiana/Indianapolis:20230303T235900
DTSTAMP:20260422T020409
CREATED:20230110T150003Z
LAST-MODIFIED:20230302T155814Z
UID:26880-1677873600-1677887940@mokbpresents.com
SUMMARY:Arlo McKinley
DESCRIPTION:
URL:https://mokbpresents.com/event/arlo-mckinley-4/
LOCATION:HI-FI\, 1043 Virginia Ave #4\, Indianapolis\, IN\, 46203\, United States
CATEGORIES:18+,Americana/Folk,Country
GEO:39.7525463;-86.1407527
X-APPLE-STRUCTURED-LOCATION;VALUE=URI;X-ADDRESS=HI-FI 1043 Virginia Ave #4 Indianapolis IN 46203 United States;X-APPLE-RADIUS=500;X-TITLE=1043 Virginia Ave #4:geo:-86.1407527,39.7525463
END:VEVENT
BEGIN:VEVENT
DTSTART;TZID=America/Indiana/Indianapolis:20230304T200000
DTEND;TZID=America/Indiana/Indianapolis:20230304T235900
DTSTAMP:20260422T020409
CREATED:20221115T170014Z
LAST-MODIFIED:20230218T000247Z
UID:26340-1677960000-1677974340@mokbpresents.com
SUMMARY:The Rural Alberta Advantage
DESCRIPTION:
URL:https://mokbpresents.com/event/the-rural-alberta-advantage/
LOCATION:HI-FI\, 1043 Virginia Ave #4\, Indianapolis\, IN\, 46203\, United States
GEO:39.7525463;-86.1407527
X-APPLE-STRUCTURED-LOCATION;VALUE=URI;X-ADDRESS=HI-FI 1043 Virginia Ave #4 Indianapolis IN 46203 United States;X-APPLE-RADIUS=500;X-TITLE=1043 Virginia Ave #4:geo:-86.1407527,39.7525463
END:VEVENT
BEGIN:VEVENT
DTSTART;TZID=America/Indiana/Indianapolis:20230304T210000
DTEND;TZID=America/Indiana/Indianapolis:20230304T235900
DTSTAMP:20260422T020409
CREATED:20221028T170038Z
LAST-MODIFIED:20230124T190852Z
UID:26139-1677963600-1677974340@mokbpresents.com
SUMMARY:SOLD OUT: Sierra Ferrell - Long Time Going Tour
DESCRIPTION:
URL:https://mokbpresents.com/event/sierra-ferrell-long-time-going-tour/
LOCATION:The Vogue\, 6259 N. College Ave\, Indianapolis\, IN\, 46220\, United States
CATEGORIES:21+
END:VEVENT
BEGIN:VEVENT
DTSTART;TZID=America/Indiana/Indianapolis:20230304T233000
DTEND;TZID=America/Indiana/Indianapolis:20230304T235900
DTSTAMP:20260422T020409
CREATED:20230224T173012Z
LAST-MODIFIED:20230224T173014Z
UID:27714-1677972600-1677974340@mokbpresents.com
SUMMARY:Mike Epps Official After Party
DESCRIPTION:
URL:https://mokbpresents.com/event/mike-epps-official-after-party/
LOCATION:HI-FI\, 1043 Virginia Ave #4\, Indianapolis\, IN\, 46203\, United States
CATEGORIES:18+
ATTACH;FMTTYPE=image/png:https://cdn.kicksdigital.com/mokbpresents.com/2023/02/MikeEpps-web.png
GEO:39.7525463;-86.1407527
X-APPLE-STRUCTURED-LOCATION;VALUE=URI;X-ADDRESS=HI-FI 1043 Virginia Ave #4 Indianapolis IN 46203 United States;X-APPLE-RADIUS=500;X-TITLE=1043 Virginia Ave #4:geo:-86.1407527,39.7525463
END:VEVENT
BEGIN:VEVENT
DTSTART;TZID=America/Indiana/Indianapolis:20230307T200000
DTEND;TZID=America/Indiana/Indianapolis:20230307T233000
DTSTAMP:20260422T020409
CREATED:20220926T142250Z
LAST-MODIFIED:20230306T152618Z
UID:25745-1678219200-1678231800@mokbpresents.com
SUMMARY:SOLD OUT: Morgan Wade - No Signs Of Slowing Down Tour
DESCRIPTION:
URL:https://mokbpresents.com/event/morgan-wade-no-signs-of-slowing-down-tour/
LOCATION:HI-FI\, 1043 Virginia Ave #4\, Indianapolis\, IN\, 46203\, United States
CATEGORIES:18+,Americana/Folk,Country
ATTACH;FMTTYPE=image/jpeg:https://cdn.kicksdigital.com/mokbpresents.com/2022/09/MorganWade_web.jpg
GEO:39.7525463;-86.1407527
X-APPLE-STRUCTURED-LOCATION;VALUE=URI;X-ADDRESS=HI-FI 1043 Virginia Ave #4 Indianapolis IN 46203 United States;X-APPLE-RADIUS=500;X-TITLE=1043 Virginia Ave #4:geo:-86.1407527,39.7525463
END:VEVENT
BEGIN:VEVENT
DTSTART;TZID=America/Indiana/Indianapolis:20230309T193000
DTEND;TZID=America/Indiana/Indianapolis:20230309T233000
DTSTAMP:20260422T020409
CREATED:20230127T150043Z
LAST-MODIFIED:20230308T155639Z
UID:27166-1678390200-1678404600@mokbpresents.com
SUMMARY:The Vindys
DESCRIPTION:
URL:https://mokbpresents.com/event/the-vindys/
LOCATION:HI-FI\, 1043 Virginia Ave #4\, Indianapolis\, IN\, 46203\, United States
CATEGORIES:18+
GEO:39.7525463;-86.1407527
X-APPLE-STRUCTURED-LOCATION;VALUE=URI;X-ADDRESS=HI-FI 1043 Virginia Ave #4 Indianapolis IN 46203 United States;X-APPLE-RADIUS=500;X-TITLE=1043 Virginia Ave #4:geo:-86.1407527,39.7525463
END:VEVENT
BEGIN:VEVENT
DTSTART;TZID=America/Indiana/Indianapolis:20230309T200000
DTEND;TZID=America/Indiana/Indianapolis:20230309T235900
DTSTAMP:20260422T020409
CREATED:20221206T201717Z
LAST-MODIFIED:20230206T155619Z
UID:26595-1678392000-1678406340@mokbpresents.com
SUMMARY:Drive-By Truckers
DESCRIPTION:
URL:https://mokbpresents.com/event/drive-by-truckers-2/
LOCATION:The Vogue\, 6259 N. College Ave\, Indianapolis\, IN\, 46220\, United States
END:VEVENT
BEGIN:VEVENT
DTSTART;TZID=America/Indiana/Indianapolis:20230311T190000
DTEND;TZID=America/Indiana/Indianapolis:20230311T210000
DTSTAMP:20260422T020409
CREATED:20230207T180055Z
LAST-MODIFIED:20230310T161345Z
UID:27368-1678561200-1678568400@mokbpresents.com
SUMMARY:Begonia - The Powder Blue Tour
DESCRIPTION:
URL:https://mokbpresents.com/event/begonia-the-powder-blue-tour/
LOCATION:LO-FI Lounge\, 1043 Virginia Ave #215\, Indianapolis\, IN\, 46203\, United States
CATEGORIES:21+
END:VEVENT
BEGIN:VEVENT
DTSTART;TZID=America/Indiana/Indianapolis:20230311T220000
DTEND;TZID=America/Indiana/Indianapolis:20230311T235900
DTSTAMP:20260422T020409
CREATED:20230217T152646Z
LAST-MODIFIED:20230220T201006Z
UID:27552-1678572000-1678579140@mokbpresents.com
SUMMARY:Songs For You - One Year Anniversary
DESCRIPTION:
URL:https://mokbpresents.com/event/songs-for-you-one-year-anniversary/
LOCATION:HI-FI\, 1043 Virginia Ave #4\, Indianapolis\, IN\, 46203\, United States
CATEGORIES:21+
ATTACH;FMTTYPE=image/png:https://cdn.kicksdigital.com/mokbpresents.com/2023/02/songs4you-1YA-web3.png
GEO:39.7525463;-86.1407527
X-APPLE-STRUCTURED-LOCATION;VALUE=URI;X-ADDRESS=HI-FI 1043 Virginia Ave #4 Indianapolis IN 46203 United States;X-APPLE-RADIUS=500;X-TITLE=1043 Virginia Ave #4:geo:-86.1407527,39.7525463
END:VEVENT
BEGIN:VEVENT
DTSTART;TZID=America/Indiana/Indianapolis:20230316T190000
DTEND;TZID=America/Indiana/Indianapolis:20230316T210000
DTSTAMP:20260422T020409
CREATED:20230203T154935Z
LAST-MODIFIED:20230216T162150Z
UID:27285-1678993200-1679000400@mokbpresents.com
SUMMARY:Clem Snide
DESCRIPTION:
URL:https://mokbpresents.com/event/clem-snide/
LOCATION:LO-FI Lounge\, 1043 Virginia Ave #215\, Indianapolis\, IN\, 46203\, United States
CATEGORIES:21+
END:VEVENT
BEGIN:VEVENT
DTSTART;TZID=America/Indiana/Indianapolis:20230317T200000
DTEND;TZID=America/Indiana/Indianapolis:20230317T235900
DTSTAMP:20260422T020409
CREATED:20230103T170005Z
LAST-MODIFIED:20230316T142824Z
UID:26819-1679083200-1679097540@mokbpresents.com
SUMMARY:Huckleberry Funk + Joe Hertler & The Rainbow Seekers
DESCRIPTION:
URL:https://mokbpresents.com/event/huckleberry-funk-joe-hertler-the-rainbow-seekers/
LOCATION:HI-FI\, 1043 Virginia Ave #4\, Indianapolis\, IN\, 46203\, United States
CATEGORIES:18+
GEO:39.7525463;-86.1407527
X-APPLE-STRUCTURED-LOCATION;VALUE=URI;X-ADDRESS=HI-FI 1043 Virginia Ave #4 Indianapolis IN 46203 United States;X-APPLE-RADIUS=500;X-TITLE=1043 Virginia Ave #4:geo:-86.1407527,39.7525463
END:VEVENT
BEGIN:VEVENT
DTSTART;TZID=America/Indiana/Indianapolis:20230318T190000
DTEND;TZID=America/Indiana/Indianapolis:20230318T210000
DTSTAMP:20260422T020409
CREATED:20221213T150036Z
LAST-MODIFIED:20230216T162238Z
UID:26663-1679166000-1679173200@mokbpresents.com
SUMMARY:Cory Branan
DESCRIPTION:
URL:https://mokbpresents.com/event/cory-branan/
LOCATION:LO-FI Lounge\, 1043 Virginia Ave #215\, Indianapolis\, IN\, 46203\, United States
CATEGORIES:21+
END:VEVENT
BEGIN:VEVENT
DTSTART;TZID=America/Indiana/Indianapolis:20230318T210000
DTEND;TZID=America/Indiana/Indianapolis:20230318T235900
DTSTAMP:20260422T020409
CREATED:20221209T170612Z
LAST-MODIFIED:20230316T142757Z
UID:26628-1679173200-1679183940@mokbpresents.com
SUMMARY:Sierra Hull
DESCRIPTION:
URL:https://mokbpresents.com/event/sierra-hull/
LOCATION:HI-FI\, 1043 Virginia Ave #4\, Indianapolis\, IN\, 46203\, United States
CATEGORIES:18+
GEO:39.7525463;-86.1407527
X-APPLE-STRUCTURED-LOCATION;VALUE=URI;X-ADDRESS=HI-FI 1043 Virginia Ave #4 Indianapolis IN 46203 United States;X-APPLE-RADIUS=500;X-TITLE=1043 Virginia Ave #4:geo:-86.1407527,39.7525463
END:VEVENT
BEGIN:VEVENT
DTSTART;TZID=America/Indiana/Indianapolis:20230323T193000
DTEND;TZID=America/Indiana/Indianapolis:20230323T220000
DTSTAMP:20260422T020409
CREATED:20221212T160024Z
LAST-MODIFIED:20230320T145358Z
UID:26648-1679599800-1679608800@mokbpresents.com
SUMMARY:Jordy Searcy
DESCRIPTION:
URL:https://mokbpresents.com/event/jordy-searcy/
LOCATION:HI-FI\, 1043 Virginia Ave #4\, Indianapolis\, IN\, 46203\, United States
CATEGORIES:18+
GEO:39.7525463;-86.1407527
X-APPLE-STRUCTURED-LOCATION;VALUE=URI;X-ADDRESS=HI-FI 1043 Virginia Ave #4 Indianapolis IN 46203 United States;X-APPLE-RADIUS=500;X-TITLE=1043 Virginia Ave #4:geo:-86.1407527,39.7525463
END:VEVENT
BEGIN:VEVENT
DTSTART;TZID=America/Indiana/Indianapolis:20230324T193000
DTEND;TZID=America/Indiana/Indianapolis:20230324T210000
DTSTAMP:20260422T020409
CREATED:20221215T154802Z
LAST-MODIFIED:20230216T162326Z
UID:26743-1679686200-1679691600@mokbpresents.com
SUMMARY:An Evening With Sunny War
DESCRIPTION:
URL:https://mokbpresents.com/event/an-evening-with-sunny-war/
LOCATION:LO-FI Lounge\, 1043 Virginia Ave #215\, Indianapolis\, IN\, 46203\, United States
CATEGORIES:21+
END:VEVENT
BEGIN:VEVENT
DTSTART;TZID=America/Indiana/Indianapolis:20230324T210000
DTEND;TZID=America/Indiana/Indianapolis:20230324T233000
DTSTAMP:20260422T020409
CREATED:20230222T160005Z
LAST-MODIFIED:20230324T162527Z
UID:27668-1679691600-1679700600@mokbpresents.com
SUMMARY:Chase Wright - Hurt No More Tour
DESCRIPTION:
URL:https://mokbpresents.com/event/chase-wright-hurt-no-more-tour/
LOCATION:HI-FI\, 1043 Virginia Ave #4\, Indianapolis\, IN\, 46203\, United States
CATEGORIES:18+
GEO:39.7525463;-86.1407527
X-APPLE-STRUCTURED-LOCATION;VALUE=URI;X-ADDRESS=HI-FI 1043 Virginia Ave #4 Indianapolis IN 46203 United States;X-APPLE-RADIUS=500;X-TITLE=1043 Virginia Ave #4:geo:-86.1407527,39.7525463
END:VEVENT
BEGIN:VEVENT
DTSTART;TZID=America/Indiana/Indianapolis:20230325T193000
DTEND;TZID=America/Indiana/Indianapolis:20230325T235900
DTSTAMP:20260422T020409
CREATED:20221214T170440Z
LAST-MODIFIED:20230325T214604Z
UID:26712-1679772600-1679788740@mokbpresents.com
SUMMARY:SOLD OUT: Grayscale
DESCRIPTION:
URL:https://mokbpresents.com/event/grayscale/
LOCATION:HI-FI\, 1043 Virginia Ave #4\, Indianapolis\, IN\, 46203\, United States
CATEGORIES:18+
GEO:39.7525463;-86.1407527
X-APPLE-STRUCTURED-LOCATION;VALUE=URI;X-ADDRESS=HI-FI 1043 Virginia Ave #4 Indianapolis IN 46203 United States;X-APPLE-RADIUS=500;X-TITLE=1043 Virginia Ave #4:geo:-86.1407527,39.7525463
END:VEVENT
BEGIN:VEVENT
DTSTART;TZID=America/Indiana/Indianapolis:20230326T193000
DTEND;TZID=America/Indiana/Indianapolis:20230326T233000
DTSTAMP:20260422T020409
CREATED:20230220T174920Z
LAST-MODIFIED:20230321T201551Z
UID:26548-1679859000-1679873400@mokbpresents.com
SUMMARY:SOLD OUT: Real Friends + Knuckle Puck
DESCRIPTION:
URL:https://mokbpresents.com/event/real-friends-knuckle-puck/
LOCATION:HI-FI\, 1043 Virginia Ave #4\, Indianapolis\, IN\, 46203\, United States
CATEGORIES:18+
ATTACH;FMTTYPE=image/png:https://cdn.kicksdigital.com/mokbpresents.com/2022/12/kpuck-realfriends.png
GEO:39.7525463;-86.1407527
X-APPLE-STRUCTURED-LOCATION;VALUE=URI;X-ADDRESS=HI-FI 1043 Virginia Ave #4 Indianapolis IN 46203 United States;X-APPLE-RADIUS=500;X-TITLE=1043 Virginia Ave #4:geo:-86.1407527,39.7525463
END:VEVENT
BEGIN:VEVENT
DTSTART;TZID=America/Indiana/Indianapolis:20230328T200000
DTEND;TZID=America/Indiana/Indianapolis:20230328T233000
DTSTAMP:20260422T020409
CREATED:20230120T170051Z
LAST-MODIFIED:20230216T162426Z
UID:27068-1680033600-1680046200@mokbpresents.com
SUMMARY:Michigan Rattlers
DESCRIPTION:
URL:https://mokbpresents.com/event/michigan-rattlers/
LOCATION:HI-FI\, 1043 Virginia Ave #4\, Indianapolis\, IN\, 46203\, United States
CATEGORIES:18+
GEO:39.7525463;-86.1407527
X-APPLE-STRUCTURED-LOCATION;VALUE=URI;X-ADDRESS=HI-FI 1043 Virginia Ave #4 Indianapolis IN 46203 United States;X-APPLE-RADIUS=500;X-TITLE=1043 Virginia Ave #4:geo:-86.1407527,39.7525463
END:VEVENT
BEGIN:VEVENT
DTSTART;TZID=America/Indiana/Indianapolis:20230330T200000
DTEND;TZID=America/Indiana/Indianapolis:20230330T233000
DTSTAMP:20260422T020409
CREATED:20221214T180056Z
LAST-MODIFIED:20230216T162512Z
UID:26683-1680206400-1680219000@mokbpresents.com
SUMMARY:Shwayze
DESCRIPTION:
URL:https://mokbpresents.com/event/shwayze/
LOCATION:HI-FI\, 1043 Virginia Ave #4\, Indianapolis\, IN\, 46203\, United States
CATEGORIES:18+
GEO:39.7525463;-86.1407527
X-APPLE-STRUCTURED-LOCATION;VALUE=URI;X-ADDRESS=HI-FI 1043 Virginia Ave #4 Indianapolis IN 46203 United States;X-APPLE-RADIUS=500;X-TITLE=1043 Virginia Ave #4:geo:-86.1407527,39.7525463
END:VEVENT
BEGIN:VEVENT
DTSTART;TZID=America/Indiana/Indianapolis:20230331T190000
DTEND;TZID=America/Indiana/Indianapolis:20230331T210000
DTSTAMP:20260422T020409
CREATED:20230119T154343Z
LAST-MODIFIED:20230216T162554Z
UID:27052-1680289200-1680296400@mokbpresents.com
SUMMARY:Feverdream.
DESCRIPTION:
URL:https://mokbpresents.com/event/feverdream/
LOCATION:LO-FI Lounge\, 1043 Virginia Ave #215\, Indianapolis\, IN\, 46203\, United States
CATEGORIES:21+
END:VEVENT
BEGIN:VEVENT
DTSTART;TZID=America/Indiana/Indianapolis:20230331T210000
DTEND;TZID=America/Indiana/Indianapolis:20230331T235900
DTSTAMP:20260422T020409
CREATED:20230201T180052Z
LAST-MODIFIED:20230216T162609Z
UID:27035-1680296400-1680307140@mokbpresents.com
SUMMARY:Jackie Greene
DESCRIPTION:
URL:https://mokbpresents.com/event/jackie-greene/
LOCATION:HI-FI\, 1043 Virginia Ave #4\, Indianapolis\, IN\, 46203\, United States
CATEGORIES:18+
GEO:39.7525463;-86.1407527
X-APPLE-STRUCTURED-LOCATION;VALUE=URI;X-ADDRESS=HI-FI 1043 Virginia Ave #4 Indianapolis IN 46203 United States;X-APPLE-RADIUS=500;X-TITLE=1043 Virginia Ave #4:geo:-86.1407527,39.7525463
END:VEVENT
END:VCALENDAR