BEGIN:VCALENDAR
VERSION:2.0
PRODID:-//MOKB Presents - ECPv6.15.16.1//NONSGML v1.0//EN
CALSCALE:GREGORIAN
METHOD:PUBLISH
X-WR-CALNAME:MOKB Presents
X-ORIGINAL-URL:https://mokbpresents.com
X-WR-CALDESC:Events for MOKB Presents
REFRESH-INTERVAL;VALUE=DURATION:PT1H
X-Robots-Tag:noindex
X-PUBLISHED-TTL:PT1H
BEGIN:VTIMEZONE
TZID:America/Indiana/Indianapolis
BEGIN:DAYLIGHT
TZOFFSETFROM:-0500
TZOFFSETTO:-0400
TZNAME:EDT
DTSTART:20220313T070000
END:DAYLIGHT
BEGIN:STANDARD
TZOFFSETFROM:-0400
TZOFFSETTO:-0500
TZNAME:EST
DTSTART:20221106T060000
END:STANDARD
BEGIN:DAYLIGHT
TZOFFSETFROM:-0500
TZOFFSETTO:-0400
TZNAME:EDT
DTSTART:20230312T070000
END:DAYLIGHT
BEGIN:STANDARD
TZOFFSETFROM:-0400
TZOFFSETTO:-0500
TZNAME:EST
DTSTART:20231105T060000
END:STANDARD
BEGIN:DAYLIGHT
TZOFFSETFROM:-0500
TZOFFSETTO:-0400
TZNAME:EDT
DTSTART:20240310T070000
END:DAYLIGHT
BEGIN:STANDARD
TZOFFSETFROM:-0400
TZOFFSETTO:-0500
TZNAME:EST
DTSTART:20241103T060000
END:STANDARD
END:VTIMEZONE
BEGIN:VEVENT
DTSTART;TZID=America/Indiana/Indianapolis:20230502T200000
DTEND;TZID=America/Indiana/Indianapolis:20230502T233000
DTSTAMP:20260422T004856
CREATED:20230203T152924Z
LAST-MODIFIED:20230216T164109Z
UID:27280-1683057600-1683070200@mokbpresents.com
SUMMARY:Annie DiRusso - God\, I Love This Tour
DESCRIPTION:
URL:https://mokbpresents.com/event/annie-dirusso-god-i-love-this-tour/
LOCATION:HI-FI\, 1043 Virginia Ave #4\, Indianapolis\, IN\, 46203\, United States
CATEGORIES:18+
GEO:39.7525463;-86.1407527
X-APPLE-STRUCTURED-LOCATION;VALUE=URI;X-ADDRESS=HI-FI 1043 Virginia Ave #4 Indianapolis IN 46203 United States;X-APPLE-RADIUS=500;X-TITLE=1043 Virginia Ave #4:geo:-86.1407527,39.7525463
END:VEVENT
BEGIN:VEVENT
DTSTART;TZID=America/Indiana/Indianapolis:20230503T200000
DTEND;TZID=America/Indiana/Indianapolis:20230503T233000
DTSTAMP:20260422T004856
CREATED:20230117T170018Z
LAST-MODIFIED:20230503T145301Z
UID:27003-1683144000-1683156600@mokbpresents.com
SUMMARY:Kitchen Dwellers
DESCRIPTION:
URL:https://mokbpresents.com/event/kitchen-dwellers/
LOCATION:HI-FI\, 1043 Virginia Ave #4\, Indianapolis\, IN\, 46203\, United States
CATEGORIES:18+,Bluegrass,Jam
GEO:39.7525463;-86.1407527
X-APPLE-STRUCTURED-LOCATION;VALUE=URI;X-ADDRESS=HI-FI 1043 Virginia Ave #4 Indianapolis IN 46203 United States;X-APPLE-RADIUS=500;X-TITLE=1043 Virginia Ave #4:geo:-86.1407527,39.7525463
END:VEVENT
BEGIN:VEVENT
DTSTART;TZID=America/Indiana/Indianapolis:20230504T190000
DTEND;TZID=America/Indiana/Indianapolis:20230504T220000
DTSTAMP:20260422T004856
CREATED:20230208T180017Z
LAST-MODIFIED:20230426T174026Z
UID:27403-1683226800-1683237600@mokbpresents.com
SUMMARY:PROF - The Workhorse Tour
DESCRIPTION:
URL:https://mokbpresents.com/event/prof-the-workhorse-tour/
LOCATION:HI-FI Annex\, 1065 St. Patrick St\, Indianapolis\, IN\, 46203\, United States
CATEGORIES:All Ages,Hip Hop/Rap
END:VEVENT
BEGIN:VEVENT
DTSTART;TZID=America/Indiana/Indianapolis:20230504T200000
DTEND;TZID=America/Indiana/Indianapolis:20230504T233000
DTSTAMP:20260422T004856
CREATED:20230111T175119Z
LAST-MODIFIED:20230216T164249Z
UID:26951-1683230400-1683243000@mokbpresents.com
SUMMARY:Fucked Up
DESCRIPTION:
URL:https://mokbpresents.com/event/fucked-up/
LOCATION:HI-FI\, 1043 Virginia Ave #4\, Indianapolis\, IN\, 46203\, United States
CATEGORIES:18+
GEO:39.7525463;-86.1407527
X-APPLE-STRUCTURED-LOCATION;VALUE=URI;X-ADDRESS=HI-FI 1043 Virginia Ave #4 Indianapolis IN 46203 United States;X-APPLE-RADIUS=500;X-TITLE=1043 Virginia Ave #4:geo:-86.1407527,39.7525463
END:VEVENT
BEGIN:VEVENT
DTSTART;TZID=America/Indiana/Indianapolis:20230505T210000
DTEND;TZID=America/Indiana/Indianapolis:20230505T233000
DTSTAMP:20260422T004856
CREATED:20230224T150003Z
LAST-MODIFIED:20230503T150623Z
UID:27709-1683320400-1683329400@mokbpresents.com
SUMMARY:Avery Anna
DESCRIPTION:
URL:https://mokbpresents.com/event/avery-anna/
LOCATION:HI-FI\, 1043 Virginia Ave #4\, Indianapolis\, IN\, 46203\, United States
CATEGORIES:18+,Promo: $20 All-In Tickets 2025
GEO:39.7525463;-86.1407527
X-APPLE-STRUCTURED-LOCATION;VALUE=URI;X-ADDRESS=HI-FI 1043 Virginia Ave #4 Indianapolis IN 46203 United States;X-APPLE-RADIUS=500;X-TITLE=1043 Virginia Ave #4:geo:-86.1407527,39.7525463
END:VEVENT
BEGIN:VEVENT
DTSTART;TZID=America/Indiana/Indianapolis:20230506T180000
DTEND;TZID=America/Indiana/Indianapolis:20230506T220000
DTSTAMP:20260422T004856
CREATED:20230215T150014Z
LAST-MODIFIED:20230505T184532Z
UID:27502-1683396000-1683410400@mokbpresents.com
SUMMARY:Smells Like Nirvana
DESCRIPTION:
URL:https://mokbpresents.com/event/smells-like-nirvana-a-tribute-to-nirvana-2/
LOCATION:HI-FI Annex\, 1065 St. Patrick St\, Indianapolis\, IN\, 46203\, United States
CATEGORIES:All Ages,Promo: $20 All-In Tickets 2025
END:VEVENT
BEGIN:VEVENT
DTSTART;TZID=America/Indiana/Indianapolis:20230506T210000
DTEND;TZID=America/Indiana/Indianapolis:20230506T233000
DTSTAMP:20260422T004856
CREATED:20230228T170010Z
LAST-MODIFIED:20230228T172333Z
UID:27769-1683406800-1683415800@mokbpresents.com
SUMMARY:Dogs In A Pile
DESCRIPTION:
URL:https://mokbpresents.com/event/dogs-in-a-pile-2/
LOCATION:HI-FI\, 1043 Virginia Ave #4\, Indianapolis\, IN\, 46203\, United States
CATEGORIES:18+
GEO:39.7525463;-86.1407527
X-APPLE-STRUCTURED-LOCATION;VALUE=URI;X-ADDRESS=HI-FI 1043 Virginia Ave #4 Indianapolis IN 46203 United States;X-APPLE-RADIUS=500;X-TITLE=1043 Virginia Ave #4:geo:-86.1407527,39.7525463
END:VEVENT
BEGIN:VEVENT
DTSTART;TZID=America/Indiana/Indianapolis:20230507T200000
DTEND;TZID=America/Indiana/Indianapolis:20230507T230000
DTSTAMP:20260422T004856
CREATED:20230223T150041Z
LAST-MODIFIED:20230223T153244Z
UID:27691-1683489600-1683500400@mokbpresents.com
SUMMARY:Jake Towe - Album Release Show
DESCRIPTION:
URL:https://mokbpresents.com/event/jake-towe-album-release-show/
LOCATION:HI-FI\, 1043 Virginia Ave #4\, Indianapolis\, IN\, 46203\, United States
CATEGORIES:18+
GEO:39.7525463;-86.1407527
X-APPLE-STRUCTURED-LOCATION;VALUE=URI;X-ADDRESS=HI-FI 1043 Virginia Ave #4 Indianapolis IN 46203 United States;X-APPLE-RADIUS=500;X-TITLE=1043 Virginia Ave #4:geo:-86.1407527,39.7525463
END:VEVENT
BEGIN:VEVENT
DTSTART;TZID=America/Indiana/Indianapolis:20230511T193000
DTEND;TZID=America/Indiana/Indianapolis:20230511T220000
DTSTAMP:20260422T004856
CREATED:20230221T150013Z
LAST-MODIFIED:20230508T150439Z
UID:27606-1683833400-1683842400@mokbpresents.com
SUMMARY:UPSAHL - This Is Still My First Headline Tour
DESCRIPTION:
URL:https://mokbpresents.com/event/upsahl-this-is-still-my-first-headline-tour/
LOCATION:HI-FI Annex\, 1065 St. Patrick St\, Indianapolis\, IN\, 46203\, United States
CATEGORIES:All Ages,Promo: $20 All-In Tickets 2025
END:VEVENT
BEGIN:VEVENT
DTSTART;TZID=America/Indiana/Indianapolis:20230511T200000
DTEND;TZID=America/Indiana/Indianapolis:20230511T233000
DTSTAMP:20260422T004856
CREATED:20230215T141336Z
LAST-MODIFIED:20230503T150709Z
UID:27496-1683835200-1683847800@mokbpresents.com
SUMMARY:Brick + Mortar
DESCRIPTION:
URL:https://mokbpresents.com/event/brick-mortar/
LOCATION:HI-FI\, 1043 Virginia Ave #4\, Indianapolis\, IN\, 46203\, United States
CATEGORIES:18+,Promo: $20 All-In Tickets 2025
GEO:39.7525463;-86.1407527
X-APPLE-STRUCTURED-LOCATION;VALUE=URI;X-ADDRESS=HI-FI 1043 Virginia Ave #4 Indianapolis IN 46203 United States;X-APPLE-RADIUS=500;X-TITLE=1043 Virginia Ave #4:geo:-86.1407527,39.7525463
END:VEVENT
BEGIN:VEVENT
DTSTART;TZID=America/Indiana/Indianapolis:20230512T180000
DTEND;TZID=America/Indiana/Indianapolis:20230512T220000
DTSTAMP:20260422T004856
CREATED:20221128T170051Z
LAST-MODIFIED:20230512T160503Z
UID:26408-1683914400-1683928800@mokbpresents.com
SUMMARY:Bury Tomorrow - The Seventh Sun Tour
DESCRIPTION:
URL:https://mokbpresents.com/event/bury-tomorrow-the-seventh-sun-tour/
LOCATION:HI-FI Annex\, 1065 St. Patrick St\, Indianapolis\, IN\, 46203\, United States
CATEGORIES:All Ages,Metal/Hardcore,Promo: $20 All-In Tickets 2025
END:VEVENT
BEGIN:VEVENT
DTSTART;TZID=America/Indiana/Indianapolis:20230512T200000
DTEND;TZID=America/Indiana/Indianapolis:20230512T233000
DTSTAMP:20260422T004856
CREATED:20230505T150030Z
LAST-MODIFIED:20230505T151246Z
UID:27597-1683921600-1683934200@mokbpresents.com
SUMMARY:Doyle (of Misfits)
DESCRIPTION:
URL:https://mokbpresents.com/event/doyle-of-misfits/
LOCATION:HI-FI\, 1043 Virginia Ave #4\, Indianapolis\, IN\, 46203\, United States
CATEGORIES:18+,Promo: $20 All-In Tickets 2025
GEO:39.7525463;-86.1407527
X-APPLE-STRUCTURED-LOCATION;VALUE=URI;X-ADDRESS=HI-FI 1043 Virginia Ave #4 Indianapolis IN 46203 United States;X-APPLE-RADIUS=500;X-TITLE=1043 Virginia Ave #4:geo:-86.1407527,39.7525463
END:VEVENT
BEGIN:VEVENT
DTSTART;TZID=America/Indiana/Indianapolis:20230513T193000
DTEND;TZID=America/Indiana/Indianapolis:20230513T220000
DTSTAMP:20260422T004856
CREATED:20230308T151231Z
LAST-MODIFIED:20230512T165725Z
UID:27617-1684006200-1684015200@mokbpresents.com
SUMMARY:Sueco - Wasted Space World Tour
DESCRIPTION:
URL:https://mokbpresents.com/event/sueco-wasted-space-world-tour/
LOCATION:HI-FI Annex\, 1065 St. Patrick St\, Indianapolis\, IN\, 46203\, United States
CATEGORIES:All Ages
END:VEVENT
BEGIN:VEVENT
DTSTART;TZID=America/Indiana/Indianapolis:20230513T200000
DTEND;TZID=America/Indiana/Indianapolis:20230513T233000
DTSTAMP:20260422T004856
CREATED:20230330T150030Z
LAST-MODIFIED:20230426T184735Z
UID:28161-1684008000-1684020600@mokbpresents.com
SUMMARY:The Silver Birds - Album Release Show
DESCRIPTION:
URL:https://mokbpresents.com/event/the-silver-birds-album-release-show/
LOCATION:HI-FI\, 1043 Virginia Ave #4\, Indianapolis\, IN\, 46203\, United States
CATEGORIES:18+
GEO:39.7525463;-86.1407527
X-APPLE-STRUCTURED-LOCATION;VALUE=URI;X-ADDRESS=HI-FI 1043 Virginia Ave #4 Indianapolis IN 46203 United States;X-APPLE-RADIUS=500;X-TITLE=1043 Virginia Ave #4:geo:-86.1407527,39.7525463
END:VEVENT
BEGIN:VEVENT
DTSTART;TZID=America/Indiana/Indianapolis:20230514T200000
DTEND;TZID=America/Indiana/Indianapolis:20230514T233000
DTSTAMP:20260422T004856
CREATED:20230206T153504Z
LAST-MODIFIED:20230503T150749Z
UID:27299-1684094400-1684107000@mokbpresents.com
SUMMARY:Matthew Logan Vasquez
DESCRIPTION:
URL:https://mokbpresents.com/event/matthew-logan-vasquez/
LOCATION:HI-FI\, 1043 Virginia Ave #4\, Indianapolis\, IN\, 46203\, United States
CATEGORIES:18+,Promo: $20 All-In Tickets 2025
GEO:39.7525463;-86.1407527
X-APPLE-STRUCTURED-LOCATION;VALUE=URI;X-ADDRESS=HI-FI 1043 Virginia Ave #4 Indianapolis IN 46203 United States;X-APPLE-RADIUS=500;X-TITLE=1043 Virginia Ave #4:geo:-86.1407527,39.7525463
END:VEVENT
BEGIN:VEVENT
DTSTART;TZID=America/Indiana/Indianapolis:20230516T200000
DTEND;TZID=America/Indiana/Indianapolis:20230516T230000
DTSTAMP:20260422T004856
CREATED:20230301T160045Z
LAST-MODIFIED:20230516T183914Z
UID:27795-1684267200-1684278000@mokbpresents.com
SUMMARY:Read Southall Band
DESCRIPTION:
URL:https://mokbpresents.com/event/read-southall-band-3/
LOCATION:HI-FI\, 1043 Virginia Ave #4\, Indianapolis\, IN\, 46203\, United States
CATEGORIES:18+,Promo: $20 All-In Tickets 2025
GEO:39.7525463;-86.1407527
X-APPLE-STRUCTURED-LOCATION;VALUE=URI;X-ADDRESS=HI-FI 1043 Virginia Ave #4 Indianapolis IN 46203 United States;X-APPLE-RADIUS=500;X-TITLE=1043 Virginia Ave #4:geo:-86.1407527,39.7525463
END:VEVENT
BEGIN:VEVENT
DTSTART;TZID=America/Indiana/Indianapolis:20230517T200000
DTEND;TZID=America/Indiana/Indianapolis:20230517T233000
DTSTAMP:20260422T004856
CREATED:20220921T140023Z
LAST-MODIFIED:20230512T160759Z
UID:25697-1684353600-1684366200@mokbpresents.com
SUMMARY:Southern Culture On The Skids
DESCRIPTION:
URL:https://mokbpresents.com/event/southern-culture-on-the-skids/
LOCATION:HI-FI\, 1043 Virginia Ave #4\, Indianapolis\, IN\, 46203\, United States
CATEGORIES:18+,Promo: $20 All-In Tickets 2025
ATTACH;FMTTYPE=image/png:https://cdn.kicksdigital.com/mokbpresents.com/2022/09/SCOTS.png
GEO:39.7525463;-86.1407527
X-APPLE-STRUCTURED-LOCATION;VALUE=URI;X-ADDRESS=HI-FI 1043 Virginia Ave #4 Indianapolis IN 46203 United States;X-APPLE-RADIUS=500;X-TITLE=1043 Virginia Ave #4:geo:-86.1407527,39.7525463
END:VEVENT
BEGIN:VEVENT
DTSTART;TZID=America/Indiana/Indianapolis:20230519T183000
DTEND;TZID=America/Indiana/Indianapolis:20230519T220000
DTSTAMP:20260422T004857
CREATED:20230302T170034Z
LAST-MODIFIED:20230516T201533Z
UID:27852-1684521000-1684533600@mokbpresents.com
SUMMARY:Senses Fail - Hell Is In Your Head Tour
DESCRIPTION:
URL:https://mokbpresents.com/event/senses-fail-hell-is-in-your-head-tour/
LOCATION:HI-FI Annex\, 1065 St. Patrick St\, Indianapolis\, IN\, 46203\, United States
CATEGORIES:All Ages
END:VEVENT
BEGIN:VEVENT
DTSTART;TZID=America/Indiana/Indianapolis:20230519T210000
DTEND;TZID=America/Indiana/Indianapolis:20230519T233000
DTSTAMP:20260422T004857
CREATED:20230303T152758Z
LAST-MODIFIED:20230510T162428Z
UID:27861-1684530000-1684539000@mokbpresents.com
SUMMARY:The Weeks
DESCRIPTION:
URL:https://mokbpresents.com/event/the-weeks/
LOCATION:HI-FI\, 1043 Virginia Ave #4\, Indianapolis\, IN\, 46203\, United States
CATEGORIES:18+,Promo: $20 All-In Tickets 2025,Promo: Thirsty Friends
GEO:39.7525463;-86.1407527
X-APPLE-STRUCTURED-LOCATION;VALUE=URI;X-ADDRESS=HI-FI 1043 Virginia Ave #4 Indianapolis IN 46203 United States;X-APPLE-RADIUS=500;X-TITLE=1043 Virginia Ave #4:geo:-86.1407527,39.7525463
END:VEVENT
BEGIN:VEVENT
DTSTART;TZID=America/Indiana/Indianapolis:20230520T190000
DTEND;TZID=America/Indiana/Indianapolis:20230520T220000
DTSTAMP:20260422T004857
CREATED:20230329T160059Z
LAST-MODIFIED:20230510T162359Z
UID:28137-1684609200-1684620000@mokbpresents.com
SUMMARY:Six Foot Blonde
DESCRIPTION:
URL:https://mokbpresents.com/event/six-foot-blonde-3/
LOCATION:HI-FI Annex\, 1065 St. Patrick St\, Indianapolis\, IN\, 46203\, United States
CATEGORIES:All Ages,Promo: $20 All-In Tickets 2025,Promo: Thirsty Friends
END:VEVENT
BEGIN:VEVENT
DTSTART;TZID=America/Indiana/Indianapolis:20230520T210000
DTEND;TZID=America/Indiana/Indianapolis:20230520T233000
DTSTAMP:20260422T004857
CREATED:20230307T152806Z
LAST-MODIFIED:20230516T184143Z
UID:27872-1684616400-1684625400@mokbpresents.com
SUMMARY:Amy Ray of Indigo Girls
DESCRIPTION:
URL:https://mokbpresents.com/event/amy-ray/
LOCATION:HI-FI\, 1043 Virginia Ave #4\, Indianapolis\, IN\, 46203\, United States
CATEGORIES:18+,Promo: $20 All-In Tickets 2025
GEO:39.7525463;-86.1407527
X-APPLE-STRUCTURED-LOCATION;VALUE=URI;X-ADDRESS=HI-FI 1043 Virginia Ave #4 Indianapolis IN 46203 United States;X-APPLE-RADIUS=500;X-TITLE=1043 Virginia Ave #4:geo:-86.1407527,39.7525463
END:VEVENT
BEGIN:VEVENT
DTSTART;TZID=America/Indiana/Indianapolis:20230521T180000
DTEND;TZID=America/Indiana/Indianapolis:20230521T220000
DTSTAMP:20260422T004857
CREATED:20230118T150813Z
LAST-MODIFIED:20230510T162503Z
UID:27027-1684692000-1684706400@mokbpresents.com
SUMMARY:Ugly Kid Joe w/ Fozzy
DESCRIPTION:
URL:https://mokbpresents.com/event/ugly-kid-joe-w-fozzy/
LOCATION:HI-FI Annex\, 1065 St. Patrick St\, Indianapolis\, IN\, 46203\, United States
CATEGORIES:All Ages,Promo: $20 All-In Tickets 2025,Promo: Thirsty Friends
END:VEVENT
BEGIN:VEVENT
DTSTART;TZID=America/Indiana/Indianapolis:20230521T200000
DTEND;TZID=America/Indiana/Indianapolis:20230521T230000
DTSTAMP:20260422T004857
CREATED:20230324T170008Z
LAST-MODIFIED:20230503T151307Z
UID:28034-1684699200-1684710000@mokbpresents.com
SUMMARY:Odie Leigh
DESCRIPTION:
URL:https://mokbpresents.com/event/odie-leigh/
LOCATION:HI-FI\, 1043 Virginia Ave #4\, Indianapolis\, IN\, 46203\, United States
CATEGORIES:18+,Promo: $20 All-In Tickets 2025
GEO:39.7525463;-86.1407527
X-APPLE-STRUCTURED-LOCATION;VALUE=URI;X-ADDRESS=HI-FI 1043 Virginia Ave #4 Indianapolis IN 46203 United States;X-APPLE-RADIUS=500;X-TITLE=1043 Virginia Ave #4:geo:-86.1407527,39.7525463
END:VEVENT
BEGIN:VEVENT
DTSTART;TZID=America/Indiana/Indianapolis:20230523T200000
DTEND;TZID=America/Indiana/Indianapolis:20230523T233000
DTSTAMP:20260422T004857
CREATED:20230117T175937Z
LAST-MODIFIED:20230512T161259Z
UID:27011-1684872000-1684884600@mokbpresents.com
SUMMARY:Pedro The Lion
DESCRIPTION:
URL:https://mokbpresents.com/event/pedro-the-lion-2/
LOCATION:HI-FI\, 1043 Virginia Ave #4\, Indianapolis\, IN\, 46203\, United States
CATEGORIES:18+
GEO:39.7525463;-86.1407527
X-APPLE-STRUCTURED-LOCATION;VALUE=URI;X-ADDRESS=HI-FI 1043 Virginia Ave #4 Indianapolis IN 46203 United States;X-APPLE-RADIUS=500;X-TITLE=1043 Virginia Ave #4:geo:-86.1407527,39.7525463
END:VEVENT
BEGIN:VEVENT
DTSTART;TZID=America/Indiana/Indianapolis:20230524T200000
DTEND;TZID=America/Indiana/Indianapolis:20230524T233000
DTSTAMP:20260422T004857
CREATED:20230322T140020Z
LAST-MODIFIED:20230510T162525Z
UID:28007-1684958400-1684971000@mokbpresents.com
SUMMARY:Ax and The Hatchetmen
DESCRIPTION:
URL:https://mokbpresents.com/event/ax-and-the-hatchetmen/
LOCATION:HI-FI\, 1043 Virginia Ave #4\, Indianapolis\, IN\, 46203\, United States
CATEGORIES:18+,Promo: Thirsty Friends
GEO:39.7525463;-86.1407527
X-APPLE-STRUCTURED-LOCATION;VALUE=URI;X-ADDRESS=HI-FI 1043 Virginia Ave #4 Indianapolis IN 46203 United States;X-APPLE-RADIUS=500;X-TITLE=1043 Virginia Ave #4:geo:-86.1407527,39.7525463
END:VEVENT
BEGIN:VEVENT
DTSTART;TZID=America/Indiana/Indianapolis:20230525T190000
DTEND;TZID=America/Indiana/Indianapolis:20230525T235900
DTSTAMP:20260422T004857
CREATED:20221206T170059Z
LAST-MODIFIED:20230522T201002Z
UID:26579-1685041200-1685059140@mokbpresents.com
SUMMARY:COLD
DESCRIPTION:
URL:https://mokbpresents.com/event/cold-2/
LOCATION:HI-FI\, 1043 Virginia Ave #4\, Indianapolis\, IN\, 46203\, United States
CATEGORIES:18+,Promo: $20 All-In Tickets 2025,Promo: Thirsty Friends
GEO:39.7525463;-86.1407527
X-APPLE-STRUCTURED-LOCATION;VALUE=URI;X-ADDRESS=HI-FI 1043 Virginia Ave #4 Indianapolis IN 46203 United States;X-APPLE-RADIUS=500;X-TITLE=1043 Virginia Ave #4:geo:-86.1407527,39.7525463
END:VEVENT
BEGIN:VEVENT
DTSTART;TZID=America/Indiana/Indianapolis:20230526T190000
DTEND;TZID=America/Indiana/Indianapolis:20230526T220000
DTSTAMP:20260422T004857
CREATED:20230522T160050Z
LAST-MODIFIED:20230522T181423Z
UID:28714-1685127600-1685138400@mokbpresents.com
SUMMARY:Melt w/ DJ Little Town
DESCRIPTION:
URL:https://mokbpresents.com/event/melt/
LOCATION:HI-FI Annex\, 1065 St. Patrick St\, Indianapolis\, IN\, 46203\, United States
CATEGORIES:All Ages,Promo: $20 All-In Tickets 2025,Promo: Thirsty Friends
ATTACH;FMTTYPE=image/jpeg:https://cdn.kicksdigital.com/mokbpresents.com/2023/05/MeltMorial-web.jpg
END:VEVENT
BEGIN:VEVENT
DTSTART;TZID=America/Indiana/Indianapolis:20230526T210000
DTEND;TZID=America/Indiana/Indianapolis:20230526T235900
DTSTAMP:20260422T004857
CREATED:20230123T153610Z
LAST-MODIFIED:20230522T201313Z
UID:27103-1685134800-1685145540@mokbpresents.com
SUMMARY:Giovannie & The Hired Guns
DESCRIPTION:
URL:https://mokbpresents.com/event/giovannie-the-hired-guns-2/
LOCATION:HI-FI\, 1043 Virginia Ave #4\, Indianapolis\, IN\, 46203\, United States
CATEGORIES:18+,Promo: $20 All-In Tickets 2025
GEO:39.7525463;-86.1407527
X-APPLE-STRUCTURED-LOCATION;VALUE=URI;X-ADDRESS=HI-FI 1043 Virginia Ave #4 Indianapolis IN 46203 United States;X-APPLE-RADIUS=500;X-TITLE=1043 Virginia Ave #4:geo:-86.1407527,39.7525463
END:VEVENT
BEGIN:VEVENT
DTSTART;TZID=America/Indiana/Indianapolis:20230527T210000
DTEND;TZID=America/Indiana/Indianapolis:20230527T233000
DTSTAMP:20260422T004857
CREATED:20230502T144117Z
LAST-MODIFIED:20230505T150928Z
UID:28708-1685221200-1685230200@mokbpresents.com
SUMMARY:Rock For Riley w/ Son Little
DESCRIPTION:
URL:https://mokbpresents.com/event/rock-for-riley-w-son-little/
LOCATION:HI-FI\, 1043 Virginia Ave #4\, Indianapolis\, IN\, 46203\, United States
CATEGORIES:18+
ATTACH;FMTTYPE=image/jpeg:https://cdn.kicksdigital.com/mokbpresents.com/2023/05/R4R-SonLittle.jpg
GEO:39.7525463;-86.1407527
X-APPLE-STRUCTURED-LOCATION;VALUE=URI;X-ADDRESS=HI-FI 1043 Virginia Ave #4 Indianapolis IN 46203 United States;X-APPLE-RADIUS=500;X-TITLE=1043 Virginia Ave #4:geo:-86.1407527,39.7525463
END:VEVENT
BEGIN:VEVENT
DTSTART;TZID=America/Indiana/Indianapolis:20230530T200000
DTEND;TZID=America/Indiana/Indianapolis:20230530T230000
DTSTAMP:20260422T004857
CREATED:20230328T160528Z
LAST-MODIFIED:20230530T165423Z
UID:28098-1685476800-1685487600@mokbpresents.com
SUMMARY:Jess Williamson
DESCRIPTION:
URL:https://mokbpresents.com/event/jess-williamson/
LOCATION:HI-FI\, 1043 Virginia Ave #4\, Indianapolis\, IN\, 46203\, United States
CATEGORIES:18+,Promo: $20 All-In Tickets 2025,Promo: Thirsty Friends
GEO:39.7525463;-86.1407527
X-APPLE-STRUCTURED-LOCATION;VALUE=URI;X-ADDRESS=HI-FI 1043 Virginia Ave #4 Indianapolis IN 46203 United States;X-APPLE-RADIUS=500;X-TITLE=1043 Virginia Ave #4:geo:-86.1407527,39.7525463
END:VEVENT
END:VCALENDAR