BEGIN:VCALENDAR
VERSION:2.0
PRODID:-//MOKB Presents - ECPv6.15.16.1//NONSGML v1.0//EN
CALSCALE:GREGORIAN
METHOD:PUBLISH
X-ORIGINAL-URL:https://mokbpresents.com
X-WR-CALDESC:Events for MOKB Presents
REFRESH-INTERVAL;VALUE=DURATION:PT1H
X-Robots-Tag:noindex
X-PUBLISHED-TTL:PT1H
BEGIN:VTIMEZONE
TZID:America/Indiana/Indianapolis
BEGIN:DAYLIGHT
TZOFFSETFROM:-0500
TZOFFSETTO:-0400
TZNAME:EDT
DTSTART:20230312T070000
END:DAYLIGHT
BEGIN:STANDARD
TZOFFSETFROM:-0400
TZOFFSETTO:-0500
TZNAME:EST
DTSTART:20231105T060000
END:STANDARD
BEGIN:DAYLIGHT
TZOFFSETFROM:-0500
TZOFFSETTO:-0400
TZNAME:EDT
DTSTART:20240310T070000
END:DAYLIGHT
BEGIN:STANDARD
TZOFFSETFROM:-0400
TZOFFSETTO:-0500
TZNAME:EST
DTSTART:20241103T060000
END:STANDARD
BEGIN:DAYLIGHT
TZOFFSETFROM:-0500
TZOFFSETTO:-0400
TZNAME:EDT
DTSTART:20250309T070000
END:DAYLIGHT
BEGIN:STANDARD
TZOFFSETFROM:-0400
TZOFFSETTO:-0500
TZNAME:EST
DTSTART:20251102T060000
END:STANDARD
END:VTIMEZONE
BEGIN:VEVENT
DTSTART;TZID=America/Indiana/Indianapolis:20240401T193000
DTEND;TZID=America/Indiana/Indianapolis:20240401T233000
DTSTAMP:20260421T055520
CREATED:20240116T150113Z
LAST-MODIFIED:20240401T193659Z
UID:31826-1711999800-1712014200@mokbpresents.com
SUMMARY:Teen Mortgage
DESCRIPTION:
URL:https://mokbpresents.com/event/teen-mortgage/
LOCATION:HI-FI\, 1043 Virginia Ave #4\, Indianapolis\, IN\, 46203\, United States
CATEGORIES:All Ages,Promo: Thirsty Friends
GEO:39.7525463;-86.1407527
X-APPLE-STRUCTURED-LOCATION;VALUE=URI;X-ADDRESS=HI-FI 1043 Virginia Ave #4 Indianapolis IN 46203 United States;X-APPLE-RADIUS=500;X-TITLE=1043 Virginia Ave #4:geo:-86.1407527,39.7525463
END:VEVENT
BEGIN:VEVENT
DTSTART;TZID=America/Indiana/Indianapolis:20240402T200000
DTEND;TZID=America/Indiana/Indianapolis:20240402T233000
DTSTAMP:20260421T055520
CREATED:20231211T180004Z
LAST-MODIFIED:20240402T140211Z
UID:31513-1712088000-1712100600@mokbpresents.com
SUMMARY:TWRP
DESCRIPTION:
URL:https://mokbpresents.com/event/twrp-digital-nightmare-2024-tour/
LOCATION:HI-FI\, 1043 Virginia Ave #4\, Indianapolis\, IN\, 46203\, United States
CATEGORIES:18+
GEO:39.7525463;-86.1407527
X-APPLE-STRUCTURED-LOCATION;VALUE=URI;X-ADDRESS=HI-FI 1043 Virginia Ave #4 Indianapolis IN 46203 United States;X-APPLE-RADIUS=500;X-TITLE=1043 Virginia Ave #4:geo:-86.1407527,39.7525463
END:VEVENT
BEGIN:VEVENT
DTSTART;TZID=America/Indiana/Indianapolis:20240403T200000
DTEND;TZID=America/Indiana/Indianapolis:20240403T233000
DTSTAMP:20260421T055520
CREATED:20240213T160021Z
LAST-MODIFIED:20240403T194742Z
UID:32238-1712174400-1712187000@mokbpresents.com
SUMMARY:Breland
DESCRIPTION:
URL:https://mokbpresents.com/event/breland-little-more-countrier-tour/
LOCATION:HI-FI\, 1043 Virginia Ave #4\, Indianapolis\, IN\, 46203\, United States
CATEGORIES:All Ages,Promo: Thirsty Friends
GEO:39.7525463;-86.1407527
X-APPLE-STRUCTURED-LOCATION;VALUE=URI;X-ADDRESS=HI-FI 1043 Virginia Ave #4 Indianapolis IN 46203 United States;X-APPLE-RADIUS=500;X-TITLE=1043 Virginia Ave #4:geo:-86.1407527,39.7525463
END:VEVENT
BEGIN:VEVENT
DTSTART;TZID=America/Indiana/Indianapolis:20240404T190000
DTEND;TZID=America/Indiana/Indianapolis:20240404T210000
DTSTAMP:20260421T055520
CREATED:20240105T150016Z
LAST-MODIFIED:20240404T125155Z
UID:31694-1712257200-1712264400@mokbpresents.com
SUMMARY:Adam Paddock
DESCRIPTION:
URL:https://mokbpresents.com/event/adam-paddock/
LOCATION:LO-FI Lounge\, 1043 Virginia Ave #215\, Indianapolis\, IN\, 46203\, United States
CATEGORIES:21+,Promo: Thirsty Friends
END:VEVENT
BEGIN:VEVENT
DTSTART;TZID=America/Indiana/Indianapolis:20240404T200000
DTEND;TZID=America/Indiana/Indianapolis:20240404T233000
DTSTAMP:20260421T055520
CREATED:20240118T170019Z
LAST-MODIFIED:20240404T164220Z
UID:31896-1712260800-1712273400@mokbpresents.com
SUMMARY:Free Throw
DESCRIPTION:
URL:https://mokbpresents.com/event/free-throw/
LOCATION:HI-FI\, 1043 Virginia Ave #4\, Indianapolis\, IN\, 46203\, United States
CATEGORIES:All Ages
GEO:39.7525463;-86.1407527
X-APPLE-STRUCTURED-LOCATION;VALUE=URI;X-ADDRESS=HI-FI 1043 Virginia Ave #4 Indianapolis IN 46203 United States;X-APPLE-RADIUS=500;X-TITLE=1043 Virginia Ave #4:geo:-86.1407527,39.7525463
END:VEVENT
BEGIN:VEVENT
DTSTART;TZID=America/Indiana/Indianapolis:20240405T190000
DTEND;TZID=America/Indiana/Indianapolis:20240405T210000
DTSTAMP:20260421T055520
CREATED:20240223T150049Z
LAST-MODIFIED:20240403T194757Z
UID:32401-1712343600-1712350800@mokbpresents.com
SUMMARY:Bayem
DESCRIPTION:
URL:https://mokbpresents.com/event/free-first-friday-bayem/
LOCATION:LO-FI Lounge\, 1043 Virginia Ave #215\, Indianapolis\, IN\, 46203\, United States
CATEGORIES:21+
END:VEVENT
BEGIN:VEVENT
DTSTART;TZID=America/Indiana/Indianapolis:20240405T190000
DTEND;TZID=America/Indiana/Indianapolis:20240405T233000
DTSTAMP:20260421T055520
CREATED:20240202T160031Z
LAST-MODIFIED:20240403T181836Z
UID:32102-1712343600-1712359800@mokbpresents.com
SUMMARY:Rittz
DESCRIPTION:
URL:https://mokbpresents.com/event/rittz/
LOCATION:HI-FI\, 1043 Virginia Ave #4\, Indianapolis\, IN\, 46203\, United States
CATEGORIES:18+,Promo: Thirsty Friends
GEO:39.7525463;-86.1407527
X-APPLE-STRUCTURED-LOCATION;VALUE=URI;X-ADDRESS=HI-FI 1043 Virginia Ave #4 Indianapolis IN 46203 United States;X-APPLE-RADIUS=500;X-TITLE=1043 Virginia Ave #4:geo:-86.1407527,39.7525463
END:VEVENT
BEGIN:VEVENT
DTSTART;TZID=America/Indiana/Indianapolis:20240405T200000
DTEND;TZID=America/Indiana/Indianapolis:20240405T200000
DTSTAMP:20260421T055520
CREATED:20240406T034739Z
LAST-MODIFIED:20240406T034840Z
UID:33415-1712347200-1712347200@mokbpresents.com
SUMMARY:Five For Fighting With String Quartet
DESCRIPTION:
URL:https://mokbpresents.com/event/five-for-fighting-with-string-quartet/
LOCATION:Hendricks Live!\, 200 W. Main St.\, Plainfield\, IN\, 46168\, United States
ATTACH;FMTTYPE=image/jpeg:https://cdn.kicksdigital.com/mokbpresents.com/2024/04/FiveForFighting-with-strings-740x405-1-730x275-1.jpg
END:VEVENT
BEGIN:VEVENT
DTSTART;TZID=America/Indiana/Indianapolis:20240406T190000
DTEND;TZID=America/Indiana/Indianapolis:20240406T210000
DTSTAMP:20260421T055520
CREATED:20231205T190030Z
LAST-MODIFIED:20240406T041057Z
UID:31451-1712430000-1712437200@mokbpresents.com
SUMMARY:William Fitzsimmons
DESCRIPTION:
URL:https://mokbpresents.com/event/william-fitzsimmons-the-sparrow-and-the-crow-15th-anniversary/
LOCATION:LO-FI Lounge\, 1043 Virginia Ave #215\, Indianapolis\, IN\, 46203\, United States
CATEGORIES:21+,Promo: Thirsty Friends
ATTACH;FMTTYPE=image/jpeg:https://cdn.kicksdigital.com/mokbpresents.com/2023/12/e2696f2f-4664-4021-90c4-f8d7ebaaa61e.jpg
END:VEVENT
BEGIN:VEVENT
DTSTART;TZID=America/Indiana/Indianapolis:20240406T210000
DTEND;TZID=America/Indiana/Indianapolis:20240406T235900
DTSTAMP:20260421T055520
CREATED:20231101T150304Z
LAST-MODIFIED:20240403T194822Z
UID:31104-1712437200-1712447940@mokbpresents.com
SUMMARY:Indigo De Souza (Sold Out)
DESCRIPTION:
URL:https://mokbpresents.com/event/indigo-de-souza/
LOCATION:HI-FI\, 1043 Virginia Ave #4\, Indianapolis\, IN\, 46203\, United States
CATEGORIES:All Ages
GEO:39.7525463;-86.1407527
X-APPLE-STRUCTURED-LOCATION;VALUE=URI;X-ADDRESS=HI-FI 1043 Virginia Ave #4 Indianapolis IN 46203 United States;X-APPLE-RADIUS=500;X-TITLE=1043 Virginia Ave #4:geo:-86.1407527,39.7525463
END:VEVENT
BEGIN:VEVENT
DTSTART;TZID=America/Indiana/Indianapolis:20240407T200000
DTEND;TZID=America/Indiana/Indianapolis:20240407T233000
DTSTAMP:20260421T055520
CREATED:20240124T150039Z
LAST-MODIFIED:20240403T194839Z
UID:32006-1712520000-1712532600@mokbpresents.com
SUMMARY:George Clanton
DESCRIPTION:
URL:https://mokbpresents.com/event/george-clanton/
LOCATION:HI-FI\, 1043 Virginia Ave #4\, Indianapolis\, IN\, 46203\, United States
CATEGORIES:All Ages
GEO:39.7525463;-86.1407527
X-APPLE-STRUCTURED-LOCATION;VALUE=URI;X-ADDRESS=HI-FI 1043 Virginia Ave #4 Indianapolis IN 46203 United States;X-APPLE-RADIUS=500;X-TITLE=1043 Virginia Ave #4:geo:-86.1407527,39.7525463
END:VEVENT
BEGIN:VEVENT
DTSTART;TZID=America/Indiana/Indianapolis:20240408T193000
DTEND;TZID=America/Indiana/Indianapolis:20240408T233000
DTSTAMP:20260421T055520
CREATED:20240118T170028Z
LAST-MODIFIED:20240403T194845Z
UID:31900-1712604600-1712619000@mokbpresents.com
SUMMARY:Hot Mulligan (Sold Out)
DESCRIPTION:
URL:https://mokbpresents.com/event/hot-mulligan-2/
LOCATION:HI-FI\, 1043 Virginia Ave #4\, Indianapolis\, IN\, 46203\, United States
CATEGORIES:All Ages
GEO:39.7525463;-86.1407527
X-APPLE-STRUCTURED-LOCATION;VALUE=URI;X-ADDRESS=HI-FI 1043 Virginia Ave #4 Indianapolis IN 46203 United States;X-APPLE-RADIUS=500;X-TITLE=1043 Virginia Ave #4:geo:-86.1407527,39.7525463
END:VEVENT
BEGIN:VEVENT
DTSTART;TZID=America/Indiana/Indianapolis:20240409T200000
DTEND;TZID=America/Indiana/Indianapolis:20240409T230000
DTSTAMP:20260421T055520
CREATED:20240207T180648Z
LAST-MODIFIED:20240409T165116Z
UID:32161-1712692800-1712703600@mokbpresents.com
SUMMARY:We Three
DESCRIPTION:
URL:https://mokbpresents.com/event/we-three-the-love-me-tour/
LOCATION:HI-FI\, 1043 Virginia Ave #4\, Indianapolis\, IN\, 46203\, United States
CATEGORIES:All Ages
GEO:39.7525463;-86.1407527
X-APPLE-STRUCTURED-LOCATION;VALUE=URI;X-ADDRESS=HI-FI 1043 Virginia Ave #4 Indianapolis IN 46203 United States;X-APPLE-RADIUS=500;X-TITLE=1043 Virginia Ave #4:geo:-86.1407527,39.7525463
END:VEVENT
BEGIN:VEVENT
DTSTART;TZID=America/Indiana/Indianapolis:20240410T200000
DTEND;TZID=America/Indiana/Indianapolis:20240410T233000
DTSTAMP:20260421T055520
CREATED:20240116T170015Z
LAST-MODIFIED:20240409T165052Z
UID:31847-1712779200-1712791800@mokbpresents.com
SUMMARY:Próxima Parada + Oliver Hazard
DESCRIPTION:
URL:https://mokbpresents.com/event/oliver-hazard-proxima-parada/
LOCATION:HI-FI\, 1043 Virginia Ave #4\, Indianapolis\, IN\, 46203\, United States
CATEGORIES:18+
ATTACH;FMTTYPE=image/png:https://cdn.kicksdigital.com/mokbpresents.com/2024/01/Facebook-post-1.png
GEO:39.7525463;-86.1407527
X-APPLE-STRUCTURED-LOCATION;VALUE=URI;X-ADDRESS=HI-FI 1043 Virginia Ave #4 Indianapolis IN 46203 United States;X-APPLE-RADIUS=500;X-TITLE=1043 Virginia Ave #4:geo:-86.1407527,39.7525463
END:VEVENT
BEGIN:VEVENT
DTSTART;TZID=America/Indiana/Indianapolis:20240411T200000
DTEND;TZID=America/Indiana/Indianapolis:20240411T233000
DTSTAMP:20260421T055520
CREATED:20231114T150935Z
LAST-MODIFIED:20240409T164849Z
UID:31235-1712865600-1712878200@mokbpresents.com
SUMMARY:Mannequin Pussy (Sold Out)
DESCRIPTION:
URL:https://mokbpresents.com/event/mannequin-pussy-w-soul-glo/
LOCATION:HI-FI\, 1043 Virginia Ave #4\, Indianapolis\, IN\, 46203\, United States
CATEGORIES:18+
GEO:39.7525463;-86.1407527
X-APPLE-STRUCTURED-LOCATION;VALUE=URI;X-ADDRESS=HI-FI 1043 Virginia Ave #4 Indianapolis IN 46203 United States;X-APPLE-RADIUS=500;X-TITLE=1043 Virginia Ave #4:geo:-86.1407527,39.7525463
END:VEVENT
BEGIN:VEVENT
DTSTART;TZID=America/Indiana/Indianapolis:20240412T190000
DTEND;TZID=America/Indiana/Indianapolis:20240412T210000
DTSTAMP:20260421T055520
CREATED:20240223T154501Z
LAST-MODIFIED:20240411T195817Z
UID:32407-1712948400-1712955600@mokbpresents.com
SUMMARY:Bayem (Sold Out)
DESCRIPTION:
URL:https://mokbpresents.com/event/bayem/
LOCATION:LO-FI Lounge\, 1043 Virginia Ave #215\, Indianapolis\, IN\, 46203\, United States
CATEGORIES:21+
END:VEVENT
BEGIN:VEVENT
DTSTART;TZID=America/Indiana/Indianapolis:20240413T190000
DTEND;TZID=America/Indiana/Indianapolis:20240413T210000
DTSTAMP:20260421T055520
CREATED:20231213T161738Z
LAST-MODIFIED:20240409T164349Z
UID:31553-1713034800-1713042000@mokbpresents.com
SUMMARY:In The Pines
DESCRIPTION:
URL:https://mokbpresents.com/event/in-the-pines-painting-by-numbers-tour/
LOCATION:LO-FI Lounge\, 1043 Virginia Ave #215\, Indianapolis\, IN\, 46203\, United States
CATEGORIES:21+,Promo: Thirsty Friends
END:VEVENT
BEGIN:VEVENT
DTSTART;TZID=America/Indiana/Indianapolis:20240413T210000
DTEND;TZID=America/Indiana/Indianapolis:20240413T235900
DTSTAMP:20260421T055520
CREATED:20231205T180022Z
LAST-MODIFIED:20240410T163414Z
UID:31447-1713042000-1713052740@mokbpresents.com
SUMMARY:Birdtalker
DESCRIPTION:
URL:https://mokbpresents.com/event/birdtalker/
LOCATION:HI-FI\, 1043 Virginia Ave #4\, Indianapolis\, IN\, 46203\, United States
CATEGORIES:18+
GEO:39.7525463;-86.1407527
X-APPLE-STRUCTURED-LOCATION;VALUE=URI;X-ADDRESS=HI-FI 1043 Virginia Ave #4 Indianapolis IN 46203 United States;X-APPLE-RADIUS=500;X-TITLE=1043 Virginia Ave #4:geo:-86.1407527,39.7525463
END:VEVENT
BEGIN:VEVENT
DTSTART;TZID=America/Indiana/Indianapolis:20240414T200000
DTEND;TZID=America/Indiana/Indianapolis:20240414T233000
DTSTAMP:20260421T055520
CREATED:20240207T153913Z
LAST-MODIFIED:20240409T164246Z
UID:32141-1713124800-1713137400@mokbpresents.com
SUMMARY:Soft Blue Shimmer
DESCRIPTION:
URL:https://mokbpresents.com/event/soft-blue-shimmer/
LOCATION:HI-FI\, 1043 Virginia Ave #4\, Indianapolis\, IN\, 46203\, United States
CATEGORIES:All Ages,Promo: Thirsty Friends
GEO:39.7525463;-86.1407527
X-APPLE-STRUCTURED-LOCATION;VALUE=URI;X-ADDRESS=HI-FI 1043 Virginia Ave #4 Indianapolis IN 46203 United States;X-APPLE-RADIUS=500;X-TITLE=1043 Virginia Ave #4:geo:-86.1407527,39.7525463
END:VEVENT
BEGIN:VEVENT
DTSTART;TZID=America/Indiana/Indianapolis:20240415T200000
DTEND;TZID=America/Indiana/Indianapolis:20240415T233000
DTSTAMP:20260421T055520
CREATED:20231114T170006Z
LAST-MODIFIED:20240409T164221Z
UID:31263-1713211200-1713223800@mokbpresents.com
SUMMARY:Canaan Cox
DESCRIPTION:
URL:https://mokbpresents.com/event/canaan-cox-lost-and-found-tour/
LOCATION:HI-FI\, 1043 Virginia Ave #4\, Indianapolis\, IN\, 46203\, United States
CATEGORIES:18+,Promo: Thirsty Friends
GEO:39.7525463;-86.1407527
X-APPLE-STRUCTURED-LOCATION;VALUE=URI;X-ADDRESS=HI-FI 1043 Virginia Ave #4 Indianapolis IN 46203 United States;X-APPLE-RADIUS=500;X-TITLE=1043 Virginia Ave #4:geo:-86.1407527,39.7525463
END:VEVENT
BEGIN:VEVENT
DTSTART;TZID=America/Indiana/Indianapolis:20240416T200000
DTEND;TZID=America/Indiana/Indianapolis:20240416T233000
DTSTAMP:20260421T055520
CREATED:20240226T160116Z
LAST-MODIFIED:20240409T164039Z
UID:32428-1713297600-1713310200@mokbpresents.com
SUMMARY:Kashus Culpepper
DESCRIPTION:
URL:https://mokbpresents.com/event/kashus-culpepper/
LOCATION:HI-FI\, 1043 Virginia Ave #4\, Indianapolis\, IN\, 46203\, United States
CATEGORIES:18+,Promo: Thirsty Friends
GEO:39.7525463;-86.1407527
X-APPLE-STRUCTURED-LOCATION;VALUE=URI;X-ADDRESS=HI-FI 1043 Virginia Ave #4 Indianapolis IN 46203 United States;X-APPLE-RADIUS=500;X-TITLE=1043 Virginia Ave #4:geo:-86.1407527,39.7525463
END:VEVENT
BEGIN:VEVENT
DTSTART;TZID=America/Indiana/Indianapolis:20240417T200000
DTEND;TZID=America/Indiana/Indianapolis:20240417T233000
DTSTAMP:20260421T055520
CREATED:20240222T170052Z
LAST-MODIFIED:20240409T163956Z
UID:32386-1713384000-1713396600@mokbpresents.com
SUMMARY:Uncle Lucius
DESCRIPTION:
URL:https://mokbpresents.com/event/uncle-lucius-2/
LOCATION:HI-FI\, 1043 Virginia Ave #4\, Indianapolis\, IN\, 46203\, United States
CATEGORIES:18+,Promo: Thirsty Friends
ATTACH;FMTTYPE=image/jpeg:https://cdn.kicksdigital.com/mokbpresents.com/2024/02/UncleLucius_4_MarkAbernathy-scaled-1.jpg
GEO:39.7525463;-86.1407527
X-APPLE-STRUCTURED-LOCATION;VALUE=URI;X-ADDRESS=HI-FI 1043 Virginia Ave #4 Indianapolis IN 46203 United States;X-APPLE-RADIUS=500;X-TITLE=1043 Virginia Ave #4:geo:-86.1407527,39.7525463
END:VEVENT
BEGIN:VEVENT
DTSTART;TZID=America/Indiana/Indianapolis:20240418T183000
DTEND;TZID=America/Indiana/Indianapolis:20240418T220000
DTSTAMP:20260421T055520
CREATED:20240219T180034Z
LAST-MODIFIED:20240409T163921Z
UID:32321-1713465000-1713477600@mokbpresents.com
SUMMARY:Connor McLaren / Fern Murphy
DESCRIPTION:
URL:https://mokbpresents.com/event/annex-opening-night-w-connor-mclaren-fern-murphy/
LOCATION:HI-FI Annex\, 1065 St. Patrick St\, Indianapolis\, IN\, 46203\, United States
CATEGORIES:All Ages
ATTACH;FMTTYPE=image/png:https://cdn.kicksdigital.com/mokbpresents.com/2024/02/oprningnight202-2.png
END:VEVENT
BEGIN:VEVENT
DTSTART;TZID=America/Indiana/Indianapolis:20240418T210000
DTEND;TZID=America/Indiana/Indianapolis:20240418T235900
DTSTAMP:20260421T055520
CREATED:20240209T175532Z
LAST-MODIFIED:20240409T163822Z
UID:32196-1713474000-1713484740@mokbpresents.com
SUMMARY:Your Neighbors
DESCRIPTION:
URL:https://mokbpresents.com/event/your-neighbors-2/
LOCATION:HI-FI\, 1043 Virginia Ave #4\, Indianapolis\, IN\, 46203\, United States
CATEGORIES:18+,Promo: Thirsty Friends
ATTACH;FMTTYPE=image/png:https://cdn.kicksdigital.com/mokbpresents.com/2024/02/Untitled-design.png
GEO:39.7525463;-86.1407527
X-APPLE-STRUCTURED-LOCATION;VALUE=URI;X-ADDRESS=HI-FI 1043 Virginia Ave #4 Indianapolis IN 46203 United States;X-APPLE-RADIUS=500;X-TITLE=1043 Virginia Ave #4:geo:-86.1407527,39.7525463
END:VEVENT
BEGIN:VEVENT
DTSTART;TZID=America/Indiana/Indianapolis:20240419T190000
DTEND;TZID=America/Indiana/Indianapolis:20240419T220000
DTSTAMP:20260421T055520
CREATED:20240209T153747Z
LAST-MODIFIED:20240409T163603Z
UID:32177-1713553200-1713564000@mokbpresents.com
SUMMARY:81355
DESCRIPTION:
URL:https://mokbpresents.com/event/81355-2/
LOCATION:HI-FI Annex\, 1065 St. Patrick St\, Indianapolis\, IN\, 46203\, United States
CATEGORIES:All Ages,Promo: Thirsty Friends
END:VEVENT
BEGIN:VEVENT
DTSTART;TZID=America/Indiana/Indianapolis:20240419T210000
DTEND;TZID=America/Indiana/Indianapolis:20240419T235900
DTSTAMP:20260421T055520
CREATED:20240116T160021Z
LAST-MODIFIED:20240419T191710Z
UID:31838-1713560400-1713571140@mokbpresents.com
SUMMARY:BAILEN
DESCRIPTION:
URL:https://mokbpresents.com/event/bailen/
LOCATION:HI-FI\, 1043 Virginia Ave #4\, Indianapolis\, IN\, 46203\, United States
CATEGORIES:18+
GEO:39.7525463;-86.1407527
X-APPLE-STRUCTURED-LOCATION;VALUE=URI;X-ADDRESS=HI-FI 1043 Virginia Ave #4 Indianapolis IN 46203 United States;X-APPLE-RADIUS=500;X-TITLE=1043 Virginia Ave #4:geo:-86.1407527,39.7525463
END:VEVENT
BEGIN:VEVENT
DTSTART;TZID=America/Indiana/Indianapolis:20240420T183000
DTEND;TZID=America/Indiana/Indianapolis:20240420T220000
DTSTAMP:20260421T055520
CREATED:20240109T180043Z
LAST-MODIFIED:20240419T191718Z
UID:31746-1713637800-1713650400@mokbpresents.com
SUMMARY:Keller Williams
DESCRIPTION:
URL:https://mokbpresents.com/event/keller-williams/
LOCATION:HI-FI Annex\, 1065 St. Patrick St\, Indianapolis\, IN\, 46203\, United States
CATEGORIES:All Ages
END:VEVENT
BEGIN:VEVENT
DTSTART;TZID=America/Indiana/Indianapolis:20240420T200000
DTEND;TZID=America/Indiana/Indianapolis:20240420T233000
DTSTAMP:20260421T055520
CREATED:20231207T160059Z
LAST-MODIFIED:20240409T164722Z
UID:30140-1713643200-1713655800@mokbpresents.com
SUMMARY:Nick Shoulders and The Okay Crawdad (Sold Out)
DESCRIPTION:
URL:https://mokbpresents.com/event/nick-shoulders/
LOCATION:HI-FI\, 1043 Virginia Ave #4\, Indianapolis\, IN\, 46203\, United States
CATEGORIES:18+
GEO:39.7525463;-86.1407527
X-APPLE-STRUCTURED-LOCATION;VALUE=URI;X-ADDRESS=HI-FI 1043 Virginia Ave #4 Indianapolis IN 46203 United States;X-APPLE-RADIUS=500;X-TITLE=1043 Virginia Ave #4:geo:-86.1407527,39.7525463
END:VEVENT
BEGIN:VEVENT
DTSTART;TZID=America/Indiana/Indianapolis:20240421T190000
DTEND;TZID=America/Indiana/Indianapolis:20240421T220000
DTSTAMP:20260421T055520
CREATED:20240214T180054Z
LAST-MODIFIED:20240409T164706Z
UID:32272-1713726000-1713736800@mokbpresents.com
SUMMARY:Alvvays (Sold Out)
DESCRIPTION:
URL:https://mokbpresents.com/event/alvvays/
LOCATION:HI-FI Annex\, 1065 St. Patrick St\, Indianapolis\, IN\, 46203\, United States
CATEGORIES:All Ages
END:VEVENT
BEGIN:VEVENT
DTSTART;TZID=America/Indiana/Indianapolis:20240421T200000
DTEND;TZID=America/Indiana/Indianapolis:20240421T233000
DTSTAMP:20260421T055520
CREATED:20240222T161039Z
LAST-MODIFIED:20240409T163203Z
UID:32377-1713729600-1713742200@mokbpresents.com
SUMMARY:Jesse Dayton
DESCRIPTION:
URL:https://mokbpresents.com/event/jesse-dayton/
LOCATION:HI-FI\, 1043 Virginia Ave #4\, Indianapolis\, IN\, 46203\, United States
CATEGORIES:18+,Promo: Thirsty Friends
ATTACH;FMTTYPE=image/png:https://cdn.kicksdigital.com/mokbpresents.com/2024/02/JesseDayton-web.png
GEO:39.7525463;-86.1407527
X-APPLE-STRUCTURED-LOCATION;VALUE=URI;X-ADDRESS=HI-FI 1043 Virginia Ave #4 Indianapolis IN 46203 United States;X-APPLE-RADIUS=500;X-TITLE=1043 Virginia Ave #4:geo:-86.1407527,39.7525463
END:VEVENT
END:VCALENDAR