BEGIN:VCALENDAR
VERSION:2.0
PRODID:-//MOKB Presents - ECPv6.15.16.1//NONSGML v1.0//EN
CALSCALE:GREGORIAN
METHOD:PUBLISH
X-WR-CALNAME:MOKB Presents
X-ORIGINAL-URL:https://mokbpresents.com
X-WR-CALDESC:Events for MOKB Presents
REFRESH-INTERVAL;VALUE=DURATION:PT1H
X-Robots-Tag:noindex
X-PUBLISHED-TTL:PT1H
BEGIN:VTIMEZONE
TZID:America/Indiana/Indianapolis
BEGIN:DAYLIGHT
TZOFFSETFROM:-0500
TZOFFSETTO:-0400
TZNAME:EDT
DTSTART:20210314T070000
END:DAYLIGHT
BEGIN:STANDARD
TZOFFSETFROM:-0400
TZOFFSETTO:-0500
TZNAME:EST
DTSTART:20211107T060000
END:STANDARD
BEGIN:DAYLIGHT
TZOFFSETFROM:-0500
TZOFFSETTO:-0400
TZNAME:EDT
DTSTART:20220313T070000
END:DAYLIGHT
BEGIN:STANDARD
TZOFFSETFROM:-0400
TZOFFSETTO:-0500
TZNAME:EST
DTSTART:20221106T060000
END:STANDARD
BEGIN:DAYLIGHT
TZOFFSETFROM:-0500
TZOFFSETTO:-0400
TZNAME:EDT
DTSTART:20230312T070000
END:DAYLIGHT
BEGIN:STANDARD
TZOFFSETFROM:-0400
TZOFFSETTO:-0500
TZNAME:EST
DTSTART:20231105T060000
END:STANDARD
END:VTIMEZONE
BEGIN:VEVENT
DTSTART;TZID=America/Indiana/Indianapolis:20220401T190000
DTEND;TZID=America/Indiana/Indianapolis:20220401T210000
DTSTAMP:20260422T205152
CREATED:20220224T150033Z
LAST-MODIFIED:20220224T155847Z
UID:21912-1648839600-1648846800@mokbpresents.com
SUMMARY:The Northern Kentucky Derby
DESCRIPTION:
URL:https://mokbpresents.com/event/the-northern-kentucky-derby/
LOCATION:LO-FI Lounge\, 1043 Virginia Ave #215\, Indianapolis\, IN\, 46203\, United States
END:VEVENT
BEGIN:VEVENT
DTSTART;TZID=America/Indiana/Indianapolis:20220401T190000
DTEND;TZID=America/Indiana/Indianapolis:20220401T233000
DTSTAMP:20260422T205152
CREATED:20211019T140706Z
LAST-MODIFIED:20220401T175927Z
UID:20103-1648839600-1648855800@mokbpresents.com
SUMMARY:Shovels & Rope: The Manticore Tour
DESCRIPTION:
URL:https://mokbpresents.com/event/shovels-rope-the-manticore-tour/
LOCATION:The Vogue\, 6259 N. College Ave\, Indianapolis\, IN\, 46220\, United States
END:VEVENT
BEGIN:VEVENT
DTSTART;TZID=America/Indiana/Indianapolis:20220401T210000
DTEND;TZID=America/Indiana/Indianapolis:20220401T233000
DTSTAMP:20260422T205152
CREATED:20211214T165827Z
LAST-MODIFIED:20220329T020001Z
UID:20806-1648846800-1648855800@mokbpresents.com
SUMMARY:SOLD OUT: Cannons
DESCRIPTION:
URL:https://mokbpresents.com/event/cannons/
LOCATION:HI-FI\, 1043 Virginia Ave #4\, Indianapolis\, IN\, 46203\, United States
GEO:39.7525463;-86.1407527
X-APPLE-STRUCTURED-LOCATION;VALUE=URI;X-ADDRESS=HI-FI 1043 Virginia Ave #4 Indianapolis IN 46203 United States;X-APPLE-RADIUS=500;X-TITLE=1043 Virginia Ave #4:geo:-86.1407527,39.7525463
END:VEVENT
BEGIN:VEVENT
DTSTART;TZID=America/Indiana/Indianapolis:20220402T210000
DTEND;TZID=America/Indiana/Indianapolis:20220402T233000
DTSTAMP:20260422T205152
CREATED:20210811T140044Z
LAST-MODIFIED:20220220T221508Z
UID:19206-1648933200-1648942200@mokbpresents.com
SUMMARY:Lala Lala
DESCRIPTION:
URL:https://mokbpresents.com/event/lala-lala/
LOCATION:HI-FI\, 1043 Virginia Ave #4\, Indianapolis\, IN\, 46203\, United States
GEO:39.7525463;-86.1407527
X-APPLE-STRUCTURED-LOCATION;VALUE=URI;X-ADDRESS=HI-FI 1043 Virginia Ave #4 Indianapolis IN 46203 United States;X-APPLE-RADIUS=500;X-TITLE=1043 Virginia Ave #4:geo:-86.1407527,39.7525463
END:VEVENT
BEGIN:VEVENT
DTSTART;TZID=America/Indiana/Indianapolis:20220403T200000
DTEND;TZID=America/Indiana/Indianapolis:20220403T233000
DTSTAMP:20260422T205152
CREATED:20211109T170025Z
LAST-MODIFIED:20211109T171725Z
UID:20321-1649016000-1649028600@mokbpresents.com
SUMMARY:Nation of Language
DESCRIPTION:
URL:https://mokbpresents.com/event/nation-of-language/
LOCATION:HI-FI\, 1043 Virginia Ave #4\, Indianapolis\, IN\, 46203\, United States
GEO:39.7525463;-86.1407527
X-APPLE-STRUCTURED-LOCATION;VALUE=URI;X-ADDRESS=HI-FI 1043 Virginia Ave #4 Indianapolis IN 46203 United States;X-APPLE-RADIUS=500;X-TITLE=1043 Virginia Ave #4:geo:-86.1407527,39.7525463
END:VEVENT
BEGIN:VEVENT
DTSTART;TZID=America/Indiana/Indianapolis:20220404T193000
DTEND;TZID=America/Indiana/Indianapolis:20220404T230000
DTSTAMP:20260422T205152
CREATED:20220209T150031Z
LAST-MODIFIED:20220404T132250Z
UID:21552-1649100600-1649113200@mokbpresents.com
SUMMARY:Obituary
DESCRIPTION:
URL:https://mokbpresents.com/event/obituary/
LOCATION:HI-FI\, 1043 Virginia Ave #4\, Indianapolis\, IN\, 46203\, United States
ATTACH;FMTTYPE=image/jpeg:https://cdn.kicksdigital.com/mokbpresents.com/2022/02/Obituary-EsterSegarra-6069-scaled-e1649078560882.jpg
GEO:39.7525463;-86.1407527
X-APPLE-STRUCTURED-LOCATION;VALUE=URI;X-ADDRESS=HI-FI 1043 Virginia Ave #4 Indianapolis IN 46203 United States;X-APPLE-RADIUS=500;X-TITLE=1043 Virginia Ave #4:geo:-86.1407527,39.7525463
END:VEVENT
BEGIN:VEVENT
DTSTART;TZID=America/Indiana/Indianapolis:20220405T200000
DTEND;TZID=America/Indiana/Indianapolis:20220405T233000
DTSTAMP:20260422T205152
CREATED:20220210T150059Z
LAST-MODIFIED:20220320T235953Z
UID:21617-1649188800-1649201400@mokbpresents.com
SUMMARY:The Schizophonics
DESCRIPTION:
URL:https://mokbpresents.com/event/the-schizophonics/
LOCATION:HI-FI\, 1043 Virginia Ave #4\, Indianapolis\, IN\, 46203\, United States
GEO:39.7525463;-86.1407527
X-APPLE-STRUCTURED-LOCATION;VALUE=URI;X-ADDRESS=HI-FI 1043 Virginia Ave #4 Indianapolis IN 46203 United States;X-APPLE-RADIUS=500;X-TITLE=1043 Virginia Ave #4:geo:-86.1407527,39.7525463
END:VEVENT
BEGIN:VEVENT
DTSTART;TZID=America/Indiana/Indianapolis:20220406T190000
DTEND;TZID=America/Indiana/Indianapolis:20220406T233000
DTSTAMP:20260422T205152
CREATED:20220118T170006Z
LAST-MODIFIED:20220406T191142Z
UID:12605-1649271600-1649287800@mokbpresents.com
SUMMARY:Delta Spirit
DESCRIPTION:Delta Spirit’s Indianapolis show at HI-FI has been rescheduled to April 30\, 2021.  All tickets purchased for the original date will be honored on the rescheduled date.  Please direct any questions to boxoffice@mokbpresents.com. You can follow our ongoing list of affected shows here: http://bit.ly/mokb-hifi-covid19updates \n————————— \nDOORS: 8:00 PM\, SHOW: 9:00 PM \nAGE RESTRICTIONS: 21+ \nGENERAL ADMISSION\, LIMITED SEATING \nImportant Notice: All tickets are nonrefundable and nontransferable. Support acts are subject to change. \n—————————- \nAbout Delta Spirit: \nListen | Watch Video \nPitching its style between indie rock and alt-country\, Delta Spirit features bassist Jon Jameson\, drummer Brandon Young\, vocalist Matthew Vasquez\, multi-instrumentalist/vocalist Kelly Winrich\, and guitarist Will McLaren. The band began when Jameson and Young’s former band\, the San Diego-based emo outfit Noise Ratchet\, called it quits in 2004. Seeking a rootsy sound\, the pair joined forces with Vasquez\, Winrich\, and founding guitarist Sean Walker. In 2006\, the band issued their debut EP\, I Think I’ve Found It\, and hit the road alongside Cold War Kids and Dr. Dog. The following year\, they self-released their first full-length Ode to Sunshine; after Delta Spirit signed to Rounder Records\, the label reissued a remastered version of the album in 2008. \nEarning acclaim for their recordings as well as their live show\, the band began recording songs for its second album at Prairie Sun Studios in 2009. The finished product\, History from Below\, was released in June 2010. Just before Delta Spirit’s self-titled third album arrived in 2012\, Walker left. Soon after\, they moved from Long Beach\, California to Brooklyn\, New York. In 2013\, the group contributed an exclusive song\, “Running\,” to the soundtrack of the AMC show “The Walking Dead.” \nDelta Spirit returned in 2014 with Into the Wide\, a darker\, heavier set of songs written and recorded in the practice space they’d rebuilt near an Atlanta shipping yard after Hurricane Sandy’s devastation. It was recorded with producer Ben Allen (who has also worked with Animal Collective and Deerhunter). It became their most successful album yet\, both commercially and critically\, and Vasquez also began recording solo singles and EPs\, culminating albums Solicitor Returns (2016)\, Does What He Wants (2017) and Light’n Up (2019).
URL:https://mokbpresents.com/event/delta-spirit/
LOCATION:HI-FI\, 1043 Virginia Ave #4\, Indianapolis\, IN\, 46203\, United States
ATTACH;FMTTYPE=image/jpeg:https://cdn.kicksdigital.com/mokbpresents.com/2022/01/DS_LOWRES_0068-1.jpg
GEO:39.7525463;-86.1407527
X-APPLE-STRUCTURED-LOCATION;VALUE=URI;X-ADDRESS=HI-FI 1043 Virginia Ave #4 Indianapolis IN 46203 United States;X-APPLE-RADIUS=500;X-TITLE=1043 Virginia Ave #4:geo:-86.1407527,39.7525463
END:VEVENT
BEGIN:VEVENT
DTSTART;TZID=America/Indiana/Indianapolis:20220406T200000
DTEND;TZID=America/Indiana/Indianapolis:20220406T230000
DTSTAMP:20260422T205152
CREATED:20211116T170041Z
LAST-MODIFIED:20220406T190037Z
UID:20392-1649275200-1649286000@mokbpresents.com
SUMMARY:An Evening with The Brian Jonestown Massacre
DESCRIPTION:
URL:https://mokbpresents.com/event/the-brian-jonestown-massacre/
LOCATION:The Vogue\, 6259 N. College Ave\, Indianapolis\, IN\, 46220\, United States
END:VEVENT
BEGIN:VEVENT
DTSTART;TZID=America/Indiana/Indianapolis:20220408T183000
DTEND;TZID=America/Indiana/Indianapolis:20220408T230000
DTSTAMP:20260422T205152
CREATED:20211206T170036Z
LAST-MODIFIED:20220223T210415Z
UID:20582-1649442600-1649458800@mokbpresents.com
SUMMARY:Ice Nine Kills + Motionless In White + Black Veil Brides
DESCRIPTION:
URL:https://mokbpresents.com/event/black-veil-brides-motionless-in-white-ice-nine-kills/
LOCATION:Blue Ribbon Pavilion\, 1202 E 38th St\, Indianapolis\, IN\, 46205\, United States
END:VEVENT
BEGIN:VEVENT
DTSTART;TZID=America/Indiana/Indianapolis:20220408T200000
DTEND;TZID=America/Indiana/Indianapolis:20220408T230000
DTSTAMP:20260422T205152
CREATED:20220201T150049Z
LAST-MODIFIED:20220407T191750Z
UID:21387-1649448000-1649458800@mokbpresents.com
SUMMARY:Mom Rock
DESCRIPTION:
URL:https://mokbpresents.com/event/mom-rock/
LOCATION:HI-FI\, 1043 Virginia Ave #4\, Indianapolis\, IN\, 46203\, United States
ATTACH;FMTTYPE=image/jpeg:https://cdn.kicksdigital.com/mokbpresents.com/2022/02/FAVORITE-IMG_1283-scaled.jpg
GEO:39.7525463;-86.1407527
X-APPLE-STRUCTURED-LOCATION;VALUE=URI;X-ADDRESS=HI-FI 1043 Virginia Ave #4 Indianapolis IN 46203 United States;X-APPLE-RADIUS=500;X-TITLE=1043 Virginia Ave #4:geo:-86.1407527,39.7525463
END:VEVENT
BEGIN:VEVENT
DTSTART;TZID=America/Indiana/Indianapolis:20220409T200000
DTEND;TZID=America/Indiana/Indianapolis:20220409T230000
DTSTAMP:20260422T205152
CREATED:20211116T160006Z
LAST-MODIFIED:20220408T212529Z
UID:20415-1649534400-1649545200@mokbpresents.com
SUMMARY:Will Hoge
DESCRIPTION:
URL:https://mokbpresents.com/event/will-hoge/
LOCATION:HI-FI\, 1043 Virginia Ave #4\, Indianapolis\, IN\, 46203\, United States
GEO:39.7525463;-86.1407527
X-APPLE-STRUCTURED-LOCATION;VALUE=URI;X-ADDRESS=HI-FI 1043 Virginia Ave #4 Indianapolis IN 46203 United States;X-APPLE-RADIUS=500;X-TITLE=1043 Virginia Ave #4:geo:-86.1407527,39.7525463
END:VEVENT
BEGIN:VEVENT
DTSTART;TZID=America/Indiana/Indianapolis:20220410T200000
DTEND;TZID=America/Indiana/Indianapolis:20220410T233000
DTSTAMP:20260422T205152
CREATED:20211203T163033Z
LAST-MODIFIED:20220324T200710Z
UID:20594-1649620800-1649633400@mokbpresents.com
SUMMARY:El Ten Eleven
DESCRIPTION:
URL:https://mokbpresents.com/event/el-ten-eleven/
LOCATION:HI-FI\, 1043 Virginia Ave #4\, Indianapolis\, IN\, 46203\, United States
GEO:39.7525463;-86.1407527
X-APPLE-STRUCTURED-LOCATION;VALUE=URI;X-ADDRESS=HI-FI 1043 Virginia Ave #4 Indianapolis IN 46203 United States;X-APPLE-RADIUS=500;X-TITLE=1043 Virginia Ave #4:geo:-86.1407527,39.7525463
END:VEVENT
BEGIN:VEVENT
DTSTART;TZID=America/Indiana/Indianapolis:20220413T200000
DTEND;TZID=America/Indiana/Indianapolis:20220413T233000
DTSTAMP:20260422T205152
CREATED:20220225T180020Z
LAST-MODIFIED:20220411T180659Z
UID:21940-1649880000-1649892600@mokbpresents.com
SUMMARY:Joe Pug
DESCRIPTION:
URL:https://mokbpresents.com/event/joe-pug/
LOCATION:HI-FI\, 1043 Virginia Ave #4\, Indianapolis\, IN\, 46203\, United States
GEO:39.7525463;-86.1407527
X-APPLE-STRUCTURED-LOCATION;VALUE=URI;X-ADDRESS=HI-FI 1043 Virginia Ave #4 Indianapolis IN 46203 United States;X-APPLE-RADIUS=500;X-TITLE=1043 Virginia Ave #4:geo:-86.1407527,39.7525463
END:VEVENT
BEGIN:VEVENT
DTSTART;TZID=America/Indiana/Indianapolis:20220414T190000
DTEND;TZID=America/Indiana/Indianapolis:20220414T220000
DTSTAMP:20260422T205152
CREATED:20220308T150007Z
LAST-MODIFIED:20220414T184051Z
UID:22153-1649962800-1649973600@mokbpresents.com
SUMMARY:Carriers / Twen
DESCRIPTION:
URL:https://mokbpresents.com/event/carriers-twen-2/
LOCATION:LO-FI Lounge\, 1043 Virginia Ave #215\, Indianapolis\, IN\, 46203\, United States
ATTACH;FMTTYPE=image/jpeg:https://cdn.kicksdigital.com/mokbpresents.com/2022/03/picstitch-e1646842604918.jpg
END:VEVENT
BEGIN:VEVENT
DTSTART;TZID=America/Indiana/Indianapolis:20220415T190000
DTEND;TZID=America/Indiana/Indianapolis:20220415T213000
DTSTAMP:20260422T205152
CREATED:20220302T150015Z
LAST-MODIFIED:20220411T175703Z
UID:22013-1650049200-1650058200@mokbpresents.com
SUMMARY:Jessie Phelps
DESCRIPTION:
URL:https://mokbpresents.com/event/jessie-phelps/
LOCATION:LO-FI Lounge\, 1043 Virginia Ave #215\, Indianapolis\, IN\, 46203\, United States
END:VEVENT
BEGIN:VEVENT
DTSTART;TZID=America/Indiana/Indianapolis:20220415T210000
DTEND;TZID=America/Indiana/Indianapolis:20220415T233000
DTSTAMP:20260422T205152
CREATED:20220223T150027Z
LAST-MODIFIED:20220321T180418Z
UID:21869-1650056400-1650065400@mokbpresents.com
SUMMARY:Audiodacity
DESCRIPTION:
URL:https://mokbpresents.com/event/audiodacity/
LOCATION:HI-FI\, 1043 Virginia Ave #4\, Indianapolis\, IN\, 46203\, United States
GEO:39.7525463;-86.1407527
X-APPLE-STRUCTURED-LOCATION;VALUE=URI;X-ADDRESS=HI-FI 1043 Virginia Ave #4 Indianapolis IN 46203 United States;X-APPLE-RADIUS=500;X-TITLE=1043 Virginia Ave #4:geo:-86.1407527,39.7525463
END:VEVENT
BEGIN:VEVENT
DTSTART;TZID=America/Indiana/Indianapolis:20220416T190000
DTEND;TZID=America/Indiana/Indianapolis:20220416T220000
DTSTAMP:20260422T205152
CREATED:20220325T150001Z
LAST-MODIFIED:20220325T145701Z
UID:22500-1650135600-1650146400@mokbpresents.com
SUMMARY:Create Your Own Bonsai
DESCRIPTION:
URL:https://mokbpresents.com/event/create-your-own-bonsai/
LOCATION:LO-FI Lounge\, 1043 Virginia Ave #215\, Indianapolis\, IN\, 46203\, United States
ATTACH;FMTTYPE=image/jpeg:https://cdn.kicksdigital.com/mokbpresents.com/2022/03/FSQ-Bonsai-logo.jpeg
END:VEVENT
BEGIN:VEVENT
DTSTART;TZID=America/Indiana/Indianapolis:20220416T200000
DTEND;TZID=America/Indiana/Indianapolis:20220416T233000
DTSTAMP:20260422T205152
CREATED:20211209T150033Z
LAST-MODIFIED:20220406T205750Z
UID:20680-1650139200-1650151800@mokbpresents.com
SUMMARY:Justin Wells & Cole Chaney
DESCRIPTION:
URL:https://mokbpresents.com/event/justin-wells-3/
LOCATION:HI-FI\, 1043 Virginia Ave #4\, Indianapolis\, IN\, 46203\, United States
ATTACH;FMTTYPE=image/jpeg:https://cdn.kicksdigital.com/mokbpresents.com/2021/12/Justin-Wells-Press-Photo-e1642429307450.jpeg
GEO:39.7525463;-86.1407527
X-APPLE-STRUCTURED-LOCATION;VALUE=URI;X-ADDRESS=HI-FI 1043 Virginia Ave #4 Indianapolis IN 46203 United States;X-APPLE-RADIUS=500;X-TITLE=1043 Virginia Ave #4:geo:-86.1407527,39.7525463
END:VEVENT
BEGIN:VEVENT
DTSTART;TZID=America/Indiana/Indianapolis:20220419T190000
DTEND;TZID=America/Indiana/Indianapolis:20220419T210000
DTSTAMP:20260422T205152
CREATED:20220224T150029Z
LAST-MODIFIED:20220224T150113Z
UID:21918-1650394800-1650402000@mokbpresents.com
SUMMARY:Maya Lucia
DESCRIPTION:
URL:https://mokbpresents.com/event/maya-lucia/
LOCATION:LO-FI Lounge\, 1043 Virginia Ave #215\, Indianapolis\, IN\, 46203\, United States
END:VEVENT
BEGIN:VEVENT
DTSTART;TZID=America/Indiana/Indianapolis:20220420T190000
DTEND;TZID=America/Indiana/Indianapolis:20220420T200000
DTSTAMP:20260422T205152
CREATED:20220215T150021Z
LAST-MODIFIED:20220217T193515Z
UID:21664-1650481200-1650484800@mokbpresents.com
SUMMARY:81355 - 420 Celebration
DESCRIPTION:
URL:https://mokbpresents.com/event/81355-420-celebration/
LOCATION:HI-FI\, 1043 Virginia Ave #4\, Indianapolis\, IN\, 46203\, United States
GEO:39.7525463;-86.1407527
X-APPLE-STRUCTURED-LOCATION;VALUE=URI;X-ADDRESS=HI-FI 1043 Virginia Ave #4 Indianapolis IN 46203 United States;X-APPLE-RADIUS=500;X-TITLE=1043 Virginia Ave #4:geo:-86.1407527,39.7525463
END:VEVENT
BEGIN:VEVENT
DTSTART;TZID=America/Indiana/Indianapolis:20220422T180000
DTEND;TZID=America/Indiana/Indianapolis:20220422T220000
DTSTAMP:20260422T205152
CREATED:20220325T150018Z
LAST-MODIFIED:20220421T195117Z
UID:16968-1650650400-1650664800@mokbpresents.com
SUMMARY:HI-FI Annex Opening Night - Ovrslept & More
DESCRIPTION:
URL:https://mokbpresents.com/event/hi-fi-annex-opening-night-2022/
LOCATION:HI-FI Annex\, 1065 St. Patrick St\, Indianapolis\, IN\, 46203\, United States
ATTACH;FMTTYPE=image/jpeg:https://cdn.kicksdigital.com/mokbpresents.com/2022/03/ANNEX.jpeg
END:VEVENT
BEGIN:VEVENT
DTSTART;TZID=America/Indiana/Indianapolis:20220422T210000
DTEND;TZID=America/Indiana/Indianapolis:20220422T233000
DTSTAMP:20260422T205152
CREATED:20220111T150043Z
LAST-MODIFIED:20220111T154655Z
UID:12534-1650661200-1650670200@mokbpresents.com
SUMMARY:An Evening With Robyn Hitchcock
DESCRIPTION:Robyn Hitchcock’s Indianapolis show at White Rabbit Cabaret has been rescheduled to April 23\, 2021.  All tickets purchased for the original date will be honored on the rescheduled date. Please direct any questions to boxoffice@mokbpresents.com. You can follow our ongoing list of affected shows here: http://bit.ly/mokb-hifi-covid19updates \n—————————- \nAn Evening With Robyn Hitchcock at The White Rabbit Cabaret \nDOORS: 8:00 PM\, SHOW: 9:00 PM \nAGE RESTRICTIONS: 21+ \nGENERAL ADMISSION\, LIMITED SEATING \nImportant Notice: Important Notice: All tickets are nonrefundable and nontransferable. Support acts are subject to change. \n—————————- \nAbout Robyn Hitchcock: \nListen | Watch Video \nRobyn Hitchcock is one of England’s most enduring contemporary singer/songwriters and live performers. A surrealist poet\, talented guitarist\, cult artist and musician’s musician\, Hitchcock is among alternative rock’s father figures and is the closest thing the genre has to a Bob Dylan (not coincidentally his biggest musical inspiration). \nSince founding the art-rock band The Soft Boys in 1976\, Robyn has recorded more than 20 albums as well as starred in ‘Storefront Hitchcock’ an in concert film recorded in New York and directed by Jonathan Demme. \nBlending folk and psychedelia with a wry British nihilism\, Robyn describes his songs as ‘paintings you can listen to’. His most recent album is self-titled and marks his 21st release as a solo artist. Out on April 21 2017\, the album is produced by Brendan Benson (The Raconteurs). Hitchcock describes it as a “ecstatic work of negativity with nary a dreary groove.” \nIt has received rave reviews from UNCUT\, Rolling Stone\, Paste\, Tidal and more. \n“A gifted melodist\, Hitchcock nests engaging lyrics in some of the most bracing\, rainbow-hued pop this side of Revolver. He wrests inspiration not from ordinary life but from extraordinary imaginings…” – Rolling Stone \n“These 10 gems slither\, rock\, roll\, glide and shapeshift\, coalescing around Hitchcock’s typically anxious\, strained but striking and immediately identifiable vocals.” – American Songwriter \n“Beloved of everyone from Led Zeppelin to REM\, Hitchcock has only enhanced his status with this wonderful outing.” – Hot Press \n“Witty\, moving and seriously catchy\, Robyn Hitchcock is a glorious return for a man who wasn’t really gone in the first place.” – Paste Magazine
URL:https://mokbpresents.com/event/an-evening-with-robyn-hitchcock/
LOCATION:White Rabbit Cabaret\, 1116 Prospect St.\, Indianapolis\, IN\, 46203\, United States
CATEGORIES:Americana/Folk
ATTACH;FMTTYPE=image/jpeg:https://cdn.kicksdigital.com/mokbpresents.com/2019/12/RHitchcock001195-R20-E011.jpg
END:VEVENT
BEGIN:VEVENT
DTSTART;TZID=America/Indiana/Indianapolis:20220422T210000
DTEND;TZID=America/Indiana/Indianapolis:20220422T233000
DTSTAMP:20260422T205152
CREATED:20220314T135459Z
LAST-MODIFIED:20220421T002435Z
UID:22291-1650661200-1650670200@mokbpresents.com
SUMMARY:Dylan LeBlanc
DESCRIPTION:
URL:https://mokbpresents.com/event/dylan-leblanc/
LOCATION:HI-FI\, 1043 Virginia Ave #4\, Indianapolis\, IN\, 46203\, United States
GEO:39.7525463;-86.1407527
X-APPLE-STRUCTURED-LOCATION;VALUE=URI;X-ADDRESS=HI-FI 1043 Virginia Ave #4 Indianapolis IN 46203 United States;X-APPLE-RADIUS=500;X-TITLE=1043 Virginia Ave #4:geo:-86.1407527,39.7525463
END:VEVENT
BEGIN:VEVENT
DTSTART;TZID=America/Indiana/Indianapolis:20220423T190000
DTEND;TZID=America/Indiana/Indianapolis:20220423T220000
DTSTAMP:20260422T205152
CREATED:20220307T150004Z
LAST-MODIFIED:20220307T150452Z
UID:22104-1650740400-1650751200@mokbpresents.com
SUMMARY:Dizgo w/ Kick The Cat
DESCRIPTION:
URL:https://mokbpresents.com/event/dizgo-3/
LOCATION:HI-FI Annex\, 1065 St. Patrick St\, Indianapolis\, IN\, 46203\, United States
END:VEVENT
BEGIN:VEVENT
DTSTART;TZID=America/Indiana/Indianapolis:20220423T190000
DTEND;TZID=America/Indiana/Indianapolis:20220423T233000
DTSTAMP:20260422T205152
CREATED:20220207T144558Z
LAST-MODIFIED:20220420T193434Z
UID:21458-1650740400-1650756600@mokbpresents.com
SUMMARY:Caitlyn Smith
DESCRIPTION:
URL:https://mokbpresents.com/event/caitlyn-smith/
LOCATION:HI-FI\, 1043 Virginia Ave #4\, Indianapolis\, IN\, 46203\, United States
ATTACH;FMTTYPE=image/jpeg:https://cdn.kicksdigital.com/mokbpresents.com/2022/02/Caitlyn-Smith-_Credit_-Shervin-Lainez-scaled.jpg
GEO:39.7525463;-86.1407527
X-APPLE-STRUCTURED-LOCATION;VALUE=URI;X-ADDRESS=HI-FI 1043 Virginia Ave #4 Indianapolis IN 46203 United States;X-APPLE-RADIUS=500;X-TITLE=1043 Virginia Ave #4:geo:-86.1407527,39.7525463
END:VEVENT
BEGIN:VEVENT
DTSTART;TZID=America/Indiana/Indianapolis:20220423T193000
DTEND;TZID=America/Indiana/Indianapolis:20220423T233000
DTSTAMP:20260422T205152
CREATED:20220111T175115Z
LAST-MODIFIED:20220406T203000Z
UID:21102-1650742200-1650756600@mokbpresents.com
SUMMARY:10 Years
DESCRIPTION:
URL:https://mokbpresents.com/event/10-years/
LOCATION:The Vogue\, 6259 N. College Ave\, Indianapolis\, IN\, 46220\, United States
END:VEVENT
BEGIN:VEVENT
DTSTART;TZID=America/Indiana/Indianapolis:20220424T200000
DTEND;TZID=America/Indiana/Indianapolis:20220424T233000
DTSTAMP:20260422T205152
CREATED:20210804T170054Z
LAST-MODIFIED:20220406T203355Z
UID:19107-1650830400-1650843000@mokbpresents.com
SUMMARY:John Mark McMillan
DESCRIPTION:
URL:https://mokbpresents.com/event/john-mark-mcmillan/
LOCATION:HI-FI\, 1043 Virginia Ave #4\, Indianapolis\, IN\, 46203\, United States
GEO:39.7525463;-86.1407527
X-APPLE-STRUCTURED-LOCATION;VALUE=URI;X-ADDRESS=HI-FI 1043 Virginia Ave #4 Indianapolis IN 46203 United States;X-APPLE-RADIUS=500;X-TITLE=1043 Virginia Ave #4:geo:-86.1407527,39.7525463
END:VEVENT
BEGIN:VEVENT
DTSTART;TZID=America/Indiana/Indianapolis:20220428T200000
DTEND;TZID=America/Indiana/Indianapolis:20220428T230000
DTSTAMP:20260422T205152
CREATED:20220307T160339Z
LAST-MODIFIED:20220320T234830Z
UID:22121-1651176000-1651186800@mokbpresents.com
SUMMARY:Aaron Kamm and the One Drops
DESCRIPTION:
URL:https://mokbpresents.com/event/aaron-kamm-and-the-one-drops-2/
LOCATION:White Rabbit Cabaret\, 1116 Prospect St.\, Indianapolis\, IN\, 46203\, United States
END:VEVENT
BEGIN:VEVENT
DTSTART;TZID=America/Indiana/Indianapolis:20220428T200000
DTEND;TZID=America/Indiana/Indianapolis:20220428T233000
DTSTAMP:20260422T205152
CREATED:20210427T160912Z
LAST-MODIFIED:20220428T193828Z
UID:17294-1651176000-1651188600@mokbpresents.com
SUMMARY:Fruit Bats
DESCRIPTION:
URL:https://mokbpresents.com/event/fruit-bats/
LOCATION:HI-FI\, 1043 Virginia Ave #4\, Indianapolis\, IN\, 46203\, United States
GEO:39.7525463;-86.1407527
X-APPLE-STRUCTURED-LOCATION;VALUE=URI;X-ADDRESS=HI-FI 1043 Virginia Ave #4 Indianapolis IN 46203 United States;X-APPLE-RADIUS=500;X-TITLE=1043 Virginia Ave #4:geo:-86.1407527,39.7525463
END:VEVENT
END:VCALENDAR