BEGIN:VCALENDAR
VERSION:2.0
PRODID:-//MOKB Presents - ECPv6.15.16.1//NONSGML v1.0//EN
CALSCALE:GREGORIAN
METHOD:PUBLISH
X-WR-CALNAME:MOKB Presents
X-ORIGINAL-URL:https://mokbpresents.com
X-WR-CALDESC:Events for MOKB Presents
REFRESH-INTERVAL;VALUE=DURATION:PT1H
X-Robots-Tag:noindex
X-PUBLISHED-TTL:PT1H
BEGIN:VTIMEZONE
TZID:America/Indiana/Indianapolis
BEGIN:DAYLIGHT
TZOFFSETFROM:-0500
TZOFFSETTO:-0400
TZNAME:EDT
DTSTART:20210314T070000
END:DAYLIGHT
BEGIN:STANDARD
TZOFFSETFROM:-0400
TZOFFSETTO:-0500
TZNAME:EST
DTSTART:20211107T060000
END:STANDARD
BEGIN:DAYLIGHT
TZOFFSETFROM:-0500
TZOFFSETTO:-0400
TZNAME:EDT
DTSTART:20220313T070000
END:DAYLIGHT
BEGIN:STANDARD
TZOFFSETFROM:-0400
TZOFFSETTO:-0500
TZNAME:EST
DTSTART:20221106T060000
END:STANDARD
BEGIN:DAYLIGHT
TZOFFSETFROM:-0500
TZOFFSETTO:-0400
TZNAME:EDT
DTSTART:20230312T070000
END:DAYLIGHT
BEGIN:STANDARD
TZOFFSETFROM:-0400
TZOFFSETTO:-0500
TZNAME:EST
DTSTART:20231105T060000
END:STANDARD
END:VTIMEZONE
BEGIN:VEVENT
DTSTART;TZID=America/Indiana/Indianapolis:20220701T080000
DTEND;TZID=America/Indiana/Indianapolis:20220701T170000
DTSTAMP:20260422T163106
CREATED:20220328T170029Z
LAST-MODIFIED:20220629T201655Z
UID:22524-1656662400-1656694800@mokbpresents.com
SUMMARY:Into It. Over It.
DESCRIPTION:
URL:https://mokbpresents.com/event/into-it-over-it/
LOCATION:HI-FI\, 1043 Virginia Ave #4\, Indianapolis\, IN\, 46203\, United States
CATEGORIES:Promo: July 4 Ticket Explosion 2022
GEO:39.7525463;-86.1407527
X-APPLE-STRUCTURED-LOCATION;VALUE=URI;X-ADDRESS=HI-FI 1043 Virginia Ave #4 Indianapolis IN 46203 United States;X-APPLE-RADIUS=500;X-TITLE=1043 Virginia Ave #4:geo:-86.1407527,39.7525463
END:VEVENT
BEGIN:VEVENT
DTSTART;TZID=America/Indiana/Indianapolis:20220701T190000
DTEND;TZID=America/Indiana/Indianapolis:20220701T220000
DTSTAMP:20260422T163106
CREATED:20220404T150039Z
LAST-MODIFIED:20220506T171657Z
UID:22696-1656702000-1656712800@mokbpresents.com
SUMMARY:FREE FIRST FRIDAY: An Evening With Jukebox Luke
DESCRIPTION:
URL:https://mokbpresents.com/event/free-first-friday-an-evening-with-jukebox-luke/
LOCATION:HI-FI Annex\, 1065 St. Patrick St\, Indianapolis\, IN\, 46203\, United States
END:VEVENT
BEGIN:VEVENT
DTSTART;TZID=America/Indiana/Indianapolis:20220702T190000
DTEND;TZID=America/Indiana/Indianapolis:20220702T220000
DTSTAMP:20260422T163106
CREATED:20220315T140028Z
LAST-MODIFIED:20220623T180310Z
UID:22300-1656788400-1656799200@mokbpresents.com
SUMMARY:A Grateful Evening With Hyryder
DESCRIPTION:
URL:https://mokbpresents.com/event/a-grateful-evening-with-hyryder/
LOCATION:HI-FI Annex\, 1065 St. Patrick St\, Indianapolis\, IN\, 46203\, United States
CATEGORIES:Promo: July 4 Ticket Explosion 2022
END:VEVENT
BEGIN:VEVENT
DTSTART;TZID=America/Indiana/Indianapolis:20220702T210000
DTEND;TZID=America/Indiana/Indianapolis:20220702T233000
DTSTAMP:20260422T163106
CREATED:20220321T140011Z
LAST-MODIFIED:20220616T174924Z
UID:22374-1656795600-1656804600@mokbpresents.com
SUMMARY:Cam Cole
DESCRIPTION:
URL:https://mokbpresents.com/event/cam-cole/
LOCATION:HI-FI\, 1043 Virginia Ave #4\, Indianapolis\, IN\, 46203\, United States
GEO:39.7525463;-86.1407527
X-APPLE-STRUCTURED-LOCATION;VALUE=URI;X-ADDRESS=HI-FI 1043 Virginia Ave #4 Indianapolis IN 46203 United States;X-APPLE-RADIUS=500;X-TITLE=1043 Virginia Ave #4:geo:-86.1407527,39.7525463
END:VEVENT
BEGIN:VEVENT
DTSTART;TZID=America/Indiana/Indianapolis:20220705T190000
DTEND;TZID=America/Indiana/Indianapolis:20220705T223000
DTSTAMP:20260422T163106
CREATED:20220418T140003Z
LAST-MODIFIED:20220705T192846Z
UID:20867-1657047600-1657060200@mokbpresents.com
SUMMARY:Joshua Ray Walker
DESCRIPTION:
URL:https://mokbpresents.com/event/joshua-ray-walker/
LOCATION:HI-FI\, 1043 Virginia Ave #4\, Indianapolis\, IN\, 46203\, United States
GEO:39.7525463;-86.1407527
X-APPLE-STRUCTURED-LOCATION;VALUE=URI;X-ADDRESS=HI-FI 1043 Virginia Ave #4 Indianapolis IN 46203 United States;X-APPLE-RADIUS=500;X-TITLE=1043 Virginia Ave #4:geo:-86.1407527,39.7525463
END:VEVENT
BEGIN:VEVENT
DTSTART;TZID=America/Indiana/Indianapolis:20220706T200000
DTEND;TZID=America/Indiana/Indianapolis:20220706T235900
DTSTAMP:20260422T163106
CREATED:20220328T160021Z
LAST-MODIFIED:20220623T180540Z
UID:22544-1657137600-1657151940@mokbpresents.com
SUMMARY:Man Man
DESCRIPTION:
URL:https://mokbpresents.com/event/man-man/
LOCATION:HI-FI\, 1043 Virginia Ave #4\, Indianapolis\, IN\, 46203\, United States
CATEGORIES:Promo: July 4 Ticket Explosion 2022
GEO:39.7525463;-86.1407527
X-APPLE-STRUCTURED-LOCATION;VALUE=URI;X-ADDRESS=HI-FI 1043 Virginia Ave #4 Indianapolis IN 46203 United States;X-APPLE-RADIUS=500;X-TITLE=1043 Virginia Ave #4:geo:-86.1407527,39.7525463
END:VEVENT
BEGIN:VEVENT
DTSTART;TZID=America/Indiana/Indianapolis:20220707T190000
DTEND;TZID=America/Indiana/Indianapolis:20220707T220000
DTSTAMP:20260422T163106
CREATED:20220428T140004Z
LAST-MODIFIED:20220818T150841Z
UID:18647-1657220400-1657231200@mokbpresents.com
SUMMARY:An Evening with Helmet
DESCRIPTION:
URL:https://mokbpresents.com/event/helmet2022/
LOCATION:HI-FI Annex\, 1065 St. Patrick St\, Indianapolis\, IN\, 46203\, United States
END:VEVENT
BEGIN:VEVENT
DTSTART;TZID=America/Indiana/Indianapolis:20220707T203000
DTEND;TZID=America/Indiana/Indianapolis:20220707T235900
DTSTAMP:20260422T163106
CREATED:20220317T140708Z
LAST-MODIFIED:20220624T153434Z
UID:22351-1657225800-1657238340@mokbpresents.com
SUMMARY:Rock E. Bassoon
DESCRIPTION:
URL:https://mokbpresents.com/event/rock-e-bassoon-2/
LOCATION:HI-FI\, 1043 Virginia Ave #4\, Indianapolis\, IN\, 46203\, United States
GEO:39.7525463;-86.1407527
X-APPLE-STRUCTURED-LOCATION;VALUE=URI;X-ADDRESS=HI-FI 1043 Virginia Ave #4 Indianapolis IN 46203 United States;X-APPLE-RADIUS=500;X-TITLE=1043 Virginia Ave #4:geo:-86.1407527,39.7525463
END:VEVENT
BEGIN:VEVENT
DTSTART;TZID=America/Indiana/Indianapolis:20220708T200000
DTEND;TZID=America/Indiana/Indianapolis:20220708T235900
DTSTAMP:20260422T163106
CREATED:20220321T140013Z
LAST-MODIFIED:20220708T173238Z
UID:22368-1657310400-1657324740@mokbpresents.com
SUMMARY:Muscadine Bloodline
DESCRIPTION:
URL:https://mokbpresents.com/event/muscadine-bloodline/
LOCATION:HI-FI\, 1043 Virginia Ave #4\, Indianapolis\, IN\, 46203\, United States
CATEGORIES:Promo: July 4 Ticket Explosion 2022
GEO:39.7525463;-86.1407527
X-APPLE-STRUCTURED-LOCATION;VALUE=URI;X-ADDRESS=HI-FI 1043 Virginia Ave #4 Indianapolis IN 46203 United States;X-APPLE-RADIUS=500;X-TITLE=1043 Virginia Ave #4:geo:-86.1407527,39.7525463
END:VEVENT
BEGIN:VEVENT
DTSTART;TZID=America/Indiana/Indianapolis:20220709T190000
DTEND;TZID=America/Indiana/Indianapolis:20220709T220000
DTSTAMP:20260422T163106
CREATED:20220616T141853Z
LAST-MODIFIED:20220630T022505Z
UID:24029-1657393200-1657404000@mokbpresents.com
SUMMARY:An Evening With Six Foot Blonde
DESCRIPTION:
URL:https://mokbpresents.com/event/six-foot-blonde-2/
LOCATION:HI-FI Annex\, 1065 St. Patrick St\, Indianapolis\, IN\, 46203\, United States
CATEGORIES:Cover Band
END:VEVENT
BEGIN:VEVENT
DTSTART;TZID=America/Indiana/Indianapolis:20220709T210000
DTEND;TZID=America/Indiana/Indianapolis:20220709T233000
DTSTAMP:20260422T163106
CREATED:20220411T140019Z
LAST-MODIFIED:20220705T200212Z
UID:22815-1657400400-1657409400@mokbpresents.com
SUMMARY:Shawn James
DESCRIPTION:
URL:https://mokbpresents.com/event/shawn-james/
LOCATION:HI-FI\, 1043 Virginia Ave #4\, Indianapolis\, IN\, 46203\, United States
CATEGORIES:Promo: July 4 Ticket Explosion 2022
GEO:39.7525463;-86.1407527
X-APPLE-STRUCTURED-LOCATION;VALUE=URI;X-ADDRESS=HI-FI 1043 Virginia Ave #4 Indianapolis IN 46203 United States;X-APPLE-RADIUS=500;X-TITLE=1043 Virginia Ave #4:geo:-86.1407527,39.7525463
END:VEVENT
BEGIN:VEVENT
DTSTART;TZID=America/Indiana/Indianapolis:20220713T190000
DTEND;TZID=America/Indiana/Indianapolis:20220713T220000
DTSTAMP:20260422T163106
CREATED:20220322T140001Z
LAST-MODIFIED:20220711T143555Z
UID:22398-1657738800-1657749600@mokbpresents.com
SUMMARY:Marc Broussard
DESCRIPTION:
URL:https://mokbpresents.com/event/marc-broussard-2/
LOCATION:HI-FI Annex\, 1065 St. Patrick St\, Indianapolis\, IN\, 46203\, United States
CATEGORIES:Promo: July 4 Ticket Explosion 2022
END:VEVENT
BEGIN:VEVENT
DTSTART;TZID=America/Indiana/Indianapolis:20220714T200000
DTEND;TZID=America/Indiana/Indianapolis:20220714T233000
DTSTAMP:20260422T163106
CREATED:20220518T155854Z
LAST-MODIFIED:20220707T200253Z
UID:23574-1657828800-1657841400@mokbpresents.com
SUMMARY:Mickey Avalon
DESCRIPTION:
URL:https://mokbpresents.com/event/mickey-avalon/
LOCATION:HI-FI\, 1043 Virginia Ave #4\, Indianapolis\, IN\, 46203\, United States
CATEGORIES:Promo: July 4 Ticket Explosion 2022
ATTACH;FMTTYPE=image/jpeg:https://cdn.kicksdigital.com/mokbpresents.com/2022/05/Unknown-2-e1652886796546.jpeg
GEO:39.7525463;-86.1407527
X-APPLE-STRUCTURED-LOCATION;VALUE=URI;X-ADDRESS=HI-FI 1043 Virginia Ave #4 Indianapolis IN 46203 United States;X-APPLE-RADIUS=500;X-TITLE=1043 Virginia Ave #4:geo:-86.1407527,39.7525463
END:VEVENT
BEGIN:VEVENT
DTSTART;TZID=America/Indiana/Indianapolis:20220715T190000
DTEND;TZID=America/Indiana/Indianapolis:20220715T235900
DTSTAMP:20260422T163106
CREATED:20220601T150019Z
LAST-MODIFIED:20220707T212631Z
UID:23791-1657911600-1657929540@mokbpresents.com
SUMMARY:MISSIO - #gimmeakiss Tour
DESCRIPTION:
URL:https://mokbpresents.com/event/missio-gimmeakiss-tour/
LOCATION:HI-FI Annex\, 1065 St. Patrick St\, Indianapolis\, IN\, 46203\, United States
CATEGORIES:Alternative/Rock,Promo: July 4 Ticket Explosion 2022
END:VEVENT
BEGIN:VEVENT
DTSTART;TZID=America/Indiana/Indianapolis:20220715T200000
DTEND;TZID=America/Indiana/Indianapolis:20220715T235900
DTSTAMP:20260422T163106
CREATED:20220601T170037Z
LAST-MODIFIED:20220714T142504Z
UID:23651-1657915200-1657929540@mokbpresents.com
SUMMARY:Arlo McKinley
DESCRIPTION:did
URL:https://mokbpresents.com/event/arlo-mckinley-3/
LOCATION:HI-FI\, 1043 Virginia Ave #4\, Indianapolis\, IN\, 46203\, United States
CATEGORIES:Promo: July 4 Ticket Explosion 2022
GEO:39.7525463;-86.1407527
X-APPLE-STRUCTURED-LOCATION;VALUE=URI;X-ADDRESS=HI-FI 1043 Virginia Ave #4 Indianapolis IN 46203 United States;X-APPLE-RADIUS=500;X-TITLE=1043 Virginia Ave #4:geo:-86.1407527,39.7525463
END:VEVENT
BEGIN:VEVENT
DTSTART;TZID=America/Indiana/Indianapolis:20220716T193000
DTEND;TZID=America/Indiana/Indianapolis:20220716T220000
DTSTAMP:20260422T163106
CREATED:20220426T140017Z
LAST-MODIFIED:20220716T185247Z
UID:23131-1657999800-1658008800@mokbpresents.com
SUMMARY:Adrian Belew
DESCRIPTION:
URL:https://mokbpresents.com/event/adrian-belew/
LOCATION:HI-FI Annex\, 1065 St. Patrick St\, Indianapolis\, IN\, 46203\, United States
END:VEVENT
BEGIN:VEVENT
DTSTART;TZID=America/Indiana/Indianapolis:20220716T200000
DTEND;TZID=America/Indiana/Indianapolis:20220716T230000
DTSTAMP:20260422T163106
CREATED:20220328T140050Z
LAST-MODIFIED:20220623T180758Z
UID:22540-1658001600-1658012400@mokbpresents.com
SUMMARY:Colony House
DESCRIPTION:
URL:https://mokbpresents.com/event/colony-house/
LOCATION:Nickel Plate Amphitheater\, 6 Municipal Dr\, Fishers\, IN\, 46038\, United States
CATEGORIES:Promo: July 4 Ticket Explosion 2022
END:VEVENT
BEGIN:VEVENT
DTSTART;TZID=America/Indiana/Indianapolis:20220717T200000
DTEND;TZID=America/Indiana/Indianapolis:20220717T233000
DTSTAMP:20260422T163106
CREATED:20220419T140044Z
LAST-MODIFIED:20220717T150919Z
UID:22934-1658088000-1658100600@mokbpresents.com
SUMMARY:John Moreland
DESCRIPTION:
URL:https://mokbpresents.com/event/john-moreland-2/
LOCATION:HI-FI\, 1043 Virginia Ave #4\, Indianapolis\, IN\, 46203\, United States
CATEGORIES:Promo: July 4 Ticket Explosion 2022
GEO:39.7525463;-86.1407527
X-APPLE-STRUCTURED-LOCATION;VALUE=URI;X-ADDRESS=HI-FI 1043 Virginia Ave #4 Indianapolis IN 46203 United States;X-APPLE-RADIUS=500;X-TITLE=1043 Virginia Ave #4:geo:-86.1407527,39.7525463
END:VEVENT
BEGIN:VEVENT
DTSTART;TZID=America/Indiana/Indianapolis:20220717T200000
DTEND;TZID=America/Indiana/Indianapolis:20220717T233000
DTSTAMP:20260422T163106
CREATED:20220510T150046Z
LAST-MODIFIED:20220510T145112Z
UID:23439-1658088000-1658100600@mokbpresents.com
SUMMARY:Savannah Conley
DESCRIPTION:
URL:https://mokbpresents.com/event/savannah-conley/
LOCATION:White Rabbit Cabaret\, 1116 Prospect St.\, Indianapolis\, IN\, 46203\, United States
END:VEVENT
BEGIN:VEVENT
DTSTART;TZID=America/Indiana/Indianapolis:20220719T200000
DTEND;TZID=America/Indiana/Indianapolis:20220719T235900
DTSTAMP:20260422T163106
CREATED:20220304T170006Z
LAST-MODIFIED:20220718T163446Z
UID:22081-1658260800-1658275140@mokbpresents.com
SUMMARY:mc chris
DESCRIPTION:
URL:https://mokbpresents.com/event/mc-chris/
LOCATION:HI-FI\, 1043 Virginia Ave #4\, Indianapolis\, IN\, 46203\, United States
CATEGORIES:Promo: July 4 Ticket Explosion 2022
GEO:39.7525463;-86.1407527
X-APPLE-STRUCTURED-LOCATION;VALUE=URI;X-ADDRESS=HI-FI 1043 Virginia Ave #4 Indianapolis IN 46203 United States;X-APPLE-RADIUS=500;X-TITLE=1043 Virginia Ave #4:geo:-86.1407527,39.7525463
END:VEVENT
BEGIN:VEVENT
DTSTART;TZID=America/Indiana/Indianapolis:20220720T200000
DTEND;TZID=America/Indiana/Indianapolis:20220720T230000
DTSTAMP:20260422T163106
CREATED:20220407T150059Z
LAST-MODIFIED:20220720T142756Z
UID:22786-1658347200-1658358000@mokbpresents.com
SUMMARY:The Collection
DESCRIPTION:
URL:https://mokbpresents.com/event/the-collection/
LOCATION:White Rabbit Cabaret\, 1116 Prospect St.\, Indianapolis\, IN\, 46203\, United States
END:VEVENT
BEGIN:VEVENT
DTSTART;TZID=America/Indiana/Indianapolis:20220721T190000
DTEND;TZID=America/Indiana/Indianapolis:20220721T220000
DTSTAMP:20260422T163106
CREATED:20220503T160011Z
LAST-MODIFIED:20220721T151355Z
UID:23315-1658430000-1658440800@mokbpresents.com
SUMMARY:Trouble No More: Performing Allman Brothers Band's "Eat A Peach"
DESCRIPTION:
URL:https://mokbpresents.com/event/trouble-no-more-the-music-of-allman-brothers-band/
LOCATION:HI-FI Annex\, 1065 St. Patrick St\, Indianapolis\, IN\, 46203\, United States
CATEGORIES:Promo: July 4 Ticket Explosion 2022
ATTACH;FMTTYPE=image/png:https://cdn.kicksdigital.com/mokbpresents.com/2022/05/TNM-email-image.png
END:VEVENT
BEGIN:VEVENT
DTSTART;TZID=America/Indiana/Indianapolis:20220722T190000
DTEND;TZID=America/Indiana/Indianapolis:20220722T220000
DTSTAMP:20260422T163106
CREATED:20220614T160851Z
LAST-MODIFIED:20220722T182706Z
UID:23962-1658516400-1658527200@mokbpresents.com
SUMMARY:Fat Pockets
DESCRIPTION:
URL:https://mokbpresents.com/event/fat-pockets-4/
LOCATION:HI-FI Annex\, 1065 St. Patrick St\, Indianapolis\, IN\, 46203\, United States
CATEGORIES:Cover Band,R&B/Soul/Funk
END:VEVENT
BEGIN:VEVENT
DTSTART;TZID=America/Indiana/Indianapolis:20220722T210000
DTEND;TZID=America/Indiana/Indianapolis:20220722T235900
DTSTAMP:20260422T163106
CREATED:20220510T150009Z
LAST-MODIFIED:20220718T145838Z
UID:23435-1658523600-1658534340@mokbpresents.com
SUMMARY:DURRY
DESCRIPTION:  \n  \n 
URL:https://mokbpresents.com/event/durry/
LOCATION:HI-FI\, 1043 Virginia Ave #4\, Indianapolis\, IN\, 46203\, United States
GEO:39.7525463;-86.1407527
X-APPLE-STRUCTURED-LOCATION;VALUE=URI;X-ADDRESS=HI-FI 1043 Virginia Ave #4 Indianapolis IN 46203 United States;X-APPLE-RADIUS=500;X-TITLE=1043 Virginia Ave #4:geo:-86.1407527,39.7525463
END:VEVENT
BEGIN:VEVENT
DTSTART;TZID=America/Indiana/Indianapolis:20220723T200000
DTEND;TZID=America/Indiana/Indianapolis:20220723T230000
DTSTAMP:20260422T163106
CREATED:20220307T150047Z
LAST-MODIFIED:20220706T010310Z
UID:22101-1658606400-1658617200@mokbpresents.com
SUMMARY:Wolftooth
DESCRIPTION:
URL:https://mokbpresents.com/event/wolftooth/
LOCATION:HI-FI\, 1043 Virginia Ave #4\, Indianapolis\, IN\, 46203\, United States
GEO:39.7525463;-86.1407527
X-APPLE-STRUCTURED-LOCATION;VALUE=URI;X-ADDRESS=HI-FI 1043 Virginia Ave #4 Indianapolis IN 46203 United States;X-APPLE-RADIUS=500;X-TITLE=1043 Virginia Ave #4:geo:-86.1407527,39.7525463
END:VEVENT
BEGIN:VEVENT
DTSTART;TZID=America/Indiana/Indianapolis:20220727T190000
DTEND;TZID=America/Indiana/Indianapolis:20220727T220000
DTSTAMP:20260422T163106
CREATED:20220607T160025Z
LAST-MODIFIED:20220712T150006Z
UID:23862-1658948400-1658959200@mokbpresents.com
SUMMARY:White Denim
DESCRIPTION:
URL:https://mokbpresents.com/event/white-denim/
LOCATION:HI-FI Annex\, 1065 St. Patrick St\, Indianapolis\, IN\, 46203\, United States
CATEGORIES:Promo: July 4 Ticket Explosion 2022
END:VEVENT
BEGIN:VEVENT
DTSTART;TZID=America/Indiana/Indianapolis:20220727T200000
DTEND;TZID=America/Indiana/Indianapolis:20220727T235900
DTSTAMP:20260422T163106
CREATED:20220621T160025Z
LAST-MODIFIED:20220721T152542Z
UID:24111-1658952000-1658966340@mokbpresents.com
SUMMARY:The Velveteers
DESCRIPTION:
URL:https://mokbpresents.com/event/the-velveteers/
LOCATION:HI-FI\, 1043 Virginia Ave #4\, Indianapolis\, IN\, 46203\, United States
GEO:39.7525463;-86.1407527
X-APPLE-STRUCTURED-LOCATION;VALUE=URI;X-ADDRESS=HI-FI 1043 Virginia Ave #4 Indianapolis IN 46203 United States;X-APPLE-RADIUS=500;X-TITLE=1043 Virginia Ave #4:geo:-86.1407527,39.7525463
END:VEVENT
BEGIN:VEVENT
DTSTART;TZID=America/Indiana/Indianapolis:20220729T203000
DTEND;TZID=America/Indiana/Indianapolis:20220729T230000
DTSTAMP:20260422T163106
CREATED:20220316T183842Z
LAST-MODIFIED:20220727T191104Z
UID:22334-1659126600-1659135600@mokbpresents.com
SUMMARY:Billy Strings Night #1
DESCRIPTION:
URL:https://mokbpresents.com/event/billy-strings-night-1/
LOCATION:Everwise Amphitheater at White River State Park\, 801 W Washington St\, Indianapolis\, IN\, 46204\, United States
ATTACH;FMTTYPE=image/jpeg:https://cdn.kicksdigital.com/mokbpresents.com/2022/03/Billy-Strings.jpeg
END:VEVENT
BEGIN:VEVENT
DTSTART;TZID=America/Indiana/Indianapolis:20220729T210000
DTEND;TZID=America/Indiana/Indianapolis:20220729T235900
DTSTAMP:20260422T163107
CREATED:20220629T160028Z
LAST-MODIFIED:20220630T184501Z
UID:24280-1659128400-1659139140@mokbpresents.com
SUMMARY:Left Lane Cruiser
DESCRIPTION:
URL:https://mokbpresents.com/event/left-lane-cruiser-2/
LOCATION:HI-FI\, 1043 Virginia Ave #4\, Indianapolis\, IN\, 46203\, United States
GEO:39.7525463;-86.1407527
X-APPLE-STRUCTURED-LOCATION;VALUE=URI;X-ADDRESS=HI-FI 1043 Virginia Ave #4 Indianapolis IN 46203 United States;X-APPLE-RADIUS=500;X-TITLE=1043 Virginia Ave #4:geo:-86.1407527,39.7525463
END:VEVENT
BEGIN:VEVENT
DTSTART;TZID=America/Indiana/Indianapolis:20220730T150000
DTEND;TZID=America/Indiana/Indianapolis:20220730T220000
DTSTAMP:20260422T163107
CREATED:20220602T140338Z
LAST-MODIFIED:20220616T005754Z
UID:23826-1659193200-1659218400@mokbpresents.com
SUMMARY:Boot Scoot Fest with John Stamps & KNags
DESCRIPTION:
URL:https://mokbpresents.com/event/boot-scoot-fest-with-john-stamps-knags/
LOCATION:HI-FI Annex\, 1065 St. Patrick St\, Indianapolis\, IN\, 46203\, United States
ATTACH;FMTTYPE=image/jpeg:https://cdn.kicksdigital.com/mokbpresents.com/2022/06/Boot-Scoot-FB.jpg
END:VEVENT
END:VCALENDAR