BEGIN:VCALENDAR
VERSION:2.0
PRODID:-//MOKB Presents - ECPv6.15.16.1//NONSGML v1.0//EN
CALSCALE:GREGORIAN
METHOD:PUBLISH
X-WR-CALNAME:MOKB Presents
X-ORIGINAL-URL:https://mokbpresents.com
X-WR-CALDESC:Events for MOKB Presents
REFRESH-INTERVAL;VALUE=DURATION:PT1H
X-Robots-Tag:noindex
X-PUBLISHED-TTL:PT1H
BEGIN:VTIMEZONE
TZID:America/Indiana/Indianapolis
BEGIN:DAYLIGHT
TZOFFSETFROM:-0500
TZOFFSETTO:-0400
TZNAME:EDT
DTSTART:20210314T070000
END:DAYLIGHT
BEGIN:STANDARD
TZOFFSETFROM:-0400
TZOFFSETTO:-0500
TZNAME:EST
DTSTART:20211107T060000
END:STANDARD
BEGIN:DAYLIGHT
TZOFFSETFROM:-0500
TZOFFSETTO:-0400
TZNAME:EDT
DTSTART:20220313T070000
END:DAYLIGHT
BEGIN:STANDARD
TZOFFSETFROM:-0400
TZOFFSETTO:-0500
TZNAME:EST
DTSTART:20221106T060000
END:STANDARD
BEGIN:DAYLIGHT
TZOFFSETFROM:-0500
TZOFFSETTO:-0400
TZNAME:EDT
DTSTART:20230312T070000
END:DAYLIGHT
BEGIN:STANDARD
TZOFFSETFROM:-0400
TZOFFSETTO:-0500
TZNAME:EST
DTSTART:20231105T060000
END:STANDARD
END:VTIMEZONE
BEGIN:VEVENT
DTSTART;TZID=America/Indiana/Indianapolis:20220902T190000
DTEND;TZID=America/Indiana/Indianapolis:20220902T220000
DTSTAMP:20260422T133205
CREATED:20220708T140456Z
LAST-MODIFIED:20220829T202925Z
UID:24495-1662145200-1662156000@mokbpresents.com
SUMMARY:FREE FIRST FRIDAY: The Brothers Footman
DESCRIPTION:
URL:https://mokbpresents.com/event/free-first-friday-the-brothers-footman-2/
LOCATION:HI-FI Annex\, 1065 St. Patrick St\, Indianapolis\, IN\, 46203\, United States
END:VEVENT
BEGIN:VEVENT
DTSTART;TZID=America/Indiana/Indianapolis:20220902T210000
DTEND;TZID=America/Indiana/Indianapolis:20220902T235900
DTSTAMP:20260422T133205
CREATED:20220708T140126Z
LAST-MODIFIED:20220830T181836Z
UID:24491-1662152400-1662163140@mokbpresents.com
SUMMARY:FREE FIRST FRIDAY: PONCÉ
DESCRIPTION:
URL:https://mokbpresents.com/event/free-first-friday-ponce/
LOCATION:HI-FI\, 1043 Virginia Ave #4\, Indianapolis\, IN\, 46203\, United States
GEO:39.7525463;-86.1407527
X-APPLE-STRUCTURED-LOCATION;VALUE=URI;X-ADDRESS=HI-FI 1043 Virginia Ave #4 Indianapolis IN 46203 United States;X-APPLE-RADIUS=500;X-TITLE=1043 Virginia Ave #4:geo:-86.1407527,39.7525463
END:VEVENT
BEGIN:VEVENT
DTSTART;TZID=America/Indiana/Indianapolis:20220903T190000
DTEND;TZID=America/Indiana/Indianapolis:20220903T220000
DTSTAMP:20260422T133205
CREATED:20220421T140031Z
LAST-MODIFIED:20220618T134729Z
UID:22943-1662231600-1662242400@mokbpresents.com
SUMMARY:The Ultimate Doors
DESCRIPTION:
URL:https://mokbpresents.com/event/the-ultimate-doors/
LOCATION:HI-FI Annex\, 1065 St. Patrick St\, Indianapolis\, IN\, 46203\, United States
ATTACH;FMTTYPE=image/jpeg:https://cdn.kicksdigital.com/mokbpresents.com/2022/04/DOORS-PROMO-PIC-002-scaled-e1650548475691.jpg
END:VEVENT
BEGIN:VEVENT
DTSTART;TZID=America/Indiana/Indianapolis:20220908T210000
DTEND;TZID=America/Indiana/Indianapolis:20220908T235900
DTSTAMP:20260422T133205
CREATED:20220715T142240Z
LAST-MODIFIED:20220715T172957Z
UID:24614-1662670800-1662681540@mokbpresents.com
SUMMARY:Haley Heynderickx
DESCRIPTION:
URL:https://mokbpresents.com/event/haley-heynderickx/
LOCATION:HI-FI\, 1043 Virginia Ave #4\, Indianapolis\, IN\, 46203\, United States
GEO:39.7525463;-86.1407527
X-APPLE-STRUCTURED-LOCATION;VALUE=URI;X-ADDRESS=HI-FI 1043 Virginia Ave #4 Indianapolis IN 46203 United States;X-APPLE-RADIUS=500;X-TITLE=1043 Virginia Ave #4:geo:-86.1407527,39.7525463
END:VEVENT
BEGIN:VEVENT
DTSTART;TZID=America/Indiana/Indianapolis:20220909T190000
DTEND;TZID=America/Indiana/Indianapolis:20220909T220000
DTSTAMP:20260422T133205
CREATED:20220622T160004Z
LAST-MODIFIED:20220907T165152Z
UID:24142-1662750000-1662760800@mokbpresents.com
SUMMARY:Snakehips
DESCRIPTION:Po
URL:https://mokbpresents.com/event/snakehips/
LOCATION:HI-FI Annex\, 1065 St. Patrick St\, Indianapolis\, IN\, 46203\, United States
END:VEVENT
BEGIN:VEVENT
DTSTART;TZID=America/Indiana/Indianapolis:20220909T210000
DTEND;TZID=America/Indiana/Indianapolis:20220909T235900
DTSTAMP:20260422T133205
CREATED:20220722T144515Z
LAST-MODIFIED:20220823T031013Z
UID:24717-1662757200-1662767940@mokbpresents.com
SUMMARY:Kaitlin Butts
DESCRIPTION:
URL:https://mokbpresents.com/event/kaitlin-butts/
LOCATION:White Rabbit Cabaret\, 1116 Prospect St.\, Indianapolis\, IN\, 46203\, United States
END:VEVENT
BEGIN:VEVENT
DTSTART;TZID=America/Indiana/Indianapolis:20220909T210000
DTEND;TZID=America/Indiana/Indianapolis:20220909T235900
DTSTAMP:20260422T133205
CREATED:20220728T140003Z
LAST-MODIFIED:20220807T000309Z
UID:24775-1662757200-1662767940@mokbpresents.com
SUMMARY:Chris Knight
DESCRIPTION:
URL:https://mokbpresents.com/event/chris-knight-2/
LOCATION:HI-FI\, 1043 Virginia Ave #4\, Indianapolis\, IN\, 46203\, United States
CATEGORIES:Americana/Folk,Country
GEO:39.7525463;-86.1407527
X-APPLE-STRUCTURED-LOCATION;VALUE=URI;X-ADDRESS=HI-FI 1043 Virginia Ave #4 Indianapolis IN 46203 United States;X-APPLE-RADIUS=500;X-TITLE=1043 Virginia Ave #4:geo:-86.1407527,39.7525463
END:VEVENT
BEGIN:VEVENT
DTSTART;TZID=America/Indiana/Indianapolis:20220911T193000
DTEND;TZID=America/Indiana/Indianapolis:20220911T220000
DTSTAMP:20260422T133205
CREATED:20220614T190748Z
LAST-MODIFIED:20220829T223626Z
UID:23969-1662924600-1662933600@mokbpresents.com
SUMMARY:Secret Walls: Live Mural Battle
DESCRIPTION:
URL:https://mokbpresents.com/event/secret-walls-live-mural-battle/
LOCATION:HI-FI Annex\, 1065 St. Patrick St\, Indianapolis\, IN\, 46203\, United States
ATTACH;FMTTYPE=image/jpeg:https://cdn.kicksdigital.com/mokbpresents.com/2022/06/Standing-Room-Only-Michael-Millay_0184-1-scaled.jpg
END:VEVENT
BEGIN:VEVENT
DTSTART;TZID=America/Indiana/Indianapolis:20220914T200000
DTEND;TZID=America/Indiana/Indianapolis:20220914T235900
DTSTAMP:20260422T133205
CREATED:20220531T140009Z
LAST-MODIFIED:20220601T160005Z
UID:23750-1663185600-1663199940@mokbpresents.com
SUMMARY:Mary Gauthier
DESCRIPTION:
URL:https://mokbpresents.com/event/mary-gauthier/
LOCATION:HI-FI\, 1043 Virginia Ave #4\, Indianapolis\, IN\, 46203\, United States
GEO:39.7525463;-86.1407527
X-APPLE-STRUCTURED-LOCATION;VALUE=URI;X-ADDRESS=HI-FI 1043 Virginia Ave #4 Indianapolis IN 46203 United States;X-APPLE-RADIUS=500;X-TITLE=1043 Virginia Ave #4:geo:-86.1407527,39.7525463
END:VEVENT
BEGIN:VEVENT
DTSTART;TZID=America/Indiana/Indianapolis:20220915T200000
DTEND;TZID=America/Indiana/Indianapolis:20220915T235900
DTSTAMP:20260422T133205
CREATED:20220601T160040Z
LAST-MODIFIED:20220913T205405Z
UID:23737-1663272000-1663286340@mokbpresents.com
SUMMARY:Vista Kicks
DESCRIPTION:
URL:https://mokbpresents.com/event/vista-kicks/
LOCATION:HI-FI\, 1043 Virginia Ave #4\, Indianapolis\, IN\, 46203\, United States
GEO:39.7525463;-86.1407527
X-APPLE-STRUCTURED-LOCATION;VALUE=URI;X-ADDRESS=HI-FI 1043 Virginia Ave #4 Indianapolis IN 46203 United States;X-APPLE-RADIUS=500;X-TITLE=1043 Virginia Ave #4:geo:-86.1407527,39.7525463
END:VEVENT
BEGIN:VEVENT
DTSTART;TZID=America/Indiana/Indianapolis:20220916T180000
DTEND;TZID=America/Indiana/Indianapolis:20220916T220000
DTSTAMP:20260422T133205
CREATED:20220628T140059Z
LAST-MODIFIED:20220912T175158Z
UID:23685-1663351200-1663365600@mokbpresents.com
SUMMARY:PhaseOne
DESCRIPTION:
URL:https://mokbpresents.com/event/phaseone/
LOCATION:HI-FI Annex\, 1065 St. Patrick St\, Indianapolis\, IN\, 46203\, United States
CATEGORIES:DJ,Electronic/EDM/House
END:VEVENT
BEGIN:VEVENT
DTSTART;TZID=America/Indiana/Indianapolis:20220916T210000
DTEND;TZID=America/Indiana/Indianapolis:20220916T235900
DTSTAMP:20260422T133205
CREATED:20220601T160042Z
LAST-MODIFIED:20220916T170303Z
UID:23809-1663362000-1663372740@mokbpresents.com
SUMMARY:Sungazer
DESCRIPTION:
URL:https://mokbpresents.com/event/sungazer-2/
LOCATION:HI-FI\, 1043 Virginia Ave #4\, Indianapolis\, IN\, 46203\, United States
GEO:39.7525463;-86.1407527
X-APPLE-STRUCTURED-LOCATION;VALUE=URI;X-ADDRESS=HI-FI 1043 Virginia Ave #4 Indianapolis IN 46203 United States;X-APPLE-RADIUS=500;X-TITLE=1043 Virginia Ave #4:geo:-86.1407527,39.7525463
END:VEVENT
BEGIN:VEVENT
DTSTART;TZID=America/Indiana/Indianapolis:20220917T190000
DTEND;TZID=America/Indiana/Indianapolis:20220917T220000
DTSTAMP:20260422T133205
CREATED:20220727T142022Z
LAST-MODIFIED:20220916T172253Z
UID:24751-1663441200-1663452000@mokbpresents.com
SUMMARY:The Steel Woods
DESCRIPTION:
URL:https://mokbpresents.com/event/the-steel-woods/
LOCATION:HI-FI Annex\, 1065 St. Patrick St\, Indianapolis\, IN\, 46203\, United States
CATEGORIES:Country,Promo: Fall 2022 Ticket Promo
END:VEVENT
BEGIN:VEVENT
DTSTART;TZID=America/Indiana/Indianapolis:20220917T200000
DTEND;TZID=America/Indiana/Indianapolis:20220917T233000
DTSTAMP:20260422T133205
CREATED:20220510T155129Z
LAST-MODIFIED:20220510T155131Z
UID:23453-1663444800-1663457400@mokbpresents.com
SUMMARY:John Craigie
DESCRIPTION:John
URL:https://mokbpresents.com/event/john-craigie-2/
LOCATION:The Basile Theatre\, 401 E Michigan St\, Indianapolis\, IN\, 46204\, United States
END:VEVENT
BEGIN:VEVENT
DTSTART;TZID=America/Indiana/Indianapolis:20220917T210000
DTEND;TZID=America/Indiana/Indianapolis:20220917T235900
DTSTAMP:20260422T133205
CREATED:20220818T150053Z
LAST-MODIFIED:20220916T172357Z
UID:25113-1663448400-1663459140@mokbpresents.com
SUMMARY:Kash'd Out - Dirty Mind Fall Tour
DESCRIPTION:
URL:https://mokbpresents.com/event/kashd-out-dirty-minds-fall-tour/
LOCATION:HI-FI\, 1043 Virginia Ave #4\, Indianapolis\, IN\, 46203\, United States
CATEGORIES:Promo: Fall 2022 Ticket Promo
GEO:39.7525463;-86.1407527
X-APPLE-STRUCTURED-LOCATION;VALUE=URI;X-ADDRESS=HI-FI 1043 Virginia Ave #4 Indianapolis IN 46203 United States;X-APPLE-RADIUS=500;X-TITLE=1043 Virginia Ave #4:geo:-86.1407527,39.7525463
END:VEVENT
BEGIN:VEVENT
DTSTART;TZID=America/Indiana/Indianapolis:20220920T200000
DTEND;TZID=America/Indiana/Indianapolis:20220920T233000
DTSTAMP:20260422T133205
CREATED:20220810T170029Z
LAST-MODIFIED:20220916T172508Z
UID:24979-1663704000-1663716600@mokbpresents.com
SUMMARY:together PANGEA
DESCRIPTION:
URL:https://mokbpresents.com/event/together-pangea/
LOCATION:HI-FI\, 1043 Virginia Ave #4\, Indianapolis\, IN\, 46203\, United States
CATEGORIES:Promo: Fall 2022 Ticket Promo
ATTACH;FMTTYPE=image/png:https://cdn.kicksdigital.com/mokbpresents.com/2022/08/togetherPANGEA-web.png
GEO:39.7525463;-86.1407527
X-APPLE-STRUCTURED-LOCATION;VALUE=URI;X-ADDRESS=HI-FI 1043 Virginia Ave #4 Indianapolis IN 46203 United States;X-APPLE-RADIUS=500;X-TITLE=1043 Virginia Ave #4:geo:-86.1407527,39.7525463
END:VEVENT
BEGIN:VEVENT
DTSTART;TZID=America/Indiana/Indianapolis:20220922T193000
DTEND;TZID=America/Indiana/Indianapolis:20220922T233000
DTSTAMP:20260422T133205
CREATED:20220714T141821Z
LAST-MODIFIED:20220916T172545Z
UID:24558-1663875000-1663889400@mokbpresents.com
SUMMARY:Young Mister + Abby Holliday
DESCRIPTION:
URL:https://mokbpresents.com/event/young-mister-abby-holliday/
LOCATION:White Rabbit Cabaret\, 1116 Prospect St.\, Indianapolis\, IN\, 46203\, United States
CATEGORIES:Promo: Fall 2022 Ticket Promo
ATTACH;FMTTYPE=image/png:https://cdn.kicksdigital.com/mokbpresents.com/2022/07/youngmister-abbyholliday.png
END:VEVENT
BEGIN:VEVENT
DTSTART;TZID=America/Indiana/Indianapolis:20220922T204500
DTEND;TZID=America/Indiana/Indianapolis:20220922T235900
DTSTAMP:20260422T133205
CREATED:20220816T150004Z
LAST-MODIFIED:20220921T193727Z
UID:25074-1663879500-1663891140@mokbpresents.com
SUMMARY:Flobots
DESCRIPTION:
URL:https://mokbpresents.com/event/flobots/
LOCATION:HI-FI\, 1043 Virginia Ave #4\, Indianapolis\, IN\, 46203\, United States
CATEGORIES:Promo: Fall 2022 Ticket Promo
ATTACH;FMTTYPE=image/png:https://cdn.kicksdigital.com/mokbpresents.com/2022/08/Flobots-web.png
GEO:39.7525463;-86.1407527
X-APPLE-STRUCTURED-LOCATION;VALUE=URI;X-ADDRESS=HI-FI 1043 Virginia Ave #4 Indianapolis IN 46203 United States;X-APPLE-RADIUS=500;X-TITLE=1043 Virginia Ave #4:geo:-86.1407527,39.7525463
END:VEVENT
BEGIN:VEVENT
DTSTART;TZID=America/Indiana/Indianapolis:20220923T190000
DTEND;TZID=America/Indiana/Indianapolis:20220923T220000
DTSTAMP:20260422T133205
CREATED:20220711T145904Z
LAST-MODIFIED:20220923T152101Z
UID:24516-1663959600-1663970400@mokbpresents.com
SUMMARY:Check Your Head: Beastie Boys Tribute
DESCRIPTION:
URL:https://mokbpresents.com/event/check-your-head-beastie-boys-tribute/
LOCATION:HI-FI Annex\, 1065 St. Patrick St\, Indianapolis\, IN\, 46203\, United States
END:VEVENT
BEGIN:VEVENT
DTSTART;TZID=America/Indiana/Indianapolis:20220924T210000
DTEND;TZID=America/Indiana/Indianapolis:20220924T235900
DTSTAMP:20260422T133205
CREATED:20220725T144706Z
LAST-MODIFIED:20220923T231046Z
UID:24731-1664053200-1664063940@mokbpresents.com
SUMMARY:Michael Cleveland & Flamekeeper
DESCRIPTION:
URL:https://mokbpresents.com/event/michael-cleveland-flamekeeper/
LOCATION:HI-FI\, 1043 Virginia Ave #4\, Indianapolis\, IN\, 46203\, United States
CATEGORIES:Bluegrass,Promo: Fall 2022 Ticket Promo
GEO:39.7525463;-86.1407527
X-APPLE-STRUCTURED-LOCATION;VALUE=URI;X-ADDRESS=HI-FI 1043 Virginia Ave #4 Indianapolis IN 46203 United States;X-APPLE-RADIUS=500;X-TITLE=1043 Virginia Ave #4:geo:-86.1407527,39.7525463
END:VEVENT
BEGIN:VEVENT
DTSTART;TZID=America/Indiana/Indianapolis:20220928T210000
DTEND;TZID=America/Indiana/Indianapolis:20220928T235900
DTSTAMP:20260422T133205
CREATED:20220729T140031Z
LAST-MODIFIED:20220926T180815Z
UID:24781-1664398800-1664409540@mokbpresents.com
SUMMARY:Bad Bad Hats
DESCRIPTION:
URL:https://mokbpresents.com/event/bad-bad-hats/
LOCATION:HI-FI\, 1043 Virginia Ave #4\, Indianapolis\, IN\, 46203\, United States
CATEGORIES:Indie Pop,Indie Rock,Promo: Fall 2022 Ticket Promo
GEO:39.7525463;-86.1407527
X-APPLE-STRUCTURED-LOCATION;VALUE=URI;X-ADDRESS=HI-FI 1043 Virginia Ave #4 Indianapolis IN 46203 United States;X-APPLE-RADIUS=500;X-TITLE=1043 Virginia Ave #4:geo:-86.1407527,39.7525463
END:VEVENT
BEGIN:VEVENT
DTSTART;TZID=America/Indiana/Indianapolis:20220929T190000
DTEND;TZID=America/Indiana/Indianapolis:20220929T220000
DTSTAMP:20260422T133205
CREATED:20220413T140034Z
LAST-MODIFIED:20220926T180759Z
UID:22881-1664478000-1664488800@mokbpresents.com
SUMMARY:American Aquarium
DESCRIPTION:
URL:https://mokbpresents.com/event/american-aquarium-2/
LOCATION:HI-FI Annex\, 1065 St. Patrick St\, Indianapolis\, IN\, 46203\, United States
CATEGORIES:Promo: Fall 2022 Ticket Promo
END:VEVENT
BEGIN:VEVENT
DTSTART;TZID=America/Indiana/Indianapolis:20220930T170000
DTEND;TZID=America/Indiana/Indianapolis:20220930T220000
DTSTAMP:20260422T133205
CREATED:20220825T140249Z
LAST-MODIFIED:20220926T180718Z
UID:25180-1664557200-1664575200@mokbpresents.com
SUMMARY:Lazer Metal Block Party
DESCRIPTION:
URL:https://mokbpresents.com/event/lazer-metal-block-party-outside/
LOCATION:HI-FI Annex\, 1065 St. Patrick St\, Indianapolis\, IN\, 46203\, United States
ATTACH;FMTTYPE=image/png:https://cdn.kicksdigital.com/mokbpresents.com/2022/08/Lazer-Metal-Block-Party.png
END:VEVENT
BEGIN:VEVENT
DTSTART;TZID=America/Indiana/Indianapolis:20220930T200000
DTEND;TZID=America/Indiana/Indianapolis:20220930T235900
DTSTAMP:20260422T133205
CREATED:20220919T215415Z
LAST-MODIFIED:20220926T180649Z
UID:25650-1664568000-1664582340@mokbpresents.com
SUMMARY:MZMR
DESCRIPTION:
URL:https://mokbpresents.com/event/mzmr/
LOCATION:HI-FI\, 1043 Virginia Ave #4\, Indianapolis\, IN\, 46203\, United States
ATTACH;FMTTYPE=image/jpeg:https://cdn.kicksdigital.com/mokbpresents.com/2022/09/MZMR-2.jpeg
GEO:39.7525463;-86.1407527
X-APPLE-STRUCTURED-LOCATION;VALUE=URI;X-ADDRESS=HI-FI 1043 Virginia Ave #4 Indianapolis IN 46203 United States;X-APPLE-RADIUS=500;X-TITLE=1043 Virginia Ave #4:geo:-86.1407527,39.7525463
END:VEVENT
END:VCALENDAR