BEGIN:VCALENDAR
VERSION:2.0
PRODID:-//MOKB Presents - ECPv6.15.16.1//NONSGML v1.0//EN
CALSCALE:GREGORIAN
METHOD:PUBLISH
X-ORIGINAL-URL:https://mokbpresents.com
X-WR-CALDESC:Events for MOKB Presents
REFRESH-INTERVAL;VALUE=DURATION:PT1H
X-Robots-Tag:noindex
X-PUBLISHED-TTL:PT1H
BEGIN:VTIMEZONE
TZID:America/Indiana/Indianapolis
BEGIN:DAYLIGHT
TZOFFSETFROM:-0500
TZOFFSETTO:-0400
TZNAME:EDT
DTSTART:20220313T070000
END:DAYLIGHT
BEGIN:STANDARD
TZOFFSETFROM:-0400
TZOFFSETTO:-0500
TZNAME:EST
DTSTART:20221106T060000
END:STANDARD
BEGIN:DAYLIGHT
TZOFFSETFROM:-0500
TZOFFSETTO:-0400
TZNAME:EDT
DTSTART:20230312T070000
END:DAYLIGHT
BEGIN:STANDARD
TZOFFSETFROM:-0400
TZOFFSETTO:-0500
TZNAME:EST
DTSTART:20231105T060000
END:STANDARD
BEGIN:DAYLIGHT
TZOFFSETFROM:-0500
TZOFFSETTO:-0400
TZNAME:EDT
DTSTART:20240310T070000
END:DAYLIGHT
BEGIN:STANDARD
TZOFFSETFROM:-0400
TZOFFSETTO:-0500
TZNAME:EST
DTSTART:20241103T060000
END:STANDARD
END:VTIMEZONE
BEGIN:VEVENT
DTSTART;TZID=America/Indiana/Indianapolis:20230601T190000
DTEND;TZID=America/Indiana/Indianapolis:20230601T220000
DTSTAMP:20260421T215817
CREATED:20230227T160043Z
LAST-MODIFIED:20230516T184700Z
UID:27719-1685646000-1685656800@mokbpresents.com
SUMMARY:Muscadine Bloodline - Me On You Tour
DESCRIPTION:
URL:https://mokbpresents.com/event/muscadine-bloodline-me-on-you-tour/
LOCATION:HI-FI Annex\, 1065 St. Patrick St\, Indianapolis\, IN\, 46203\, United States
CATEGORIES:All Ages,Promo: $20 All-In Tickets 2025
END:VEVENT
BEGIN:VEVENT
DTSTART;TZID=America/Indiana/Indianapolis:20230601T210000
DTEND;TZID=America/Indiana/Indianapolis:20230601T233000
DTSTAMP:20260421T215817
CREATED:20230301T150037Z
LAST-MODIFIED:20230512T190749Z
UID:27781-1685653200-1685662200@mokbpresents.com
SUMMARY:Pony Bradshaw
DESCRIPTION:
URL:https://mokbpresents.com/event/pony-bradshaw/
LOCATION:HI-FI\, 1043 Virginia Ave #4\, Indianapolis\, IN\, 46203\, United States
CATEGORIES:18+
GEO:39.7525463;-86.1407527
X-APPLE-STRUCTURED-LOCATION;VALUE=URI;X-ADDRESS=HI-FI 1043 Virginia Ave #4 Indianapolis IN 46203 United States;X-APPLE-RADIUS=500;X-TITLE=1043 Virginia Ave #4:geo:-86.1407527,39.7525463
END:VEVENT
BEGIN:VEVENT
DTSTART;TZID=America/Indiana/Indianapolis:20230602T190000
DTEND;TZID=America/Indiana/Indianapolis:20230602T220000
DTSTAMP:20260421T215817
CREATED:20230314T160012Z
LAST-MODIFIED:20230522T150129Z
UID:27958-1685732400-1685743200@mokbpresents.com
SUMMARY:The Four Horsemen
DESCRIPTION:
URL:https://mokbpresents.com/event/the-four-horsemen-2/
LOCATION:HI-FI Annex\, 1065 St. Patrick St\, Indianapolis\, IN\, 46203\, United States
CATEGORIES:All Ages,Promo: Thirsty Friends
END:VEVENT
BEGIN:VEVENT
DTSTART;TZID=America/Indiana/Indianapolis:20230602T193000
DTEND;TZID=America/Indiana/Indianapolis:20230602T220000
DTSTAMP:20260421T215817
CREATED:20230327T142218Z
LAST-MODIFIED:20230531T160123Z
UID:28042-1685734200-1685743200@mokbpresents.com
SUMMARY:Friends of Garfield Park Present Hank Ruff
DESCRIPTION:
URL:https://mokbpresents.com/event/friends-of-garfield-park-present-hank-ruff/
LOCATION:Garfield Park\, 2432 Conservatory Drive\, Indianapolis\, IN\, 46203\, United States
CATEGORIES:All Ages,Promo: Thirsty Friends
ORGANIZER;CN="Friends of Garfield Park":MAILTO:info@garfieldparkindy.org
END:VEVENT
BEGIN:VEVENT
DTSTART;TZID=America/Indiana/Indianapolis:20230602T210000
DTEND;TZID=America/Indiana/Indianapolis:20230602T235900
DTSTAMP:20260421T215817
CREATED:20230309T150011Z
LAST-MODIFIED:20230522T150114Z
UID:27929-1685739600-1685750340@mokbpresents.com
SUMMARY:Wolftooth
DESCRIPTION:
URL:https://mokbpresents.com/event/wolftooth-2/
LOCATION:HI-FI\, 1043 Virginia Ave #4\, Indianapolis\, IN\, 46203\, United States
CATEGORIES:18+,Promo: Thirsty Friends
GEO:39.7525463;-86.1407527
X-APPLE-STRUCTURED-LOCATION;VALUE=URI;X-ADDRESS=HI-FI 1043 Virginia Ave #4 Indianapolis IN 46203 United States;X-APPLE-RADIUS=500;X-TITLE=1043 Virginia Ave #4:geo:-86.1407527,39.7525463
END:VEVENT
BEGIN:VEVENT
DTSTART;TZID=America/Indiana/Indianapolis:20230603T200000
DTEND;TZID=America/Indiana/Indianapolis:20230603T233000
DTSTAMP:20260421T215817
CREATED:20230228T150004Z
LAST-MODIFIED:20230526T190601Z
UID:27760-1685822400-1685835000@mokbpresents.com
SUMMARY:Caitlin Rose + Andrew Combs
DESCRIPTION:
URL:https://mokbpresents.com/event/caitlin-rose-andrew-combs/
LOCATION:HI-FI\, 1043 Virginia Ave #4\, Indianapolis\, IN\, 46203\, United States
CATEGORIES:18+,Promo: Thirsty Friends
ATTACH;FMTTYPE=image/jpeg:https://cdn.kicksdigital.com/mokbpresents.com/2021/06/CaitlinRose-AndrewCombs.jpg
GEO:39.7525463;-86.1407527
X-APPLE-STRUCTURED-LOCATION;VALUE=URI;X-ADDRESS=HI-FI 1043 Virginia Ave #4 Indianapolis IN 46203 United States;X-APPLE-RADIUS=500;X-TITLE=1043 Virginia Ave #4:geo:-86.1407527,39.7525463
END:VEVENT
BEGIN:VEVENT
DTSTART;TZID=America/Indiana/Indianapolis:20230605T190000
DTEND;TZID=America/Indiana/Indianapolis:20230605T220000
DTSTAMP:20260421T215817
CREATED:20230418T160007Z
LAST-MODIFIED:20230605T201633Z
UID:28346-1685991600-1686002400@mokbpresents.com
SUMMARY:Del Amitri
DESCRIPTION:
URL:https://mokbpresents.com/event/del-amitri/
LOCATION:HI-FI Annex\, 1065 St. Patrick St\, Indianapolis\, IN\, 46203\, United States
CATEGORIES:All Ages,Promo: $20 All-In Tickets 2025,Promo: Thirsty Friends
END:VEVENT
BEGIN:VEVENT
DTSTART;TZID=America/Indiana/Indianapolis:20230609T200000
DTEND;TZID=America/Indiana/Indianapolis:20230609T233000
DTSTAMP:20260421T215817
CREATED:20230403T160014Z
LAST-MODIFIED:20230609T144144Z
UID:28202-1686340800-1686353400@mokbpresents.com
SUMMARY:Thee Sinseers + The Altons
DESCRIPTION:
URL:https://mokbpresents.com/event/thee-sinseers-the-altons/
LOCATION:HI-FI\, 1043 Virginia Ave #4\, Indianapolis\, IN\, 46203\, United States
CATEGORIES:18+,Promo: $20 All-In Tickets 2025,Promo: Thirsty Friends
GEO:39.7525463;-86.1407527
X-APPLE-STRUCTURED-LOCATION;VALUE=URI;X-ADDRESS=HI-FI 1043 Virginia Ave #4 Indianapolis IN 46203 United States;X-APPLE-RADIUS=500;X-TITLE=1043 Virginia Ave #4:geo:-86.1407527,39.7525463
END:VEVENT
BEGIN:VEVENT
DTSTART;TZID=America/Indiana/Indianapolis:20230610T110000
DTEND;TZID=America/Indiana/Indianapolis:20230610T230000
DTSTAMP:20260421T215817
CREATED:20230508T153602Z
LAST-MODIFIED:20230508T153714Z
UID:28817-1686394800-1686438000@mokbpresents.com
SUMMARY:Indy Pride Festival 2023
DESCRIPTION:
URL:https://mokbpresents.com/event/indy-pride-festival-2023/
LOCATION:Military Park\, 601 W. New York St\, Indianapolis\, IN\, 46204\, United States
CATEGORIES:All Ages
ATTACH;FMTTYPE=image/jpeg:https://cdn.kicksdigital.com/mokbpresents.com/2023/05/IndyPride2023.jpg
ORGANIZER;CN="Indy Pride":MAILTO:info@indypride.org
END:VEVENT
BEGIN:VEVENT
DTSTART;TZID=America/Indiana/Indianapolis:20230610T190000
DTEND;TZID=America/Indiana/Indianapolis:20230610T220000
DTSTAMP:20260421T215817
CREATED:20230424T140003Z
LAST-MODIFIED:20230609T144359Z
UID:28444-1686423600-1686434400@mokbpresents.com
SUMMARY:Rod Tuffcurls & The Bench Press
DESCRIPTION:
URL:https://mokbpresents.com/event/rod-tuffcurls-the-bench-press-5/
LOCATION:HI-FI Annex\, 1065 St. Patrick St\, Indianapolis\, IN\, 46203\, United States
CATEGORIES:All Ages
END:VEVENT
BEGIN:VEVENT
DTSTART;TZID=America/Indiana/Indianapolis:20230610T210000
DTEND;TZID=America/Indiana/Indianapolis:20230610T235900
DTSTAMP:20260421T215817
CREATED:20230310T161123Z
LAST-MODIFIED:20230412T153824Z
UID:27951-1686430800-1686441540@mokbpresents.com
SUMMARY:Josh Meloy
DESCRIPTION:
URL:https://mokbpresents.com/event/josh-meloy/
LOCATION:HI-FI\, 1043 Virginia Ave #4\, Indianapolis\, IN\, 46203\, United States
CATEGORIES:18+
GEO:39.7525463;-86.1407527
X-APPLE-STRUCTURED-LOCATION;VALUE=URI;X-ADDRESS=HI-FI 1043 Virginia Ave #4 Indianapolis IN 46203 United States;X-APPLE-RADIUS=500;X-TITLE=1043 Virginia Ave #4:geo:-86.1407527,39.7525463
END:VEVENT
BEGIN:VEVENT
DTSTART;TZID=America/Indiana/Indianapolis:20230612T190000
DTEND;TZID=America/Indiana/Indianapolis:20230612T220000
DTSTAMP:20260421T215817
CREATED:20230125T170002Z
LAST-MODIFIED:20230612T152529Z
UID:27119-1686596400-1686607200@mokbpresents.com
SUMMARY:Joseph - The Sun Tour
DESCRIPTION:
URL:https://mokbpresents.com/event/joseph/
LOCATION:HI-FI Annex\, 1065 St. Patrick St\, Indianapolis\, IN\, 46203\, United States
CATEGORIES:All Ages
END:VEVENT
BEGIN:VEVENT
DTSTART;TZID=America/Indiana/Indianapolis:20230615T200000
DTEND;TZID=America/Indiana/Indianapolis:20230615T233000
DTSTAMP:20260421T215818
CREATED:20230126T170755Z
LAST-MODIFIED:20230613T214440Z
UID:27163-1686859200-1686871800@mokbpresents.com
SUMMARY:Damien Jurado
DESCRIPTION:
URL:https://mokbpresents.com/event/damien-jurado/
LOCATION:HI-FI\, 1043 Virginia Ave #4\, Indianapolis\, IN\, 46203\, United States
CATEGORIES:18+
GEO:39.7525463;-86.1407527
X-APPLE-STRUCTURED-LOCATION;VALUE=URI;X-ADDRESS=HI-FI 1043 Virginia Ave #4 Indianapolis IN 46203 United States;X-APPLE-RADIUS=500;X-TITLE=1043 Virginia Ave #4:geo:-86.1407527,39.7525463
END:VEVENT
BEGIN:VEVENT
DTSTART;TZID=America/Indiana/Indianapolis:20230616T210000
DTEND;TZID=America/Indiana/Indianapolis:20230616T233000
DTSTAMP:20260421T215818
CREATED:20230419T150003Z
LAST-MODIFIED:20250421T181512Z
UID:28377-1686949200-1686958200@mokbpresents.com
SUMMARY:Briscoe
DESCRIPTION:
URL:https://mokbpresents.com/event/briscoe/
LOCATION:HI-FI\, 1043 Virginia Ave #4\, Indianapolis\, IN\, 46203\, United States
CATEGORIES:18+,Promo: Radar Ready,Promo: Thirsty Friends
GEO:39.7525463;-86.1407527
X-APPLE-STRUCTURED-LOCATION;VALUE=URI;X-ADDRESS=HI-FI 1043 Virginia Ave #4 Indianapolis IN 46203 United States;X-APPLE-RADIUS=500;X-TITLE=1043 Virginia Ave #4:geo:-86.1407527,39.7525463
END:VEVENT
BEGIN:VEVENT
DTSTART;TZID=America/Indiana/Indianapolis:20230617T130000
DTEND;TZID=America/Indiana/Indianapolis:20230618T230000
DTSTAMP:20260421T215818
CREATED:20230207T153520Z
LAST-MODIFIED:20230616T152706Z
UID:26206-1687006800-1687129200@mokbpresents.com
SUMMARY:WonderRoad Fest 2023
DESCRIPTION:
URL:https://mokbpresents.com/event/wonderroad-fest-2023/
LOCATION:Garfield Park\, 2432 Conservatory Drive\, Indianapolis\, IN\, 46203\, United States
CATEGORIES:All Ages,Promo: Thirsty Friends
ATTACH;FMTTYPE=image/png:https://cdn.kicksdigital.com/mokbpresents.com/2023/02/WonderRoadStage-web.png
ORGANIZER;CN="WonderRoad":MAILTO:INFO@WONDERROADFEST.COM
END:VEVENT
BEGIN:VEVENT
DTSTART;TZID=America/Indiana/Indianapolis:20230617T221500
DTEND;TZID=America/Indiana/Indianapolis:20230617T235900
DTSTAMP:20260421T215818
CREATED:20230417T143829Z
LAST-MODIFIED:20230531T160320Z
UID:28320-1687040100-1687046340@mokbpresents.com
SUMMARY:almost monday w/ Myron Elkins - WonderRoad Aftershow
DESCRIPTION:
URL:https://mokbpresents.com/event/almost-monday-wonderroad-aftershow/
LOCATION:HI-FI\, 1043 Virginia Ave #4\, Indianapolis\, IN\, 46203\, United States
CATEGORIES:18+,Promo: Thirsty Friends
GEO:39.7525463;-86.1407527
X-APPLE-STRUCTURED-LOCATION;VALUE=URI;X-ADDRESS=HI-FI 1043 Virginia Ave #4 Indianapolis IN 46203 United States;X-APPLE-RADIUS=500;X-TITLE=1043 Virginia Ave #4:geo:-86.1407527,39.7525463
END:VEVENT
BEGIN:VEVENT
DTSTART;TZID=America/Indiana/Indianapolis:20230618T221500
DTEND;TZID=America/Indiana/Indianapolis:20230618T235900
DTSTAMP:20260421T215818
CREATED:20230417T142314Z
LAST-MODIFIED:20230516T185111Z
UID:28313-1687126500-1687132740@mokbpresents.com
SUMMARY:Andrew McMahon - WonderRoad Aftershow
DESCRIPTION:
URL:https://mokbpresents.com/event/andrew-mcmahon-wonderroad-aftershow/
LOCATION:HI-FI\, 1043 Virginia Ave #4\, Indianapolis\, IN\, 46203\, United States
CATEGORIES:18+
GEO:39.7525463;-86.1407527
X-APPLE-STRUCTURED-LOCATION;VALUE=URI;X-ADDRESS=HI-FI 1043 Virginia Ave #4 Indianapolis IN 46203 United States;X-APPLE-RADIUS=500;X-TITLE=1043 Virginia Ave #4:geo:-86.1407527,39.7525463
END:VEVENT
BEGIN:VEVENT
DTSTART;TZID=America/Indiana/Indianapolis:20230620T193000
DTEND;TZID=America/Indiana/Indianapolis:20230620T230000
DTSTAMP:20260421T215818
CREATED:20230606T160035Z
LAST-MODIFIED:20230606T183054Z
UID:28088-1687289400-1687302000@mokbpresents.com
SUMMARY:Meet Me @ The Altar
DESCRIPTION:
URL:https://mokbpresents.com/event/meet-me-the-altar/
LOCATION:HI-FI\, 1043 Virginia Ave #4\, Indianapolis\, IN\, 46203\, United States
CATEGORIES:All Ages,Promo: $20 All-In Tickets 2025
GEO:39.7525463;-86.1407527
X-APPLE-STRUCTURED-LOCATION;VALUE=URI;X-ADDRESS=HI-FI 1043 Virginia Ave #4 Indianapolis IN 46203 United States;X-APPLE-RADIUS=500;X-TITLE=1043 Virginia Ave #4:geo:-86.1407527,39.7525463
END:VEVENT
BEGIN:VEVENT
DTSTART;TZID=America/Indiana/Indianapolis:20230621T200000
DTEND;TZID=America/Indiana/Indianapolis:20230621T230000
DTSTAMP:20260421T215818
CREATED:20230425T160059Z
LAST-MODIFIED:20230621T144104Z
UID:28494-1687377600-1687388400@mokbpresents.com
SUMMARY:the moss
DESCRIPTION:
URL:https://mokbpresents.com/event/the-moss/
LOCATION:HI-FI\, 1043 Virginia Ave #4\, Indianapolis\, IN\, 46203\, United States
CATEGORIES:18+
GEO:39.7525463;-86.1407527
X-APPLE-STRUCTURED-LOCATION;VALUE=URI;X-ADDRESS=HI-FI 1043 Virginia Ave #4 Indianapolis IN 46203 United States;X-APPLE-RADIUS=500;X-TITLE=1043 Virginia Ave #4:geo:-86.1407527,39.7525463
END:VEVENT
BEGIN:VEVENT
DTSTART;TZID=America/Indiana/Indianapolis:20230622T190000
DTEND;TZID=America/Indiana/Indianapolis:20230622T220000
DTSTAMP:20260421T215818
CREATED:20230221T160023Z
LAST-MODIFIED:20230522T150213Z
UID:27640-1687460400-1687471200@mokbpresents.com
SUMMARY:Deer Tick
DESCRIPTION:
URL:https://mokbpresents.com/event/deer-tick-2/
LOCATION:HI-FI Annex\, 1065 St. Patrick St\, Indianapolis\, IN\, 46203\, United States
CATEGORIES:All Ages,Promo: $20 All-In Tickets 2025,Promo: Thirsty Friends
END:VEVENT
BEGIN:VEVENT
DTSTART;TZID=America/Indiana/Indianapolis:20230622T193000
DTEND;TZID=America/Indiana/Indianapolis:20230622T230000
DTSTAMP:20260421T215818
CREATED:20230328T160057Z
LAST-MODIFIED:20230613T214617Z
UID:28094-1687462200-1687474800@mokbpresents.com
SUMMARY:The Blue Stones - Pretty Monster U.S. Tour
DESCRIPTION:
URL:https://mokbpresents.com/event/the-blue-stones-pretty-monster-u-s-tour/
LOCATION:HI-FI\, 1043 Virginia Ave #4\, Indianapolis\, IN\, 46203\, United States
CATEGORIES:18+,Promo: $20 All-In Tickets 2025
GEO:39.7525463;-86.1407527
X-APPLE-STRUCTURED-LOCATION;VALUE=URI;X-ADDRESS=HI-FI 1043 Virginia Ave #4 Indianapolis IN 46203 United States;X-APPLE-RADIUS=500;X-TITLE=1043 Virginia Ave #4:geo:-86.1407527,39.7525463
END:VEVENT
BEGIN:VEVENT
DTSTART;TZID=America/Indiana/Indianapolis:20230623T190000
DTEND;TZID=America/Indiana/Indianapolis:20230623T220000
DTSTAMP:20260421T215818
CREATED:20230420T160005Z
LAST-MODIFIED:20230623T184115Z
UID:28399-1687546800-1687557600@mokbpresents.com
SUMMARY:Couch
DESCRIPTION:
URL:https://mokbpresents.com/event/couch-2/
LOCATION:HI-FI Annex\, 1065 St. Patrick St\, Indianapolis\, IN\, 46203\, United States
CATEGORIES:All Ages,Promo: $20 All-In Tickets 2025,Promo: Thirsty Friends
END:VEVENT
BEGIN:VEVENT
DTSTART;TZID=America/Indiana/Indianapolis:20230623T210000
DTEND;TZID=America/Indiana/Indianapolis:20230623T233000
DTSTAMP:20260421T215818
CREATED:20230222T160204Z
LAST-MODIFIED:20230614T201748Z
UID:27674-1687554000-1687563000@mokbpresents.com
SUMMARY:John R. Miller
DESCRIPTION:
URL:https://mokbpresents.com/event/john-r-miller/
LOCATION:HI-FI\, 1043 Virginia Ave #4\, Indianapolis\, IN\, 46203\, United States
CATEGORIES:18+,Promo: Thirsty Friends
GEO:39.7525463;-86.1407527
X-APPLE-STRUCTURED-LOCATION;VALUE=URI;X-ADDRESS=HI-FI 1043 Virginia Ave #4 Indianapolis IN 46203 United States;X-APPLE-RADIUS=500;X-TITLE=1043 Virginia Ave #4:geo:-86.1407527,39.7525463
END:VEVENT
BEGIN:VEVENT
DTSTART;TZID=America/Indiana/Indianapolis:20230624T190000
DTEND;TZID=America/Indiana/Indianapolis:20230624T220000
DTSTAMP:20260421T215818
CREATED:20230207T180043Z
LAST-MODIFIED:20230603T213444Z
UID:26834-1687633200-1687644000@mokbpresents.com
SUMMARY:The Ultimate Doors
DESCRIPTION:
URL:https://mokbpresents.com/event/the-ultimate-doors-2/
LOCATION:HI-FI Annex\, 1065 St. Patrick St\, Indianapolis\, IN\, 46203\, United States
CATEGORIES:All Ages,Promo: Thirsty Friends
END:VEVENT
BEGIN:VEVENT
DTSTART;TZID=America/Indiana/Indianapolis:20230624T200000
DTEND;TZID=America/Indiana/Indianapolis:20230624T233000
DTSTAMP:20260421T215818
CREATED:20230525T161839Z
LAST-MODIFIED:20230525T161842Z
UID:29184-1687636800-1687649400@mokbpresents.com
SUMMARY:Crooked Teeth w/ summerbruise
DESCRIPTION:
URL:https://mokbpresents.com/event/crooked-teeth-w-summerbruise/
LOCATION:HI-FI\, 1043 Virginia Ave #4\, Indianapolis\, IN\, 46203\, United States
CATEGORIES:18+
GEO:39.7525463;-86.1407527
X-APPLE-STRUCTURED-LOCATION;VALUE=URI;X-ADDRESS=HI-FI 1043 Virginia Ave #4 Indianapolis IN 46203 United States;X-APPLE-RADIUS=500;X-TITLE=1043 Virginia Ave #4:geo:-86.1407527,39.7525463
END:VEVENT
BEGIN:VEVENT
DTSTART;TZID=America/Indiana/Indianapolis:20230625T200000
DTEND;TZID=America/Indiana/Indianapolis:20230625T230000
DTSTAMP:20260421T215818
CREATED:20230425T140043Z
LAST-MODIFIED:20230620T212200Z
UID:28467-1687723200-1687734000@mokbpresents.com
SUMMARY:American Aquarium
DESCRIPTION:
URL:https://mokbpresents.com/event/american-aquarium-3/
LOCATION:HI-FI\, 1043 Virginia Ave #4\, Indianapolis\, IN\, 46203\, United States
CATEGORIES:18+,Promo: $20 All-In Tickets 2025
GEO:39.7525463;-86.1407527
X-APPLE-STRUCTURED-LOCATION;VALUE=URI;X-ADDRESS=HI-FI 1043 Virginia Ave #4 Indianapolis IN 46203 United States;X-APPLE-RADIUS=500;X-TITLE=1043 Virginia Ave #4:geo:-86.1407527,39.7525463
END:VEVENT
BEGIN:VEVENT
DTSTART;TZID=America/Indiana/Indianapolis:20230629T210000
DTEND;TZID=America/Indiana/Indianapolis:20230629T233000
DTSTAMP:20260421T215818
CREATED:20230227T160057Z
LAST-MODIFIED:20230613T214511Z
UID:27725-1688072400-1688081400@mokbpresents.com
SUMMARY:Uncle Lucius
DESCRIPTION:
URL:https://mokbpresents.com/event/uncle-lucius/
LOCATION:HI-FI\, 1043 Virginia Ave #4\, Indianapolis\, IN\, 46203\, United States
CATEGORIES:18+
GEO:39.7525463;-86.1407527
X-APPLE-STRUCTURED-LOCATION;VALUE=URI;X-ADDRESS=HI-FI 1043 Virginia Ave #4 Indianapolis IN 46203 United States;X-APPLE-RADIUS=500;X-TITLE=1043 Virginia Ave #4:geo:-86.1407527,39.7525463
END:VEVENT
BEGIN:VEVENT
DTSTART;TZID=America/Indiana/Indianapolis:20230630T190000
DTEND;TZID=America/Indiana/Indianapolis:20230630T220000
DTSTAMP:20260421T215818
CREATED:20230510T160011Z
LAST-MODIFIED:20230824T191201Z
UID:28867-1688151600-1688162400@mokbpresents.com
SUMMARY:Dexter and The Moonrocks
DESCRIPTION:
URL:https://mokbpresents.com/event/dexter-and-the-moonrocks/
LOCATION:HI-FI Annex\, 1065 St. Patrick St\, Indianapolis\, IN\, 46203\, United States
CATEGORIES:All Ages
END:VEVENT
BEGIN:VEVENT
DTSTART;TZID=America/Indiana/Indianapolis:20230630T193000
DTEND;TZID=America/Indiana/Indianapolis:20230630T235900
DTSTAMP:20260421T215818
CREATED:20230321T160050Z
LAST-MODIFIED:20230517T161835Z
UID:27996-1688153400-1688169540@mokbpresents.com
SUMMARY:Heart Attack Man - Freak of Na-Tour
DESCRIPTION:
URL:https://mokbpresents.com/event/heart-attack-man-freak-of-na-tour/
LOCATION:HI-FI\, 1043 Virginia Ave #4\, Indianapolis\, IN\, 46203\, United States
CATEGORIES:18+,Promo: $20 All-In Tickets 2025
GEO:39.7525463;-86.1407527
X-APPLE-STRUCTURED-LOCATION;VALUE=URI;X-ADDRESS=HI-FI 1043 Virginia Ave #4 Indianapolis IN 46203 United States;X-APPLE-RADIUS=500;X-TITLE=1043 Virginia Ave #4:geo:-86.1407527,39.7525463
END:VEVENT
END:VCALENDAR