BEGIN:VCALENDAR
VERSION:2.0
PRODID:-//MOKB Presents - ECPv6.15.16.1//NONSGML v1.0//EN
CALSCALE:GREGORIAN
METHOD:PUBLISH
X-WR-CALNAME:MOKB Presents
X-ORIGINAL-URL:https://mokbpresents.com
X-WR-CALDESC:Events for MOKB Presents
REFRESH-INTERVAL;VALUE=DURATION:PT1H
X-Robots-Tag:noindex
X-PUBLISHED-TTL:PT1H
BEGIN:VTIMEZONE
TZID:America/Indiana/Indianapolis
BEGIN:DAYLIGHT
TZOFFSETFROM:-0500
TZOFFSETTO:-0400
TZNAME:EDT
DTSTART:20230312T070000
END:DAYLIGHT
BEGIN:STANDARD
TZOFFSETFROM:-0400
TZOFFSETTO:-0500
TZNAME:EST
DTSTART:20231105T060000
END:STANDARD
BEGIN:DAYLIGHT
TZOFFSETFROM:-0500
TZOFFSETTO:-0400
TZNAME:EDT
DTSTART:20240310T070000
END:DAYLIGHT
BEGIN:STANDARD
TZOFFSETFROM:-0400
TZOFFSETTO:-0500
TZNAME:EST
DTSTART:20241103T060000
END:STANDARD
BEGIN:DAYLIGHT
TZOFFSETFROM:-0500
TZOFFSETTO:-0400
TZNAME:EDT
DTSTART:20250309T070000
END:DAYLIGHT
BEGIN:STANDARD
TZOFFSETFROM:-0400
TZOFFSETTO:-0500
TZNAME:EST
DTSTART:20251102T060000
END:STANDARD
END:VTIMEZONE
BEGIN:VEVENT
DTSTART;TZID=America/Indiana/Indianapolis:20240301T190000
DTEND;TZID=America/Indiana/Indianapolis:20240301T210000
DTSTAMP:20260421T072340
CREATED:20231114T170038Z
LAST-MODIFIED:20240221T230324Z
UID:31270-1709319600-1709326800@mokbpresents.com
SUMMARY:An Evening With Everything Yes
DESCRIPTION:
URL:https://mokbpresents.com/event/everything-yes/
LOCATION:LO-FI Lounge\, 1043 Virginia Ave #215\, Indianapolis\, IN\, 46203\, United States
CATEGORIES:21+
END:VEVENT
BEGIN:VEVENT
DTSTART;TZID=America/Indiana/Indianapolis:20240301T210000
DTEND;TZID=America/Indiana/Indianapolis:20240301T235900
DTSTAMP:20260421T072340
CREATED:20240109T180034Z
LAST-MODIFIED:20240214T181258Z
UID:31737-1709326800-1709337540@mokbpresents.com
SUMMARY:Solshine Reverie: On The Road Tour
DESCRIPTION:
URL:https://mokbpresents.com/event/solshine-reverie-on-the-road-tour/
LOCATION:HI-FI\, 1043 Virginia Ave #4\, Indianapolis\, IN\, 46203\, United States
CATEGORIES:18+
ATTACH;FMTTYPE=image/png:https://cdn.kicksdigital.com/mokbpresents.com/2024/01/OTR-CoverPhoto.png
GEO:39.7525463;-86.1407527
X-APPLE-STRUCTURED-LOCATION;VALUE=URI;X-ADDRESS=HI-FI 1043 Virginia Ave #4 Indianapolis IN 46203 United States;X-APPLE-RADIUS=500;X-TITLE=1043 Virginia Ave #4:geo:-86.1407527,39.7525463
END:VEVENT
BEGIN:VEVENT
DTSTART;TZID=America/Indiana/Indianapolis:20240302T210000
DTEND;TZID=America/Indiana/Indianapolis:20240302T235900
DTSTAMP:20260421T072340
CREATED:20231204T170054Z
LAST-MODIFIED:20240125T162704Z
UID:31426-1709413200-1709423940@mokbpresents.com
SUMMARY:Chris Knight
DESCRIPTION:
URL:https://mokbpresents.com/event/chris-knight-4/
LOCATION:HI-FI\, 1043 Virginia Ave #4\, Indianapolis\, IN\, 46203\, United States
CATEGORIES:18+,Promo: Thirsty Friends
GEO:39.7525463;-86.1407527
X-APPLE-STRUCTURED-LOCATION;VALUE=URI;X-ADDRESS=HI-FI 1043 Virginia Ave #4 Indianapolis IN 46203 United States;X-APPLE-RADIUS=500;X-TITLE=1043 Virginia Ave #4:geo:-86.1407527,39.7525463
END:VEVENT
BEGIN:VEVENT
DTSTART;TZID=America/Indiana/Indianapolis:20240303T200000
DTEND;TZID=America/Indiana/Indianapolis:20240303T233000
DTSTAMP:20260421T072340
CREATED:20231204T160357Z
LAST-MODIFIED:20240123T154226Z
UID:31422-1709496000-1709508600@mokbpresents.com
SUMMARY:On Tour with Kolton Moore & the Clever Few
DESCRIPTION:
URL:https://mokbpresents.com/event/on-tour-with-kolton-moore-the-clever-few/
LOCATION:HI-FI\, 1043 Virginia Ave #4\, Indianapolis\, IN\, 46203\, United States
CATEGORIES:18+
GEO:39.7525463;-86.1407527
X-APPLE-STRUCTURED-LOCATION;VALUE=URI;X-ADDRESS=HI-FI 1043 Virginia Ave #4 Indianapolis IN 46203 United States;X-APPLE-RADIUS=500;X-TITLE=1043 Virginia Ave #4:geo:-86.1407527,39.7525463
END:VEVENT
BEGIN:VEVENT
DTSTART;TZID=America/Indiana/Indianapolis:20240306T200000
DTEND;TZID=America/Indiana/Indianapolis:20240306T233000
DTSTAMP:20260421T072340
CREATED:20231023T171223Z
LAST-MODIFIED:20240301T154339Z
UID:31024-1709755200-1709767800@mokbpresents.com
SUMMARY:SOLD OUT: Sam Barber – Till I Return Tour
DESCRIPTION:
URL:https://mokbpresents.com/event/sam-barber-till-i-return-tour/
LOCATION:HI-FI\, 1043 Virginia Ave #4\, Indianapolis\, IN\, 46203\, United States
CATEGORIES:18+
GEO:39.7525463;-86.1407527
X-APPLE-STRUCTURED-LOCATION;VALUE=URI;X-ADDRESS=HI-FI 1043 Virginia Ave #4 Indianapolis IN 46203 United States;X-APPLE-RADIUS=500;X-TITLE=1043 Virginia Ave #4:geo:-86.1407527,39.7525463
END:VEVENT
BEGIN:VEVENT
DTSTART;TZID=America/Indiana/Indianapolis:20240307T190000
DTEND;TZID=America/Indiana/Indianapolis:20240307T210000
DTSTAMP:20260421T072340
CREATED:20240209T163541Z
LAST-MODIFIED:20240227T224828Z
UID:32190-1709838000-1709845200@mokbpresents.com
SUMMARY:Kendall Street Company
DESCRIPTION:
URL:https://mokbpresents.com/event/kendall-street-company/
LOCATION:LO-FI Lounge\, 1043 Virginia Ave #215\, Indianapolis\, IN\, 46203\, United States
CATEGORIES:21+
END:VEVENT
BEGIN:VEVENT
DTSTART;TZID=America/Indiana/Indianapolis:20240307T200000
DTEND;TZID=America/Indiana/Indianapolis:20240307T233000
DTSTAMP:20260421T072340
CREATED:20240112T170042Z
LAST-MODIFIED:20240112T170513Z
UID:31812-1709841600-1709854200@mokbpresents.com
SUMMARY:Papadosio
DESCRIPTION:
URL:https://mokbpresents.com/event/papadosio/
LOCATION:The Vogue\, 6259 N. College Ave\, Indianapolis\, IN\, 46220\, United States
CATEGORIES:21+
END:VEVENT
BEGIN:VEVENT
DTSTART;TZID=America/Indiana/Indianapolis:20240307T210000
DTEND;TZID=America/Indiana/Indianapolis:20240307T233000
DTSTAMP:20260421T072340
CREATED:20231017T150013Z
LAST-MODIFIED:20240104T192329Z
UID:30964-1709845200-1709854200@mokbpresents.com
SUMMARY:Lilly Hiatt
DESCRIPTION:
URL:https://mokbpresents.com/event/lilly-hiatt-2/
LOCATION:HI-FI\, 1043 Virginia Ave #4\, Indianapolis\, IN\, 46203\, United States
CATEGORIES:18+,Promo: Thirsty Friends
GEO:39.7525463;-86.1407527
X-APPLE-STRUCTURED-LOCATION;VALUE=URI;X-ADDRESS=HI-FI 1043 Virginia Ave #4 Indianapolis IN 46203 United States;X-APPLE-RADIUS=500;X-TITLE=1043 Virginia Ave #4:geo:-86.1407527,39.7525463
END:VEVENT
BEGIN:VEVENT
DTSTART;TZID=America/Indiana/Indianapolis:20240308T190000
DTEND;TZID=America/Indiana/Indianapolis:20240308T210000
DTSTAMP:20260421T072340
CREATED:20231107T154334Z
LAST-MODIFIED:20240308T175126Z
UID:31147-1709924400-1709931600@mokbpresents.com
SUMMARY:Mike Mains & The Branches
DESCRIPTION:
URL:https://mokbpresents.com/event/mike-mains-the-branches-2/
LOCATION:LO-FI Lounge\, 1043 Virginia Ave #215\, Indianapolis\, IN\, 46203\, United States
CATEGORIES:21+
END:VEVENT
BEGIN:VEVENT
DTSTART;TZID=America/Indiana/Indianapolis:20240308T210000
DTEND;TZID=America/Indiana/Indianapolis:20240308T235900
DTSTAMP:20260421T072340
CREATED:20240116T150026Z
LAST-MODIFIED:20240308T175311Z
UID:31822-1709931600-1709942340@mokbpresents.com
SUMMARY:Bendigo Fletcher
DESCRIPTION:
URL:https://mokbpresents.com/event/bendigo-fletcher-3/
LOCATION:HI-FI\, 1043 Virginia Ave #4\, Indianapolis\, IN\, 46203\, United States
CATEGORIES:All Ages
GEO:39.7525463;-86.1407527
X-APPLE-STRUCTURED-LOCATION;VALUE=URI;X-ADDRESS=HI-FI 1043 Virginia Ave #4 Indianapolis IN 46203 United States;X-APPLE-RADIUS=500;X-TITLE=1043 Virginia Ave #4:geo:-86.1407527,39.7525463
END:VEVENT
BEGIN:VEVENT
DTSTART;TZID=America/Indiana/Indianapolis:20240309T190000
DTEND;TZID=America/Indiana/Indianapolis:20240309T220000
DTSTAMP:20260421T072340
CREATED:20240122T160017Z
LAST-MODIFIED:20240308T175350Z
UID:31955-1710010800-1710021600@mokbpresents.com
SUMMARY:William Matheny
DESCRIPTION:
URL:https://mokbpresents.com/event/william-matheny/
LOCATION:LO-FI Lounge\, 1043 Virginia Ave #215\, Indianapolis\, IN\, 46203\, United States
CATEGORIES:21+
END:VEVENT
BEGIN:VEVENT
DTSTART;TZID=America/Indiana/Indianapolis:20240309T210000
DTEND;TZID=America/Indiana/Indianapolis:20240309T235900
DTSTAMP:20260421T072340
CREATED:20231127T160039Z
LAST-MODIFIED:20240308T180721Z
UID:31366-1710018000-1710028740@mokbpresents.com
SUMMARY:SOLD OUT: Tanner Usrey
DESCRIPTION:
URL:https://mokbpresents.com/event/tanner-usrey/
LOCATION:HI-FI\, 1043 Virginia Ave #4\, Indianapolis\, IN\, 46203\, United States
CATEGORIES:18+
GEO:39.7525463;-86.1407527
X-APPLE-STRUCTURED-LOCATION;VALUE=URI;X-ADDRESS=HI-FI 1043 Virginia Ave #4 Indianapolis IN 46203 United States;X-APPLE-RADIUS=500;X-TITLE=1043 Virginia Ave #4:geo:-86.1407527,39.7525463
END:VEVENT
BEGIN:VEVENT
DTSTART;TZID=America/Indiana/Indianapolis:20240310T193000
DTEND;TZID=America/Indiana/Indianapolis:20240310T233000
DTSTAMP:20260421T072340
CREATED:20230919T142356Z
LAST-MODIFIED:20240309T132246Z
UID:30730-1710099000-1710113400@mokbpresents.com
SUMMARY:SOLD OUT: Beach Weather
DESCRIPTION:
URL:https://mokbpresents.com/event/beach-weather/
LOCATION:HI-FI\, 1043 Virginia Ave #4\, Indianapolis\, IN\, 46203\, United States
CATEGORIES:All Ages
GEO:39.7525463;-86.1407527
X-APPLE-STRUCTURED-LOCATION;VALUE=URI;X-ADDRESS=HI-FI 1043 Virginia Ave #4 Indianapolis IN 46203 United States;X-APPLE-RADIUS=500;X-TITLE=1043 Virginia Ave #4:geo:-86.1407527,39.7525463
END:VEVENT
BEGIN:VEVENT
DTSTART;TZID=America/Indiana/Indianapolis:20240313T190000
DTEND;TZID=America/Indiana/Indianapolis:20240313T233000
DTSTAMP:20260421T072340
CREATED:20231214T170010Z
LAST-MODIFIED:20240308T175648Z
UID:31592-1710356400-1710372600@mokbpresents.com
SUMMARY:Anxious\, Koyo & One Step Closer
DESCRIPTION:
URL:https://mokbpresents.com/event/anxious-koyo-one-step-closer/
LOCATION:HI-FI\, 1043 Virginia Ave #4\, Indianapolis\, IN\, 46203\, United States
CATEGORIES:All Ages
GEO:39.7525463;-86.1407527
X-APPLE-STRUCTURED-LOCATION;VALUE=URI;X-ADDRESS=HI-FI 1043 Virginia Ave #4 Indianapolis IN 46203 United States;X-APPLE-RADIUS=500;X-TITLE=1043 Virginia Ave #4:geo:-86.1407527,39.7525463
END:VEVENT
BEGIN:VEVENT
DTSTART;TZID=America/Indiana/Indianapolis:20240315T190000
DTEND;TZID=America/Indiana/Indianapolis:20240315T210000
DTSTAMP:20260421T072340
CREATED:20231212T173554Z
LAST-MODIFIED:20240312T190212Z
UID:31540-1710529200-1710536400@mokbpresents.com
SUMMARY:Margo Cilker - Valley Of Heart's Delight '24 Tour
DESCRIPTION:
URL:https://mokbpresents.com/event/margo-cilker-valley-of-hearts-delight-24-tour/
LOCATION:LO-FI Lounge\, 1043 Virginia Ave #215\, Indianapolis\, IN\, 46203\, United States
CATEGORIES:21+,Promo: Thirsty Friends
END:VEVENT
BEGIN:VEVENT
DTSTART;TZID=America/Indiana/Indianapolis:20240315T210000
DTEND;TZID=America/Indiana/Indianapolis:20240315T235900
DTSTAMP:20260421T072340
CREATED:20231129T150337Z
LAST-MODIFIED:20240308T205410Z
UID:31391-1710536400-1710547140@mokbpresents.com
SUMMARY:Circles Around The Sun + Mikaela Davis and Southern Star
DESCRIPTION:
URL:https://mokbpresents.com/event/circles-around-the-sun-mikaela-davis-and-southern-star/
LOCATION:HI-FI\, 1043 Virginia Ave #4\, Indianapolis\, IN\, 46203\, United States
CATEGORIES:18+
ATTACH;FMTTYPE=image/png:https://cdn.kicksdigital.com/mokbpresents.com/2023/11/CATS-MikaelaDavis-web2.png
GEO:39.7525463;-86.1407527
X-APPLE-STRUCTURED-LOCATION;VALUE=URI;X-ADDRESS=HI-FI 1043 Virginia Ave #4 Indianapolis IN 46203 United States;X-APPLE-RADIUS=500;X-TITLE=1043 Virginia Ave #4:geo:-86.1407527,39.7525463
END:VEVENT
BEGIN:VEVENT
DTSTART;TZID=America/Indiana/Indianapolis:20240316T100000
DTEND;TZID=America/Indiana/Indianapolis:20240316T150000
DTSTAMP:20260421T072340
CREATED:20240307T193136Z
LAST-MODIFIED:20240312T182610Z
UID:32577-1710583200-1710601200@mokbpresents.com
SUMMARY:Local Vendor Pop-Up: Small Business Market
DESCRIPTION:
URL:https://mokbpresents.com/event/local-vendor-pop-up-small-business-market-2/
LOCATION:HI-FI\, 1043 Virginia Ave #4\, Indianapolis\, IN\, 46203\, United States
CATEGORIES:All Ages
ATTACH;FMTTYPE=image/png:https://cdn.kicksdigital.com/mokbpresents.com/2024/03/Local-Vendor-Pop-Up-web.png
GEO:39.7525463;-86.1407527
X-APPLE-STRUCTURED-LOCATION;VALUE=URI;X-ADDRESS=HI-FI 1043 Virginia Ave #4 Indianapolis IN 46203 United States;X-APPLE-RADIUS=500;X-TITLE=1043 Virginia Ave #4:geo:-86.1407527,39.7525463
END:VEVENT
BEGIN:VEVENT
DTSTART;TZID=America/Indiana/Indianapolis:20240316T190000
DTEND;TZID=America/Indiana/Indianapolis:20240316T210000
DTSTAMP:20260421T072340
CREATED:20240118T150610Z
LAST-MODIFIED:20240312T190223Z
UID:31883-1710615600-1710622800@mokbpresents.com
SUMMARY:Andrea Von Kampen - Sister Moon Tour
DESCRIPTION:
URL:https://mokbpresents.com/event/andrea-von-kampen/
LOCATION:LO-FI Lounge\, 1043 Virginia Ave #215\, Indianapolis\, IN\, 46203\, United States
CATEGORIES:21+,Promo: Thirsty Friends
END:VEVENT
BEGIN:VEVENT
DTSTART;TZID=America/Indiana/Indianapolis:20240316T210000
DTEND;TZID=America/Indiana/Indianapolis:20240316T235900
DTSTAMP:20260421T072340
CREATED:20231113T160231Z
LAST-MODIFIED:20240308T181325Z
UID:31216-1710622800-1710633540@mokbpresents.com
SUMMARY:The Castellows
DESCRIPTION:
URL:https://mokbpresents.com/event/the-castellows/
LOCATION:HI-FI\, 1043 Virginia Ave #4\, Indianapolis\, IN\, 46203\, United States
CATEGORIES:All Ages
GEO:39.7525463;-86.1407527
X-APPLE-STRUCTURED-LOCATION;VALUE=URI;X-ADDRESS=HI-FI 1043 Virginia Ave #4 Indianapolis IN 46203 United States;X-APPLE-RADIUS=500;X-TITLE=1043 Virginia Ave #4:geo:-86.1407527,39.7525463
END:VEVENT
BEGIN:VEVENT
DTSTART;TZID=America/Indiana/Indianapolis:20240317T200000
DTEND;TZID=America/Indiana/Indianapolis:20240317T233000
DTSTAMP:20260421T072340
CREATED:20240206T170043Z
LAST-MODIFIED:20240312T190232Z
UID:32123-1710705600-1710718200@mokbpresents.com
SUMMARY:Mihali - Lifted Tour
DESCRIPTION:
URL:https://mokbpresents.com/event/mihali/
LOCATION:HI-FI\, 1043 Virginia Ave #4\, Indianapolis\, IN\, 46203\, United States
CATEGORIES:18+,Promo: Thirsty Friends
ATTACH;FMTTYPE=image/png:https://cdn.kicksdigital.com/mokbpresents.com/2024/02/Mihali-web2.png
GEO:39.7525463;-86.1407527
X-APPLE-STRUCTURED-LOCATION;VALUE=URI;X-ADDRESS=HI-FI 1043 Virginia Ave #4 Indianapolis IN 46203 United States;X-APPLE-RADIUS=500;X-TITLE=1043 Virginia Ave #4:geo:-86.1407527,39.7525463
END:VEVENT
BEGIN:VEVENT
DTSTART;TZID=America/Indiana/Indianapolis:20240319T200000
DTEND;TZID=America/Indiana/Indianapolis:20240319T233000
DTSTAMP:20260421T072340
CREATED:20231009T160001Z
LAST-MODIFIED:20240308T184102Z
UID:30913-1710878400-1710891000@mokbpresents.com
SUMMARY:SOLD OUT: Josiah & The Bonnevilles - Endurance Tour
DESCRIPTION:
URL:https://mokbpresents.com/event/josiah-the-bonnevilles-endurance-tour/
LOCATION:HI-FI\, 1043 Virginia Ave #4\, Indianapolis\, IN\, 46203\, United States
CATEGORIES:All Ages
GEO:39.7525463;-86.1407527
X-APPLE-STRUCTURED-LOCATION;VALUE=URI;X-ADDRESS=HI-FI 1043 Virginia Ave #4 Indianapolis IN 46203 United States;X-APPLE-RADIUS=500;X-TITLE=1043 Virginia Ave #4:geo:-86.1407527,39.7525463
END:VEVENT
BEGIN:VEVENT
DTSTART;TZID=America/Indiana/Indianapolis:20240320T200000
DTEND;TZID=America/Indiana/Indianapolis:20240320T233000
DTSTAMP:20260421T072340
CREATED:20231128T170056Z
LAST-MODIFIED:20240312T190241Z
UID:31376-1710964800-1710977400@mokbpresents.com
SUMMARY:Tow'rs
DESCRIPTION:
URL:https://mokbpresents.com/event/towrs-2/
LOCATION:HI-FI\, 1043 Virginia Ave #4\, Indianapolis\, IN\, 46203\, United States
CATEGORIES:18+,Promo: Thirsty Friends
GEO:39.7525463;-86.1407527
X-APPLE-STRUCTURED-LOCATION;VALUE=URI;X-ADDRESS=HI-FI 1043 Virginia Ave #4 Indianapolis IN 46203 United States;X-APPLE-RADIUS=500;X-TITLE=1043 Virginia Ave #4:geo:-86.1407527,39.7525463
END:VEVENT
BEGIN:VEVENT
DTSTART;TZID=America/Indiana/Indianapolis:20240321T203000
DTEND;TZID=America/Indiana/Indianapolis:20240321T233000
DTSTAMP:20260421T072340
CREATED:20231024T165245Z
LAST-MODIFIED:20240321T171339Z
UID:31033-1711053000-1711063800@mokbpresents.com
SUMMARY:Mo Lowda & the Humble + The Bright Light Social Hour
DESCRIPTION:
URL:https://mokbpresents.com/event/mo-lowda-the-humble-the-bright-light-social-hour/
LOCATION:HI-FI\, 1043 Virginia Ave #4\, Indianapolis\, IN\, 46203\, United States
CATEGORIES:18+
GEO:39.7525463;-86.1407527
X-APPLE-STRUCTURED-LOCATION;VALUE=URI;X-ADDRESS=HI-FI 1043 Virginia Ave #4 Indianapolis IN 46203 United States;X-APPLE-RADIUS=500;X-TITLE=1043 Virginia Ave #4:geo:-86.1407527,39.7525463
END:VEVENT
BEGIN:VEVENT
DTSTART;TZID=America/Indiana/Indianapolis:20240322T200000
DTEND;TZID=America/Indiana/Indianapolis:20240322T233000
DTSTAMP:20260421T072340
CREATED:20230919T171139Z
LAST-MODIFIED:20240308T190048Z
UID:30731-1711137600-1711150200@mokbpresents.com
SUMMARY:Marc Broussard - Carencro 20th Anniversary Tour
DESCRIPTION:
URL:https://mokbpresents.com/event/marc-broussard-3/
LOCATION:The Vogue\, 6259 N. College Ave\, Indianapolis\, IN\, 46220\, United States
CATEGORIES:21+
ATTACH;FMTTYPE=image/png:https://cdn.kicksdigital.com/mokbpresents.com/2023/09/MarcB-Carencro-web.png
END:VEVENT
BEGIN:VEVENT
DTSTART;TZID=America/Indiana/Indianapolis:20240322T200000
DTEND;TZID=America/Indiana/Indianapolis:20240322T235900
DTSTAMP:20260421T072340
CREATED:20231128T160028Z
LAST-MODIFIED:20240312T190155Z
UID:31372-1711137600-1711151940@mokbpresents.com
SUMMARY:Sierra Hull - Tip Toe High Wire Tour
DESCRIPTION:
URL:https://mokbpresents.com/event/sierra-hull-tip-toe-high-wire-tour/
LOCATION:HI-FI\, 1043 Virginia Ave #4\, Indianapolis\, IN\, 46203\, United States
CATEGORIES:18+,Promo: Thirsty Friends
GEO:39.7525463;-86.1407527
X-APPLE-STRUCTURED-LOCATION;VALUE=URI;X-ADDRESS=HI-FI 1043 Virginia Ave #4 Indianapolis IN 46203 United States;X-APPLE-RADIUS=500;X-TITLE=1043 Virginia Ave #4:geo:-86.1407527,39.7525463
END:VEVENT
BEGIN:VEVENT
DTSTART;TZID=America/Indiana/Indianapolis:20240323T200000
DTEND;TZID=America/Indiana/Indianapolis:20240323T233000
DTSTAMP:20260421T072340
CREATED:20231114T151514Z
LAST-MODIFIED:20240308T184220Z
UID:31238-1711224000-1711236600@mokbpresents.com
SUMMARY:SOLD OUT: Shovels & Rope
DESCRIPTION:
URL:https://mokbpresents.com/event/shovels-rope-2/
LOCATION:HI-FI\, 1043 Virginia Ave #4\, Indianapolis\, IN\, 46203\, United States
CATEGORIES:18+
GEO:39.7525463;-86.1407527
X-APPLE-STRUCTURED-LOCATION;VALUE=URI;X-ADDRESS=HI-FI 1043 Virginia Ave #4 Indianapolis IN 46203 United States;X-APPLE-RADIUS=500;X-TITLE=1043 Virginia Ave #4:geo:-86.1407527,39.7525463
END:VEVENT
BEGIN:VEVENT
DTSTART;TZID=America/Indiana/Indianapolis:20240324T150000
DTEND;TZID=America/Indiana/Indianapolis:20240324T203000
DTSTAMP:20260421T072340
CREATED:20240131T163628Z
LAST-MODIFIED:20240319T190659Z
UID:32096-1711292400-1711312200@mokbpresents.com
SUMMARY:Girls Rock! Indianapolis Fundraiser
DESCRIPTION:
URL:https://mokbpresents.com/event/girls-rock-indianapolis-fundraiser/
LOCATION:HI-FI\, 1043 Virginia Ave #4\, Indianapolis\, IN\, 46203\, United States
CATEGORIES:All Ages
ATTACH;FMTTYPE=image/jpeg:https://cdn.kicksdigital.com/mokbpresents.com/2024/01/Girls-Rock-Indy-Slide_Event.jpg
GEO:39.7525463;-86.1407527
X-APPLE-STRUCTURED-LOCATION;VALUE=URI;X-ADDRESS=HI-FI 1043 Virginia Ave #4 Indianapolis IN 46203 United States;X-APPLE-RADIUS=500;X-TITLE=1043 Virginia Ave #4:geo:-86.1407527,39.7525463
END:VEVENT
BEGIN:VEVENT
DTSTART;TZID=America/Indiana/Indianapolis:20240324T193000
DTEND;TZID=America/Indiana/Indianapolis:20240324T213000
DTSTAMP:20260421T072340
CREATED:20230801T160027Z
LAST-MODIFIED:20230801T174857Z
UID:30176-1711308600-1711315800@mokbpresents.com
SUMMARY:Gilberto Santa Rosa
DESCRIPTION:
URL:https://mokbpresents.com/event/gilberto-santa-rosa/
LOCATION:Clowes Memorial Hall\, 4602 Sunset Ave\, Indianapolis\, IN\, 46208\, United States
CATEGORIES:All Ages
END:VEVENT
BEGIN:VEVENT
DTSTART;TZID=America/Indiana/Indianapolis:20240327T200000
DTEND;TZID=America/Indiana/Indianapolis:20240327T233000
DTSTAMP:20260421T072340
CREATED:20231107T152540Z
LAST-MODIFIED:20240314T202405Z
UID:31137-1711569600-1711582200@mokbpresents.com
SUMMARY:Charlotte Sands - can we start over tour
DESCRIPTION:
URL:https://mokbpresents.com/event/charlotte-sands-can-we-start-over-tour/
LOCATION:HI-FI\, 1043 Virginia Ave #4\, Indianapolis\, IN\, 46203\, United States
CATEGORIES:All Ages
GEO:39.7525463;-86.1407527
X-APPLE-STRUCTURED-LOCATION;VALUE=URI;X-ADDRESS=HI-FI 1043 Virginia Ave #4 Indianapolis IN 46203 United States;X-APPLE-RADIUS=500;X-TITLE=1043 Virginia Ave #4:geo:-86.1407527,39.7525463
END:VEVENT
BEGIN:VEVENT
DTSTART;TZID=America/Indiana/Indianapolis:20240328T190000
DTEND;TZID=America/Indiana/Indianapolis:20240328T210000
DTSTAMP:20260421T072340
CREATED:20240125T160024Z
LAST-MODIFIED:20240322T165233Z
UID:32019-1711652400-1711659600@mokbpresents.com
SUMMARY:Miki Fiki + MFFRED
DESCRIPTION:
URL:https://mokbpresents.com/event/miki-fiki-mffred/
LOCATION:LO-FI Lounge\, 1043 Virginia Ave #215\, Indianapolis\, IN\, 46203\, United States
CATEGORIES:21+
END:VEVENT
END:VCALENDAR