BEGIN:VCALENDAR
VERSION:2.0
PRODID:-//MOKB Presents - ECPv6.15.16.1//NONSGML v1.0//EN
CALSCALE:GREGORIAN
METHOD:PUBLISH
X-WR-CALNAME:MOKB Presents
X-ORIGINAL-URL:https://mokbpresents.com
X-WR-CALDESC:Events for MOKB Presents
REFRESH-INTERVAL;VALUE=DURATION:PT1H
X-Robots-Tag:noindex
X-PUBLISHED-TTL:PT1H
BEGIN:VTIMEZONE
TZID:America/Indiana/Indianapolis
BEGIN:DAYLIGHT
TZOFFSETFROM:-0500
TZOFFSETTO:-0400
TZNAME:EDT
DTSTART:20230312T070000
END:DAYLIGHT
BEGIN:STANDARD
TZOFFSETFROM:-0400
TZOFFSETTO:-0500
TZNAME:EST
DTSTART:20231105T060000
END:STANDARD
BEGIN:DAYLIGHT
TZOFFSETFROM:-0500
TZOFFSETTO:-0400
TZNAME:EDT
DTSTART:20240310T070000
END:DAYLIGHT
BEGIN:STANDARD
TZOFFSETFROM:-0400
TZOFFSETTO:-0500
TZNAME:EST
DTSTART:20241103T060000
END:STANDARD
BEGIN:DAYLIGHT
TZOFFSETFROM:-0500
TZOFFSETTO:-0400
TZNAME:EDT
DTSTART:20250309T070000
END:DAYLIGHT
BEGIN:STANDARD
TZOFFSETFROM:-0400
TZOFFSETTO:-0500
TZNAME:EST
DTSTART:20251102T060000
END:STANDARD
END:VTIMEZONE
BEGIN:VEVENT
DTSTART;TZID=America/Indiana/Indianapolis:20240501T200000
DTEND;TZID=America/Indiana/Indianapolis:20240501T230000
DTSTAMP:20260421T055623
CREATED:20240216T160131Z
LAST-MODIFIED:20240408T215749Z
UID:32296-1714593600-1714604400@mokbpresents.com
SUMMARY:John R. Miller
DESCRIPTION:
URL:https://mokbpresents.com/event/john-r-miller-2/
LOCATION:HI-FI\, 1043 Virginia Ave #4\, Indianapolis\, IN\, 46203\, United States
CATEGORIES:18+,Promo: Thirsty Friends
GEO:39.7525463;-86.1407527
X-APPLE-STRUCTURED-LOCATION;VALUE=URI;X-ADDRESS=HI-FI 1043 Virginia Ave #4 Indianapolis IN 46203 United States;X-APPLE-RADIUS=500;X-TITLE=1043 Virginia Ave #4:geo:-86.1407527,39.7525463
END:VEVENT
BEGIN:VEVENT
DTSTART;TZID=America/Indiana/Indianapolis:20240502T201500
DTEND;TZID=America/Indiana/Indianapolis:20240502T233000
DTSTAMP:20260421T055623
CREATED:20231212T153214Z
LAST-MODIFIED:20240408T215656Z
UID:31526-1714680900-1714692600@mokbpresents.com
SUMMARY:The Hip Abduction
DESCRIPTION:
URL:https://mokbpresents.com/event/the-hip-abduction/
LOCATION:HI-FI\, 1043 Virginia Ave #4\, Indianapolis\, IN\, 46203\, United States
CATEGORIES:18+
GEO:39.7525463;-86.1407527
X-APPLE-STRUCTURED-LOCATION;VALUE=URI;X-ADDRESS=HI-FI 1043 Virginia Ave #4 Indianapolis IN 46203 United States;X-APPLE-RADIUS=500;X-TITLE=1043 Virginia Ave #4:geo:-86.1407527,39.7525463
END:VEVENT
BEGIN:VEVENT
DTSTART;TZID=America/Indiana/Indianapolis:20240503T190000
DTEND;TZID=America/Indiana/Indianapolis:20240503T220000
DTSTAMP:20260421T055623
CREATED:20240215T154506Z
LAST-MODIFIED:20240503T183215Z
UID:32285-1714762800-1714773600@mokbpresents.com
SUMMARY:The Ultimate Doors
DESCRIPTION:
URL:https://mokbpresents.com/event/the-ultimate-doors-3/
LOCATION:HI-FI Annex\, 1065 St. Patrick St\, Indianapolis\, IN\, 46203\, United States
CATEGORIES:All Ages,Promo: Thirsty Friends
END:VEVENT
BEGIN:VEVENT
DTSTART;TZID=America/Indiana/Indianapolis:20240503T210000
DTEND;TZID=America/Indiana/Indianapolis:20240503T235900
DTSTAMP:20260421T055623
CREATED:20240308T150010Z
LAST-MODIFIED:20240503T183259Z
UID:32568-1714770000-1714780740@mokbpresents.com
SUMMARY:Talisk
DESCRIPTION:
URL:https://mokbpresents.com/event/talisk/
LOCATION:HI-FI\, 1043 Virginia Ave #4\, Indianapolis\, IN\, 46203\, United States
CATEGORIES:18+,Promo: Thirsty Friends
GEO:39.7525463;-86.1407527
X-APPLE-STRUCTURED-LOCATION;VALUE=URI;X-ADDRESS=HI-FI 1043 Virginia Ave #4 Indianapolis IN 46203 United States;X-APPLE-RADIUS=500;X-TITLE=1043 Virginia Ave #4:geo:-86.1407527,39.7525463
END:VEVENT
BEGIN:VEVENT
DTSTART;TZID=America/Indiana/Indianapolis:20240504T190000
DTEND;TZID=America/Indiana/Indianapolis:20240504T220000
DTSTAMP:20260421T055623
CREATED:20240219T152052Z
LAST-MODIFIED:20240430T181826Z
UID:32318-1714849200-1714860000@mokbpresents.com
SUMMARY:Rod Tuffcurls & The Bench Press
DESCRIPTION:
URL:https://mokbpresents.com/event/rod-tuffcurls-the-bench-press-7/
LOCATION:HI-FI Annex\, 1065 St. Patrick St\, Indianapolis\, IN\, 46203\, United States
CATEGORIES:All Ages
END:VEVENT
BEGIN:VEVENT
DTSTART;TZID=America/Indiana/Indianapolis:20240504T210000
DTEND;TZID=America/Indiana/Indianapolis:20240504T235900
DTSTAMP:20260421T055623
CREATED:20240312T150008Z
LAST-MODIFIED:20240503T204826Z
UID:32608-1714856400-1714867140@mokbpresents.com
SUMMARY:Drayton Farley
DESCRIPTION:
URL:https://mokbpresents.com/event/drayton-farley-2024/
LOCATION:HI-FI\, 1043 Virginia Ave #4\, Indianapolis\, IN\, 46203\, United States
CATEGORIES:18+,Concert Week Deals 2024,Promo: Thirsty Friends
GEO:39.7525463;-86.1407527
X-APPLE-STRUCTURED-LOCATION;VALUE=URI;X-ADDRESS=HI-FI 1043 Virginia Ave #4 Indianapolis IN 46203 United States;X-APPLE-RADIUS=500;X-TITLE=1043 Virginia Ave #4:geo:-86.1407527,39.7525463
END:VEVENT
BEGIN:VEVENT
DTSTART;TZID=America/Indiana/Indianapolis:20240505T200000
DTEND;TZID=America/Indiana/Indianapolis:20240505T233000
DTSTAMP:20260421T055623
CREATED:20240131T150019Z
LAST-MODIFIED:20240408T214851Z
UID:32035-1714939200-1714951800@mokbpresents.com
SUMMARY:Brent Cobb
DESCRIPTION:
URL:https://mokbpresents.com/event/brent-cobb/
LOCATION:HI-FI\, 1043 Virginia Ave #4\, Indianapolis\, IN\, 46203\, United States
CATEGORIES:All Ages
GEO:39.7525463;-86.1407527
X-APPLE-STRUCTURED-LOCATION;VALUE=URI;X-ADDRESS=HI-FI 1043 Virginia Ave #4 Indianapolis IN 46203 United States;X-APPLE-RADIUS=500;X-TITLE=1043 Virginia Ave #4:geo:-86.1407527,39.7525463
END:VEVENT
BEGIN:VEVENT
DTSTART;TZID=America/Indiana/Indianapolis:20240507T190000
DTEND;TZID=America/Indiana/Indianapolis:20240507T233000
DTSTAMP:20260421T055623
CREATED:20240119T170048Z
LAST-MODIFIED:20240507T165035Z
UID:31932-1715108400-1715124600@mokbpresents.com
SUMMARY:Young Rising Sons
DESCRIPTION:
URL:https://mokbpresents.com/event/young-rising-sons/
LOCATION:HI-FI\, 1043 Virginia Ave #4\, Indianapolis\, IN\, 46203\, United States
CATEGORIES:18+,Concert Week Deals 2024,Promo: Thirsty Friends
GEO:39.7525463;-86.1407527
X-APPLE-STRUCTURED-LOCATION;VALUE=URI;X-ADDRESS=HI-FI 1043 Virginia Ave #4 Indianapolis IN 46203 United States;X-APPLE-RADIUS=500;X-TITLE=1043 Virginia Ave #4:geo:-86.1407527,39.7525463
END:VEVENT
BEGIN:VEVENT
DTSTART;TZID=America/Indiana/Indianapolis:20240509T193000
DTEND;TZID=America/Indiana/Indianapolis:20240509T233000
DTSTAMP:20260421T055623
CREATED:20240408T132745Z
LAST-MODIFIED:20240408T214744Z
UID:33448-1715283000-1715297400@mokbpresents.com
SUMMARY:Stanley Clarke Band
DESCRIPTION:
URL:https://mokbpresents.com/event/stanley-clarke-band-2/
LOCATION:Hendricks Live!\, 200 W. Main St.\, Plainfield\, IN\, 46168\, United States
CATEGORIES:All Ages
ATTACH;FMTTYPE=image/jpeg:https://cdn.kicksdigital.com/mokbpresents.com/2024/04/18-extraordinary-facts-about-stanley-clarke-1697513558-1-scaled.jpg
END:VEVENT
BEGIN:VEVENT
DTSTART;TZID=America/Indiana/Indianapolis:20240510T190000
DTEND;TZID=America/Indiana/Indianapolis:20240510T220000
DTSTAMP:20260421T055623
CREATED:20240213T151805Z
LAST-MODIFIED:20240501T204751Z
UID:32229-1715367600-1715378400@mokbpresents.com
SUMMARY:Pokey LaFarge
DESCRIPTION:
URL:https://mokbpresents.com/event/pokey-lafarge-2/
LOCATION:HI-FI Annex\, 1065 St. Patrick St\, Indianapolis\, IN\, 46203\, United States
CATEGORIES:All Ages,Concert Week Deals 2024
END:VEVENT
BEGIN:VEVENT
DTSTART;TZID=America/Indiana/Indianapolis:20240510T210000
DTEND;TZID=America/Indiana/Indianapolis:20240510T233000
DTSTAMP:20260421T055623
CREATED:20240213T160001Z
LAST-MODIFIED:20240408T202531Z
UID:32243-1715374800-1715383800@mokbpresents.com
SUMMARY:Molly Tuttle & Golden Highway
DESCRIPTION:
URL:https://mokbpresents.com/event/molly-tuttle-golden-highway-down-the-rabbit-hole-tour/
LOCATION:The Vogue\, 6259 N. College Ave\, Indianapolis\, IN\, 46220\, United States
CATEGORIES:21+
END:VEVENT
BEGIN:VEVENT
DTSTART;TZID=America/Indiana/Indianapolis:20240510T210000
DTEND;TZID=America/Indiana/Indianapolis:20240510T235900
DTSTAMP:20260421T055623
CREATED:20231031T160027Z
LAST-MODIFIED:20240503T204922Z
UID:31088-1715374800-1715385540@mokbpresents.com
SUMMARY:Hannah Wicklund
DESCRIPTION:
URL:https://mokbpresents.com/event/hannah-wicklund-hell-in-the-hallway-world-tour/
LOCATION:HI-FI\, 1043 Virginia Ave #4\, Indianapolis\, IN\, 46203\, United States
CATEGORIES:18+,Concert Week Deals 2024,Promo: Thirsty Friends
GEO:39.7525463;-86.1407527
X-APPLE-STRUCTURED-LOCATION;VALUE=URI;X-ADDRESS=HI-FI 1043 Virginia Ave #4 Indianapolis IN 46203 United States;X-APPLE-RADIUS=500;X-TITLE=1043 Virginia Ave #4:geo:-86.1407527,39.7525463
END:VEVENT
BEGIN:VEVENT
DTSTART;TZID=America/Indiana/Indianapolis:20240511T190000
DTEND;TZID=America/Indiana/Indianapolis:20240511T220000
DTSTAMP:20260421T055623
CREATED:20240129T160059Z
LAST-MODIFIED:20240507T173842Z
UID:32032-1715454000-1715464800@mokbpresents.com
SUMMARY:Nolan Taylor
DESCRIPTION:
URL:https://mokbpresents.com/event/nolan-taylor-2/
LOCATION:HI-FI Annex\, 1065 St. Patrick St\, Indianapolis\, IN\, 46203\, United States
CATEGORIES:All Ages,Concert Week Deals 2024
END:VEVENT
BEGIN:VEVENT
DTSTART;TZID=America/Indiana/Indianapolis:20240511T200000
DTEND;TZID=America/Indiana/Indianapolis:20240511T233000
DTSTAMP:20260421T055623
CREATED:20240206T190031Z
LAST-MODIFIED:20240416T194652Z
UID:32131-1715457600-1715470200@mokbpresents.com
SUMMARY:Prof (Sold Out)
DESCRIPTION:
URL:https://mokbpresents.com/event/prof-the-gallery-tour/
LOCATION:The Vogue\, 6259 N. College Ave\, Indianapolis\, IN\, 46220\, United States
CATEGORIES:21+
END:VEVENT
BEGIN:VEVENT
DTSTART;TZID=America/Indiana/Indianapolis:20240516T200000
DTEND;TZID=America/Indiana/Indianapolis:20240516T233000
DTSTAMP:20260421T055623
CREATED:20240320T150032Z
LAST-MODIFIED:20240503T204937Z
UID:32775-1715889600-1715902200@mokbpresents.com
SUMMARY:Kash'd Out
DESCRIPTION:
URL:https://mokbpresents.com/event/kashd-out-2024/
LOCATION:HI-FI\, 1043 Virginia Ave #4\, Indianapolis\, IN\, 46203\, United States
CATEGORIES:18+,Concert Week Deals 2024,Promo: Thirsty Friends
GEO:39.7525463;-86.1407527
X-APPLE-STRUCTURED-LOCATION;VALUE=URI;X-ADDRESS=HI-FI 1043 Virginia Ave #4 Indianapolis IN 46203 United States;X-APPLE-RADIUS=500;X-TITLE=1043 Virginia Ave #4:geo:-86.1407527,39.7525463
END:VEVENT
BEGIN:VEVENT
DTSTART;TZID=America/Indiana/Indianapolis:20240517T180000
DTEND;TZID=America/Indiana/Indianapolis:20240517T233000
DTSTAMP:20260421T055623
CREATED:20240507T170025Z
LAST-MODIFIED:20240516T151126Z
UID:34307-1715968800-1715988600@mokbpresents.com
SUMMARY:10 Bands for $10
DESCRIPTION:
URL:https://mokbpresents.com/event/10-bands-for-10/
LOCATION:HI-FI Annex\, 1065 St. Patrick St\, Indianapolis\, IN\, 46203\, United States
CATEGORIES:All Ages,Promo: Thirsty Friends
ATTACH;FMTTYPE=image/jpeg:https://cdn.kicksdigital.com/mokbpresents.com/2024/05/10for10.jpg
END:VEVENT
BEGIN:VEVENT
DTSTART;TZID=America/Indiana/Indianapolis:20240518T190000
DTEND;TZID=America/Indiana/Indianapolis:20240518T220000
DTSTAMP:20260421T055623
CREATED:20240220T150053Z
LAST-MODIFIED:20240429T172952Z
UID:32341-1716058800-1716069600@mokbpresents.com
SUMMARY:Dizgo w/ Audiodacity
DESCRIPTION:
URL:https://mokbpresents.com/event/dizgo-w-audiodacity/
LOCATION:HI-FI Annex\, 1065 St. Patrick St\, Indianapolis\, IN\, 46203\, United States
CATEGORIES:All Ages,Concert Week Deals 2024
ATTACH;FMTTYPE=image/jpeg:https://cdn.kicksdigital.com/mokbpresents.com/2024/02/Dizgo-@-HiFi-4-22-22-39-scaled-e1708381475638.jpg
END:VEVENT
BEGIN:VEVENT
DTSTART;TZID=America/Indiana/Indianapolis:20240518T190000
DTEND;TZID=America/Indiana/Indianapolis:20240518T233000
DTSTAMP:20260421T055623
CREATED:20240226T161123Z
LAST-MODIFIED:20240503T204858Z
UID:32432-1716058800-1716075000@mokbpresents.com
SUMMARY:The Widdler + Distinct Motive
DESCRIPTION:
URL:https://mokbpresents.com/event/the-widdler-distinct-motive/
LOCATION:HI-FI\, 1043 Virginia Ave #4\, Indianapolis\, IN\, 46203\, United States
CATEGORIES:18+,Concert Week Deals 2024,Promo: Thirsty Friends
ATTACH;FMTTYPE=image/png:https://cdn.kicksdigital.com/mokbpresents.com/2024/02/widdlerdm-web.png
GEO:39.7525463;-86.1407527
X-APPLE-STRUCTURED-LOCATION;VALUE=URI;X-ADDRESS=HI-FI 1043 Virginia Ave #4 Indianapolis IN 46203 United States;X-APPLE-RADIUS=500;X-TITLE=1043 Virginia Ave #4:geo:-86.1407527,39.7525463
END:VEVENT
BEGIN:VEVENT
DTSTART;TZID=America/Indiana/Indianapolis:20240519T183000
DTEND;TZID=America/Indiana/Indianapolis:20240519T220000
DTSTAMP:20260421T055623
CREATED:20240131T155834Z
LAST-MODIFIED:20240514T131725Z
UID:32083-1716143400-1716156000@mokbpresents.com
SUMMARY:Alpha Wolf
DESCRIPTION:
URL:https://mokbpresents.com/event/alpha-wolf-half-living-things-tour/
LOCATION:HI-FI Annex\, 1065 St. Patrick St\, Indianapolis\, IN\, 46203\, United States
CATEGORIES:All Ages,Concert Week Deals 2024
END:VEVENT
BEGIN:VEVENT
DTSTART;TZID=America/Indiana/Indianapolis:20240519T200000
DTEND;TZID=America/Indiana/Indianapolis:20240519T235900
DTSTAMP:20260421T055623
CREATED:20231211T170014Z
LAST-MODIFIED:20240514T145601Z
UID:31505-1716148800-1716163140@mokbpresents.com
SUMMARY:Saint Asonia
DESCRIPTION:
URL:https://mokbpresents.com/event/saint-asonia/
LOCATION:HI-FI\, 1043 Virginia Ave #4\, Indianapolis\, IN\, 46203\, United States
CATEGORIES:18+
ATTACH;FMTTYPE=image/png:https://cdn.kicksdigital.com/mokbpresents.com/2023/12/SaintAsonia-web.png
GEO:39.7525463;-86.1407527
X-APPLE-STRUCTURED-LOCATION;VALUE=URI;X-ADDRESS=HI-FI 1043 Virginia Ave #4 Indianapolis IN 46203 United States;X-APPLE-RADIUS=500;X-TITLE=1043 Virginia Ave #4:geo:-86.1407527,39.7525463
END:VEVENT
BEGIN:VEVENT
DTSTART;TZID=America/Indiana/Indianapolis:20240521T200000
DTEND;TZID=America/Indiana/Indianapolis:20240521T233000
DTSTAMP:20260421T055623
CREATED:20240223T161918Z
LAST-MODIFIED:20240503T204945Z
UID:32417-1716321600-1716334200@mokbpresents.com
SUMMARY:The Inspector Cluzo
DESCRIPTION:
URL:https://mokbpresents.com/event/the-inspector-cluzo/
LOCATION:HI-FI\, 1043 Virginia Ave #4\, Indianapolis\, IN\, 46203\, United States
CATEGORIES:18+,Concert Week Deals 2024,Promo: Thirsty Friends
GEO:39.7525463;-86.1407527
X-APPLE-STRUCTURED-LOCATION;VALUE=URI;X-ADDRESS=HI-FI 1043 Virginia Ave #4 Indianapolis IN 46203 United States;X-APPLE-RADIUS=500;X-TITLE=1043 Virginia Ave #4:geo:-86.1407527,39.7525463
END:VEVENT
BEGIN:VEVENT
DTSTART;TZID=America/Indiana/Indianapolis:20240523T203000
DTEND;TZID=America/Indiana/Indianapolis:20240523T233000
DTSTAMP:20260421T055623
CREATED:20240401T203454Z
LAST-MODIFIED:20240501T183429Z
UID:33093-1716496200-1716507000@mokbpresents.com
SUMMARY:Rick Springfield
DESCRIPTION:
URL:https://mokbpresents.com/event/rick-springfield/
LOCATION:IN
CATEGORIES:All Ages,Concert Week Deals 2024
END:VEVENT
BEGIN:VEVENT
DTSTART;TZID=America/Indiana/Indianapolis:20240524T200000
DTEND;TZID=America/Indiana/Indianapolis:20240524T233000
DTSTAMP:20260421T055623
CREATED:20240109T150011Z
LAST-MODIFIED:20240503T193912Z
UID:31734-1716580800-1716593400@mokbpresents.com
SUMMARY:Electric Six + Supersuckers
DESCRIPTION:
URL:https://mokbpresents.com/event/electric-six-supersuckers/
LOCATION:HI-FI\, 1043 Virginia Ave #4\, Indianapolis\, IN\, 46203\, United States
CATEGORIES:18+,Concert Week Deals 2024
ATTACH;FMTTYPE=image/png:https://cdn.kicksdigital.com/mokbpresents.com/2024/01/E6Supersuckers-web.png
GEO:39.7525463;-86.1407527
X-APPLE-STRUCTURED-LOCATION;VALUE=URI;X-ADDRESS=HI-FI 1043 Virginia Ave #4 Indianapolis IN 46203 United States;X-APPLE-RADIUS=500;X-TITLE=1043 Virginia Ave #4:geo:-86.1407527,39.7525463
END:VEVENT
BEGIN:VEVENT
DTSTART;TZID=America/Indiana/Indianapolis:20240525T100000
DTEND;TZID=America/Indiana/Indianapolis:20240525T150000
DTSTAMP:20260421T055623
CREATED:20240415T160014Z
LAST-MODIFIED:20240524T175918Z
UID:33684-1716631200-1716649200@mokbpresents.com
SUMMARY:Brunch\, Please! Drag Brunch
DESCRIPTION:
URL:https://mokbpresents.com/event/brunch-please-drag-brunch-2024/
LOCATION:HI-FI\, 1043 Virginia Ave #4\, Indianapolis\, IN\, 46203\, United States
CATEGORIES:18+
ATTACH;FMTTYPE=image/png:https://cdn.kicksdigital.com/mokbpresents.com/2024/04/BrunchPlz-blank-1.png
ORGANIZER;CN="Indy Pride":MAILTO:info@indypride.org
GEO:39.7525463;-86.1407527
X-APPLE-STRUCTURED-LOCATION;VALUE=URI;X-ADDRESS=HI-FI 1043 Virginia Ave #4 Indianapolis IN 46203 United States;X-APPLE-RADIUS=500;X-TITLE=1043 Virginia Ave #4:geo:-86.1407527,39.7525463
END:VEVENT
BEGIN:VEVENT
DTSTART;TZID=America/Indiana/Indianapolis:20240525T190000
DTEND;TZID=America/Indiana/Indianapolis:20240525T220000
DTSTAMP:20260421T055623
CREATED:20230209T180545Z
LAST-MODIFIED:20240521T201515Z
UID:31548-1716663600-1716674400@mokbpresents.com
SUMMARY:G Flip
DESCRIPTION:
URL:https://mokbpresents.com/event/g-flip-drummer-tour-continued/
LOCATION:HI-FI Annex\, 1065 St. Patrick St\, Indianapolis\, IN\, 46203\, United States
CATEGORIES:All Ages
END:VEVENT
BEGIN:VEVENT
DTSTART;TZID=America/Indiana/Indianapolis:20240525T223000
DTEND;TZID=America/Indiana/Indianapolis:20240525T235900
DTSTAMP:20260421T055623
CREATED:20240418T150056Z
LAST-MODIFIED:20240418T174158Z
UID:33842-1716676200-1716681540@mokbpresents.com
SUMMARY:Queer Dance Party w/ DJ Little Town
DESCRIPTION:
URL:https://mokbpresents.com/event/free-queer-dance-party/
LOCATION:HI-FI\, 1043 Virginia Ave #4\, Indianapolis\, IN\, 46203\, United States
CATEGORIES:18+
ORGANIZER;CN="Indy Pride":MAILTO:info@indypride.org
GEO:39.7525463;-86.1407527
X-APPLE-STRUCTURED-LOCATION;VALUE=URI;X-ADDRESS=HI-FI 1043 Virginia Ave #4 Indianapolis IN 46203 United States;X-APPLE-RADIUS=500;X-TITLE=1043 Virginia Ave #4:geo:-86.1407527,39.7525463
END:VEVENT
BEGIN:VEVENT
DTSTART;TZID=America/Indiana/Indianapolis:20240526T200000
DTEND;TZID=America/Indiana/Indianapolis:20240526T233000
DTSTAMP:20260421T055623
CREATED:20240111T160059Z
LAST-MODIFIED:20240526T192856Z
UID:31778-1716753600-1716766200@mokbpresents.com
SUMMARY:Jesse Daniel
DESCRIPTION:
URL:https://mokbpresents.com/event/jesse-daniel/
LOCATION:HI-FI\, 1043 Virginia Ave #4\, Indianapolis\, IN\, 46203\, United States
CATEGORIES:18+,Concert Week Deals 2024,Promo: Thirsty Friends
GEO:39.7525463;-86.1407527
X-APPLE-STRUCTURED-LOCATION;VALUE=URI;X-ADDRESS=HI-FI 1043 Virginia Ave #4 Indianapolis IN 46203 United States;X-APPLE-RADIUS=500;X-TITLE=1043 Virginia Ave #4:geo:-86.1407527,39.7525463
END:VEVENT
BEGIN:VEVENT
DTSTART;TZID=America/Indiana/Indianapolis:20240529T200000
DTEND;TZID=America/Indiana/Indianapolis:20240529T233000
DTSTAMP:20260421T055623
CREATED:20240419T180024Z
LAST-MODIFIED:20240503T205030Z
UID:32554-1717012800-1717025400@mokbpresents.com
SUMMARY:Five Door McLaren
DESCRIPTION:
URL:https://mokbpresents.com/event/five-door-sedan-3/
LOCATION:HI-FI\, 1043 Virginia Ave #4\, Indianapolis\, IN\, 46203\, United States
CATEGORIES:18+,Concert Week Deals 2024,Promo: Thirsty Friends
ATTACH;FMTTYPE=image/png:https://cdn.kicksdigital.com/mokbpresents.com/2024/03/5DoorMcLaren.png
GEO:39.7525463;-86.1407527
X-APPLE-STRUCTURED-LOCATION;VALUE=URI;X-ADDRESS=HI-FI 1043 Virginia Ave #4 Indianapolis IN 46203 United States;X-APPLE-RADIUS=500;X-TITLE=1043 Virginia Ave #4:geo:-86.1407527,39.7525463
END:VEVENT
BEGIN:VEVENT
DTSTART;TZID=America/Indiana/Indianapolis:20240530T190000
DTEND;TZID=America/Indiana/Indianapolis:20240530T220000
DTSTAMP:20260421T055623
CREATED:20240228T154720Z
LAST-MODIFIED:20240524T161641Z
UID:32481-1717095600-1717106400@mokbpresents.com
SUMMARY:Dumpstaphunk (Relocated)
DESCRIPTION:
URL:https://mokbpresents.com/event/dumpstaphunk/
LOCATION:HI-FI Annex\, 1065 St. Patrick St\, Indianapolis\, IN\, 46203\, United States
CATEGORIES:All Ages,Concert Week Deals 2024,Promo: Thirsty Friends
END:VEVENT
BEGIN:VEVENT
DTSTART;TZID=America/Indiana/Indianapolis:20240530T200000
DTEND;TZID=America/Indiana/Indianapolis:20240530T233000
DTSTAMP:20260421T055623
CREATED:20240401T202010Z
LAST-MODIFIED:20240401T202012Z
UID:33083-1717099200-1717111800@mokbpresents.com
SUMMARY:Daniel Donato’s Cosmic Country
DESCRIPTION:
URL:https://mokbpresents.com/event/daniel-donatos-cosmic-country-2/
LOCATION:IN
CATEGORIES:All Ages
END:VEVENT
END:VCALENDAR