BEGIN:VCALENDAR
VERSION:2.0
PRODID:-//MOKB Presents - ECPv6.15.16.1//NONSGML v1.0//EN
CALSCALE:GREGORIAN
METHOD:PUBLISH
X-ORIGINAL-URL:https://mokbpresents.com
X-WR-CALDESC:Events for MOKB Presents
REFRESH-INTERVAL;VALUE=DURATION:PT1H
X-Robots-Tag:noindex
X-PUBLISHED-TTL:PT1H
BEGIN:VTIMEZONE
TZID:America/Indiana/Indianapolis
BEGIN:DAYLIGHT
TZOFFSETFROM:-0500
TZOFFSETTO:-0400
TZNAME:EDT
DTSTART:20200308T070000
END:DAYLIGHT
BEGIN:STANDARD
TZOFFSETFROM:-0400
TZOFFSETTO:-0500
TZNAME:EST
DTSTART:20201101T060000
END:STANDARD
BEGIN:DAYLIGHT
TZOFFSETFROM:-0500
TZOFFSETTO:-0400
TZNAME:EDT
DTSTART:20210314T070000
END:DAYLIGHT
BEGIN:STANDARD
TZOFFSETFROM:-0400
TZOFFSETTO:-0500
TZNAME:EST
DTSTART:20211107T060000
END:STANDARD
BEGIN:DAYLIGHT
TZOFFSETFROM:-0500
TZOFFSETTO:-0400
TZNAME:EDT
DTSTART:20220313T070000
END:DAYLIGHT
BEGIN:STANDARD
TZOFFSETFROM:-0400
TZOFFSETTO:-0500
TZNAME:EST
DTSTART:20221106T060000
END:STANDARD
END:VTIMEZONE
BEGIN:VEVENT
DTSTART;TZID=America/Indiana/Indianapolis:20210901T170000
DTEND;TZID=America/Indiana/Indianapolis:20210901T230000
DTSTAMP:20260423T055810
CREATED:20210628T160007Z
LAST-MODIFIED:20210826T234005Z
UID:18459-1630515600-1630537200@mokbpresents.com
SUMMARY:Pinegrove
DESCRIPTION:
URL:https://mokbpresents.com/event/pinegrove/
LOCATION:HI-FI Annex\, 1065 St. Patrick St\, Indianapolis\, IN\, 46203\, United States
END:VEVENT
BEGIN:VEVENT
DTSTART;TZID=America/Indiana/Indianapolis:20210902T190000
DTEND;TZID=America/Indiana/Indianapolis:20210902T220000
DTSTAMP:20260423T055810
CREATED:20210519T140143Z
LAST-MODIFIED:20210826T233824Z
UID:17652-1630609200-1630620000@mokbpresents.com
SUMMARY:American Aquarium
DESCRIPTION:
URL:https://mokbpresents.com/event/american-aquarium/
LOCATION:HI-FI Annex\, 1065 St. Patrick St\, Indianapolis\, IN\, 46203\, United States
CATEGORIES:Promo: July 4 Ticket Explosion 2021
END:VEVENT
BEGIN:VEVENT
DTSTART;TZID=America/Indiana/Indianapolis:20210903T190000
DTEND;TZID=America/Indiana/Indianapolis:20210903T220000
DTSTAMP:20260423T055810
CREATED:20210802T141017Z
LAST-MODIFIED:20210803T131852Z
UID:19062-1630695600-1630706400@mokbpresents.com
SUMMARY:First Friday: Lowdown Brass Band
DESCRIPTION:
URL:https://mokbpresents.com/event/first-friday-lowdown-brass-band/
LOCATION:HI-FI Annex\, 1065 St. Patrick St\, Indianapolis\, IN\, 46203\, United States
END:VEVENT
BEGIN:VEVENT
DTSTART;TZID=America/Indiana/Indianapolis:20210903T190000
DTEND;TZID=America/Indiana/Indianapolis:20210903T223000
DTSTAMP:20260423T055810
CREATED:20210624T160037Z
LAST-MODIFIED:20210903T181401Z
UID:18418-1630695600-1630708200@mokbpresents.com
SUMMARY:First Friday: In the Pines | Rookie
DESCRIPTION:
URL:https://mokbpresents.com/event/first-friday-in-the-pines-rookie/
LOCATION:HI-FI\, 1043 Virginia Ave #4\, Indianapolis\, IN\, 46203\, United States
ATTACH;FMTTYPE=image/jpeg:https://cdn.kicksdigital.com/mokbpresents.com/2021/06/picstitch.jpg
GEO:39.7525463;-86.1407527
X-APPLE-STRUCTURED-LOCATION;VALUE=URI;X-ADDRESS=HI-FI 1043 Virginia Ave #4 Indianapolis IN 46203 United States;X-APPLE-RADIUS=500;X-TITLE=1043 Virginia Ave #4:geo:-86.1407527,39.7525463
END:VEVENT
BEGIN:VEVENT
DTSTART;TZID=America/Indiana/Indianapolis:20210903T230000
DTEND;TZID=America/Indiana/Indianapolis:20210904T030000
DTSTAMP:20260423T055810
CREATED:20210812T160020Z
LAST-MODIFIED:20210812T160511Z
UID:18227-1630710000-1630724400@mokbpresents.com
SUMMARY:Back To The Future: September First Friday Dance Party
DESCRIPTION:
URL:https://mokbpresents.com/event/back-to-the-future-august-first-friday-dance-party/
LOCATION:HI-FI\, 1043 Virginia Ave #4\, Indianapolis\, IN\, 46203\, United States
ATTACH;FMTTYPE=image/jpeg:https://cdn.kicksdigital.com/mokbpresents.com/2021/07/BTTF-FB.jpg
GEO:39.7525463;-86.1407527
X-APPLE-STRUCTURED-LOCATION;VALUE=URI;X-ADDRESS=HI-FI 1043 Virginia Ave #4 Indianapolis IN 46203 United States;X-APPLE-RADIUS=500;X-TITLE=1043 Virginia Ave #4:geo:-86.1407527,39.7525463
END:VEVENT
BEGIN:VEVENT
DTSTART;TZID=America/Indiana/Indianapolis:20210904T200000
DTEND;TZID=America/Indiana/Indianapolis:20210904T233000
DTSTAMP:20260423T055810
CREATED:20210730T140029Z
LAST-MODIFIED:20210730T140432Z
UID:19038-1630785600-1630798200@mokbpresents.com
SUMMARY:Joshua Powell - Album Release Show
DESCRIPTION:
URL:https://mokbpresents.com/event/joshua-powell-album-release-show/
LOCATION:HI-FI\, 1043 Virginia Ave #4\, Indianapolis\, IN\, 46203\, United States
GEO:39.7525463;-86.1407527
X-APPLE-STRUCTURED-LOCATION;VALUE=URI;X-ADDRESS=HI-FI 1043 Virginia Ave #4 Indianapolis IN 46203 United States;X-APPLE-RADIUS=500;X-TITLE=1043 Virginia Ave #4:geo:-86.1407527,39.7525463
END:VEVENT
BEGIN:VEVENT
DTSTART;TZID=America/Indiana/Indianapolis:20210908T190000
DTEND;TZID=America/Indiana/Indianapolis:20210908T220000
DTSTAMP:20260423T055810
CREATED:20210511T140007Z
LAST-MODIFIED:20210908T224617Z
UID:17492-1631127600-1631138400@mokbpresents.com
SUMMARY:Big Thief
DESCRIPTION:
URL:https://mokbpresents.com/event/big-thief/
LOCATION:HI-FI Annex\, 1065 St. Patrick St\, Indianapolis\, IN\, 46203\, United States
END:VEVENT
BEGIN:VEVENT
DTSTART;TZID=America/Indiana/Indianapolis:20210909T210000
DTEND;TZID=America/Indiana/Indianapolis:20210909T233000
DTSTAMP:20260423T055810
CREATED:20210427T140532Z
LAST-MODIFIED:20210805T025034Z
UID:17274-1631221200-1631230200@mokbpresents.com
SUMMARY:Faye Webster
DESCRIPTION:
URL:https://mokbpresents.com/event/faye-webster/
LOCATION:HI-FI\, 1043 Virginia Ave #4\, Indianapolis\, IN\, 46203\, United States
GEO:39.7525463;-86.1407527
X-APPLE-STRUCTURED-LOCATION;VALUE=URI;X-ADDRESS=HI-FI 1043 Virginia Ave #4 Indianapolis IN 46203 United States;X-APPLE-RADIUS=500;X-TITLE=1043 Virginia Ave #4:geo:-86.1407527,39.7525463
END:VEVENT
BEGIN:VEVENT
DTSTART;TZID=America/Indiana/Indianapolis:20210910T190000
DTEND;TZID=America/Indiana/Indianapolis:20210910T220000
DTSTAMP:20260423T055810
CREATED:20210728T140038Z
LAST-MODIFIED:20210902T152354Z
UID:19009-1631300400-1631311200@mokbpresents.com
SUMMARY:The Soul Rebels
DESCRIPTION:
URL:https://mokbpresents.com/event/the-soul-rebels/
LOCATION:HI-FI Annex\, 1065 St. Patrick St\, Indianapolis\, IN\, 46203\, United States
CATEGORIES:Promo: Valentine's BOGO
END:VEVENT
BEGIN:VEVENT
DTSTART;TZID=America/Indiana/Indianapolis:20210910T210000
DTEND;TZID=America/Indiana/Indianapolis:20210910T233000
DTSTAMP:20260423T055810
CREATED:20210601T150340Z
LAST-MODIFIED:20210902T152513Z
UID:17777-1631307600-1631316600@mokbpresents.com
SUMMARY:Maggie Rose - Have A Seat Tour 2021
DESCRIPTION:
URL:https://mokbpresents.com/event/maggie-rose-have-a-seat-tour-2021/
LOCATION:HI-FI\, 1043 Virginia Ave #4\, Indianapolis\, IN\, 46203\, United States
CATEGORIES:Promo: Valentine's BOGO
GEO:39.7525463;-86.1407527
X-APPLE-STRUCTURED-LOCATION;VALUE=URI;X-ADDRESS=HI-FI 1043 Virginia Ave #4 Indianapolis IN 46203 United States;X-APPLE-RADIUS=500;X-TITLE=1043 Virginia Ave #4:geo:-86.1407527,39.7525463
END:VEVENT
BEGIN:VEVENT
DTSTART;TZID=America/Indiana/Indianapolis:20210911T190000
DTEND;TZID=America/Indiana/Indianapolis:20210911T230000
DTSTAMP:20260423T055810
CREATED:20210708T140042Z
LAST-MODIFIED:20210911T205028Z
UID:18705-1631386800-1631401200@mokbpresents.com
SUMMARY:Cleptoz
DESCRIPTION:
URL:https://mokbpresents.com/event/cleptoz/
LOCATION:HI-FI Annex\, 1065 St. Patrick St\, Indianapolis\, IN\, 46203\, United States
END:VEVENT
BEGIN:VEVENT
DTSTART;TZID=America/Indiana/Indianapolis:20210911T200000
DTEND;TZID=America/Indiana/Indianapolis:20210911T233000
DTSTAMP:20260423T055810
CREATED:20210608T140006Z
LAST-MODIFIED:20210911T205131Z
UID:17950-1631390400-1631403000@mokbpresents.com
SUMMARY:Son Little
DESCRIPTION:
URL:https://mokbpresents.com/event/son-little/
LOCATION:HI-FI\, 1043 Virginia Ave #4\, Indianapolis\, IN\, 46203\, United States
GEO:39.7525463;-86.1407527
X-APPLE-STRUCTURED-LOCATION;VALUE=URI;X-ADDRESS=HI-FI 1043 Virginia Ave #4 Indianapolis IN 46203 United States;X-APPLE-RADIUS=500;X-TITLE=1043 Virginia Ave #4:geo:-86.1407527,39.7525463
END:VEVENT
BEGIN:VEVENT
DTSTART;TZID=America/Indiana/Indianapolis:20210912T170000
DTEND;TZID=America/Indiana/Indianapolis:20210912T220000
DTSTAMP:20260423T055810
CREATED:20210608T140021Z
LAST-MODIFIED:20210911T204751Z
UID:17957-1631466000-1631484000@mokbpresents.com
SUMMARY:Tank & the Bangas
DESCRIPTION:
URL:https://mokbpresents.com/event/tank-the-bangas/
LOCATION:HI-FI Annex\, 1065 St. Patrick St\, Indianapolis\, IN\, 46203\, United States
CATEGORIES:Promo: Valentine's BOGO
END:VEVENT
BEGIN:VEVENT
DTSTART;TZID=America/Indiana/Indianapolis:20210913T200000
DTEND;TZID=America/Indiana/Indianapolis:20210913T233000
DTSTAMP:20260423T055810
CREATED:20210608T140016Z
LAST-MODIFIED:20210913T163939Z
UID:17940-1631563200-1631575800@mokbpresents.com
SUMMARY:Suzanne Santo
DESCRIPTION:
URL:https://mokbpresents.com/event/suzanne-santo/
LOCATION:HI-FI\, 1043 Virginia Ave #4\, Indianapolis\, IN\, 46203\, United States
CATEGORIES:Promo: Valentine's BOGO
GEO:39.7525463;-86.1407527
X-APPLE-STRUCTURED-LOCATION;VALUE=URI;X-ADDRESS=HI-FI 1043 Virginia Ave #4 Indianapolis IN 46203 United States;X-APPLE-RADIUS=500;X-TITLE=1043 Virginia Ave #4:geo:-86.1407527,39.7525463
END:VEVENT
BEGIN:VEVENT
DTSTART;TZID=America/Indiana/Indianapolis:20210914T183000
DTEND;TZID=America/Indiana/Indianapolis:20210914T220000
DTSTAMP:20260423T055810
CREATED:20210608T140001Z
LAST-MODIFIED:20210913T164249Z
UID:17962-1631644200-1631656800@mokbpresents.com
SUMMARY:Ghost-Note & Sungazer
DESCRIPTION:
URL:https://mokbpresents.com/event/ghost-note-sungazer/
LOCATION:HI-FI Annex\, 1065 St. Patrick St\, Indianapolis\, IN\, 46203\, United States
CATEGORIES:Promo: Valentine's BOGO
END:VEVENT
BEGIN:VEVENT
DTSTART;TZID=America/Indiana/Indianapolis:20210914T200000
DTEND;TZID=America/Indiana/Indianapolis:20210914T230000
DTSTAMP:20260423T055810
CREATED:20210608T140007Z
LAST-MODIFIED:20210914T182204Z
UID:17973-1631649600-1631660400@mokbpresents.com
SUMMARY:Amigo the Devil
DESCRIPTION:<a href=”https://hifiindy.com/temporary-safety-show-policies/” target=”_blank” rel=”noopener”><strong>HEALTH CHECK REQUIRED</strong></a>: Proof of full COVID-19 vaccination or negative COVID-19 PCR test within 72 hours or negative Antigen test with 6 hours.<br /><br />Download the <a href=”https://joinbindle.com/people/” style=”font-weight: bold;”>Bindle Mobile Health App</a> and verify your vaccination and/or test status to expedite entry to the venue.<br /><br /><a href=”http://www.holleronthesquare.com/” target=”_blank” rel=”noopener”><strong>Holler on the Square</strong></a> is a festival-like series of concerts at HI-FI and HI-FI Annex spanning September 12-19\, 2021. Join us for 8 days of live music with performances taking place in both venues\, all week. Check out <a href=”https://fanlink.to/holler-schedule”><strong>the daily schedule</strong></a>\, <a href=”https://fanlink.to/holler-lineup”><strong>full lineup</strong></a> and get your tickets now. All shows are individually ticketed.
URL:https://mokbpresents.com/event/amigo-the-devil/
LOCATION:HI-FI\, 1043 Virginia Ave #4\, Indianapolis\, IN\, 46203\, United States
GEO:39.7525463;-86.1407527
X-APPLE-STRUCTURED-LOCATION;VALUE=URI;X-ADDRESS=HI-FI 1043 Virginia Ave #4 Indianapolis IN 46203 United States;X-APPLE-RADIUS=500;X-TITLE=1043 Virginia Ave #4:geo:-86.1407527,39.7525463
END:VEVENT
BEGIN:VEVENT
DTSTART;TZID=America/Indiana/Indianapolis:20210915T180000
DTEND;TZID=America/Indiana/Indianapolis:20210915T220000
DTSTAMP:20260423T055810
CREATED:20210716T140011Z
LAST-MODIFIED:20210914T155556Z
UID:15420-1631728800-1631743200@mokbpresents.com
SUMMARY:The Wild Feathers
DESCRIPTION:<a href=”https://hifiindy.com/temporary-safety-show-policies/” target=”_blank” rel=”noopener”><strong>HEALTH CHECK REQUIRED</strong></a>: Proof of full COVID-19 vaccination or negative COVID-19 PCR test within 72 hours or negative Antigen test with 6 hours.<br /><br />Download the <a href=”https://joinbindle.com/people/” style=”font-weight: bold;”>Bindle Mobile Health App</a> and verify your vaccination and/or test status to expedite entry to the venue.<br /><br /><a href=”http://www.holleronthesquare.com/” target=”_blank” rel=”noopener”><strong>Holler on the Square</strong></a> is a festival-like series of concerts at HI-FI and HI-FI Annex spanning September 12-19\, 2021. Join us for 8 days of live music with performances taking place in both venues\, all week. Check out <a href=”https://fanlink.to/holler-schedule”><strong>the daily schedule</strong></a>\, <a href=”https://fanlink.to/holler-lineup”><strong>full lineup</strong></a> and get your tickets now. All shows are individually ticketed. \nW/ JAKE SCHLEGEL @ HI-FI ANNEX INDIANAPOLIS \nDOORS: 5:00 PM\, SHOW: 6:00 PM\n \nFOOD BY BURGER DEVIL POP-UP \nFULL BAR FOR 21+ GUESTS\, LIMITED PICNIC TABLE SEATING IS AVAILABLE. LAWN CHAIRS PERMITTED IN DESIGNATED AREAS.  \nGENERAL ADMISSION\, LIMITED SEATING\, CAPACITY LIMITED TO 250.   \nAGE RESTRICTIONS: ALL AGES | CHILDREN 5 & UNDER FREE W/ ADULT.  \nCLICK HERE FOR VENUE INFO. FOR A FULL LIST OF OUR NEW SAFETY PROCEDURES\, VISIT THIS PAGE. HAVE A QUESTION? EMAIL BOXOFFICE@HIFIINDY.COM \n—————————- \nAbout The Wild Feathers: \nListen | Watch Video  \nThe Wild Feathers are a group that is most at home on the highway\, forever looking ahead to the next city and the next shared experience onstage. “When you’re on the road\, you’re like cowboys in the Wild West going out into some neon frontier\,” says singer-guitarist Taylor Burns. \nTheir new single “Big Sky” finds The Wild Feathers reuniting with producer Jay Joyce\, who oversaw the group’s 2013 self-titled debut and 2016’s Lonely Is a Lifetime. The band– packing a three-vocalist punch in Taylor\, singer-guitarist Ricky Young and singer-bassist Joel King\, along with drummer Ben Dumas – embrace their more countrified influences. Sounding partly like a lost Eagles album and the record Tom Petty never got to make\, the song satisfies with thick harmonies\, jangly guitars\, Ben’s in-the-pocket beat and smart\, tight songwriting. \nTheir magic lies in their collaborations with one another. It’s a fact of which each musician is keenly aware. “We’re all smart enough to realize that while we’re pretty good on our own\, we’re great together\,” says Ricky. “Whatever this is\, it’s special.” \nAbout Jake Schlegel: \nListen | Watch Video  \nThere’s an authenticity in Indianapolis based Jake Schlegel’s vocals and the sharp observations that binds each of us his songs beautifully. This is quite possibly the best evidence that he has been on this planet before. As somewhat of a veteran in the songwriting and performance arena\, Schlegel’s infectious\, yet thought provoking songwriting is delighting audiences show after show.   Schlegel’s debut album\, East City Lights\, has rapidly begun to cement him in the hearts and minds of Midwest music fans. The album contains an overarching theme that this life is a series of journeys. These songs are a breath of fresh air from a delightfully unique\, determined\, and devoted songwriter.
URL:https://mokbpresents.com/event/the-wild-feathers-at-hi-fi-annex/
LOCATION:HI-FI Annex\, 1065 St. Patrick St\, Indianapolis\, IN\, 46203\, United States
CATEGORIES:Promo: Valentine's BOGO,Rock
END:VEVENT
BEGIN:VEVENT
DTSTART;TZID=America/Indiana/Indianapolis:20210915T193000
DTEND;TZID=America/Indiana/Indianapolis:20210915T233000
DTSTAMP:20260423T055810
CREATED:20210608T140026Z
LAST-MODIFIED:20210913T163911Z
UID:17935-1631734200-1631748600@mokbpresents.com
SUMMARY:Elizabeth Cook
DESCRIPTION:
URL:https://mokbpresents.com/event/elizabeth-cook/
LOCATION:HI-FI\, 1043 Virginia Ave #4\, Indianapolis\, IN\, 46203\, United States
CATEGORIES:Promo: Valentine's BOGO
GEO:39.7525463;-86.1407527
X-APPLE-STRUCTURED-LOCATION;VALUE=URI;X-ADDRESS=HI-FI 1043 Virginia Ave #4 Indianapolis IN 46203 United States;X-APPLE-RADIUS=500;X-TITLE=1043 Virginia Ave #4:geo:-86.1407527,39.7525463
END:VEVENT
BEGIN:VEVENT
DTSTART;TZID=America/Indiana/Indianapolis:20210916T173000
DTEND;TZID=America/Indiana/Indianapolis:20210916T220000
DTSTAMP:20260423T055810
CREATED:20210608T140052Z
LAST-MODIFIED:20210913T164454Z
UID:17922-1631813400-1631829600@mokbpresents.com
SUMMARY:Parker Millsap
DESCRIPTION:
URL:https://mokbpresents.com/event/parker-millsap/
LOCATION:HI-FI Annex\, 1065 St. Patrick St\, Indianapolis\, IN\, 46203\, United States
CATEGORIES:Promo: Valentine's BOGO
END:VEVENT
BEGIN:VEVENT
DTSTART;TZID=America/Indiana/Indianapolis:20210916T200000
DTEND;TZID=America/Indiana/Indianapolis:20210916T233000
DTSTAMP:20260423T055810
CREATED:20210513T145631Z
LAST-MODIFIED:20210913T173908Z
UID:17525-1631822400-1631835000@mokbpresents.com
SUMMARY:Glass Cannon Live! Night #1
DESCRIPTION:
URL:https://mokbpresents.com/event/glass-cannon-live-night-1/
LOCATION:Helium Comedy Club\, 10 W. Georgia St.\, Indianapolis\, IN\, 46225\, United States
ATTACH;FMTTYPE=image/png:https://cdn.kicksdigital.com/mokbpresents.com/2021/05/GCL-2.png
END:VEVENT
BEGIN:VEVENT
DTSTART;TZID=America/Indiana/Indianapolis:20210916T203000
DTEND;TZID=America/Indiana/Indianapolis:20210916T233000
DTSTAMP:20260423T055810
CREATED:20200101T234833Z
LAST-MODIFIED:20210913T164717Z
UID:12619-1631824200-1631835000@mokbpresents.com
SUMMARY:Andy Shauf
DESCRIPTION:Andy Shauf’s Indianapolis date at HI-FI has been rescheduled for September 16\, 2021.  All tickets purchased for the original date will be honored on the rescheduled date. Please direct any questions to boxoffice@mokbpresents.com.  You can follow our ongoing list of affected shows here: http://bit.ly/mokb-hifi-covid19updates \n—————————- \nDOORS: 7:30 PM\, SHOW: 8:30 PM \nAGE RESTRICTIONS: 21+ \nGENERAL ADMISSION\, LIMITED SEATING \nImportant Notice: All tickets are nonrefundable and nontransferable. Support acts are subject to change. \n—————————- \nAbout Andy Shauf: \nListen | Watch Video \nFew artists are storytellers as deft and disarmingly observational as Andy Shauf. The Toronto-based\, Saskatchewan-raised musician’s songs unfold like short fiction: they’re densely layered with colorful characters and a rich emotional depth. On his new album The Neon Skyline (out January 24 viaANTI-)\, he sets a familiar scene of inviting a friend for beers on the opening title track: “I said\, ‘Come to the Skyline\, I’ll be washing my sins away.’  He just laughed\, said ‘I’ll belate\, you know how I can be.'” The LP’s 11 interconnected tracks follow a simple plot: the narrator goes to his neighborhood dive\, finds out his ex is back in town\, and she eventually shows up. While its overarching narrative is riveting\, the real thrill of the album comes from how Shauf finds the humanity and humor in a typical night out and the ashes of a past relationship. \nHis last full-length 2016’s The Party was an impressive collection of ornate and affecting songs that followed different attendees of a house party. Shauf’s attention-to-detail in his writing evoked Randy Newman and his unorthodox\, flowing lyrical phrasing recalled Joni Mitchell. Though that album was his breakthrough\, his undeniable songwriting talent has been long evident. Raised in Bienfait\, Saskatchewan\, he cut his teeth in the nearby Regina music community. His 2012 LP The Bearer of BadNews documented his already-formed musical ambition and showcased Shauf’sburgeoning voice as a narrative songwriter with songs like “HometownHero\,” “Wendell Walker\,” and “My Dear Helen” feeling like standalone\, self-contained worlds. In 2018\, his band Foxwarren\, formed over 10 years ago with childhood friends\, released a self-titled album where pitchfork recognized how “Shauf has diligently refined his storytelling during the last decade.” \nWith any album about a lost love\, the key ingredient is a generosity and kindness that can only come from a writer as empathic as Shauf. On the standout personality-filled single “Try Again\,” the narrator\, his friends\, and his ex find themselves at a new bar. The former lovers’ reunion is awkwardly funny and even sweet\, as he sings\,”Somewhere between drunkenness and charity\, she puts her hand on the sleeve of my coat. She says ‘I’ve missed this.’ I say “I know\, I’ve missed you too.” She says\, ‘I was actually talking about your coat.'” It’s a charming moment on a record filled with them. Shauf’s characters are all sympathetic here\, people who share countless inside jokes\, shots\, and life-or-death musings on things like reincarnation when the night gets hazy. \nOn top of heartbreak\, friendship\, and the mundane moments of humanity that define his songwriting\, Shauf makes music that explores how easy it is to find yourself in familiar patterns and repeat the same mistakes of your past. His characters wonder\, “Did this relationship end too soon? Would going to another bar cheer my friend up?”Or in the case of the foreboding “Living Room\,” where a character asks herself\, “How hard is it to give a shit?” the songs on The Neon Skyline ultimately take solace in accepting that life goes on and things will be okay. Shauf says\, “there’s moments on the album where the characters are thinking ‘this is the end of the world.’ But there are also moments with some clarity and perspective: Nothing is the end of the world.”
URL:https://mokbpresents.com/event/andy-shauf/
LOCATION:HI-FI\, 1043 Virginia Ave #4\, Indianapolis\, IN\, 46203\, United States
CATEGORIES:Indie Rock
ATTACH;FMTTYPE=image/jpeg:https://cdn.kicksdigital.com/mokbpresents.com/2020/01/Andy-Shauf-Photo-Credit-Colin-Medley-3.jpg
GEO:39.7525463;-86.1407527
X-APPLE-STRUCTURED-LOCATION;VALUE=URI;X-ADDRESS=HI-FI 1043 Virginia Ave #4 Indianapolis IN 46203 United States;X-APPLE-RADIUS=500;X-TITLE=1043 Virginia Ave #4:geo:-86.1407527,39.7525463
END:VEVENT
BEGIN:VEVENT
DTSTART;TZID=America/Indiana/Indianapolis:20210917T170000
DTEND;TZID=America/Indiana/Indianapolis:20210917T220000
DTSTAMP:20260423T055810
CREATED:20210608T140025Z
LAST-MODIFIED:20210914T161403Z
UID:17923-1631898000-1631916000@mokbpresents.com
SUMMARY:Deer Tick
DESCRIPTION:
URL:https://mokbpresents.com/event/deer-tick/
LOCATION:HI-FI Annex\, 1065 St. Patrick St\, Indianapolis\, IN\, 46203\, United States
CATEGORIES:Promo: Valentine's BOGO
END:VEVENT
BEGIN:VEVENT
DTSTART;TZID=America/Indiana/Indianapolis:20210917T200000
DTEND;TZID=America/Indiana/Indianapolis:20210917T233000
DTSTAMP:20260423T055810
CREATED:20210608T140039Z
LAST-MODIFIED:20210914T161628Z
UID:17943-1631908800-1631921400@mokbpresents.com
SUMMARY:The Lil Smokies
DESCRIPTION:
URL:https://mokbpresents.com/event/the-lil-smokies/
LOCATION:HI-FI\, 1043 Virginia Ave #4\, Indianapolis\, IN\, 46203\, United States
CATEGORIES:Promo: Valentine's BOGO
GEO:39.7525463;-86.1407527
X-APPLE-STRUCTURED-LOCATION;VALUE=URI;X-ADDRESS=HI-FI 1043 Virginia Ave #4 Indianapolis IN 46203 United States;X-APPLE-RADIUS=500;X-TITLE=1043 Virginia Ave #4:geo:-86.1407527,39.7525463
END:VEVENT
BEGIN:VEVENT
DTSTART;TZID=America/Indiana/Indianapolis:20210918T140000
DTEND;TZID=America/Indiana/Indianapolis:20210918T170000
DTSTAMP:20260423T055810
CREATED:20210513T150904Z
LAST-MODIFIED:20210913T174233Z
UID:17530-1631973600-1631984400@mokbpresents.com
SUMMARY:Glass Cannon Live! Matinee #2
DESCRIPTION:
URL:https://mokbpresents.com/event/glass-cannon-live-matinee-2/
LOCATION:Helium Comedy Club\, 10 W. Georgia St.\, Indianapolis\, IN\, 46225\, United States
ATTACH;FMTTYPE=image/png:https://cdn.kicksdigital.com/mokbpresents.com/2021/05/GCL-2.png
END:VEVENT
BEGIN:VEVENT
DTSTART;TZID=America/Indiana/Indianapolis:20210918T180000
DTEND;TZID=America/Indiana/Indianapolis:20210918T220000
DTSTAMP:20260423T055810
CREATED:20210608T140006Z
LAST-MODIFIED:20210913T164909Z
UID:17951-1631988000-1632002400@mokbpresents.com
SUMMARY:Watchhouse (formerly Mandolin Orange)
DESCRIPTION:
URL:https://mokbpresents.com/event/watchhouse-formerly-mandolin-orange/
LOCATION:HI-FI Annex\, 1065 St. Patrick St\, Indianapolis\, IN\, 46203\, United States
END:VEVENT
BEGIN:VEVENT
DTSTART;TZID=America/Indiana/Indianapolis:20210918T211000
DTEND;TZID=America/Indiana/Indianapolis:20210919T003000
DTSTAMP:20260423T055810
CREATED:20210608T140035Z
LAST-MODIFIED:20210913T164954Z
UID:17978-1631999400-1632011400@mokbpresents.com
SUMMARY:Mike & The Moonpies
DESCRIPTION:
URL:https://mokbpresents.com/event/mike-the-moonpies/
LOCATION:HI-FI\, 1043 Virginia Ave #4\, Indianapolis\, IN\, 46203\, United States
GEO:39.7525463;-86.1407527
X-APPLE-STRUCTURED-LOCATION;VALUE=URI;X-ADDRESS=HI-FI 1043 Virginia Ave #4 Indianapolis IN 46203 United States;X-APPLE-RADIUS=500;X-TITLE=1043 Virginia Ave #4:geo:-86.1407527,39.7525463
END:VEVENT
BEGIN:VEVENT
DTSTART;TZID=America/Indiana/Indianapolis:20210919T200000
DTEND;TZID=America/Indiana/Indianapolis:20210919T233000
DTSTAMP:20260423T055810
CREATED:20210608T140020Z
LAST-MODIFIED:20210913T165024Z
UID:17930-1632081600-1632094200@mokbpresents.com
SUMMARY:The Nude Party
DESCRIPTION:
URL:https://mokbpresents.com/event/the-nude-party/
LOCATION:HI-FI\, 1043 Virginia Ave #4\, Indianapolis\, IN\, 46203\, United States
CATEGORIES:Promo: Valentine's BOGO
ATTACH;FMTTYPE=image/jpeg:https://cdn.kicksdigital.com/mokbpresents.com/2021/06/TheNudeParty-midnightmanor0454.jpeg
GEO:39.7525463;-86.1407527
X-APPLE-STRUCTURED-LOCATION;VALUE=URI;X-ADDRESS=HI-FI 1043 Virginia Ave #4 Indianapolis IN 46203 United States;X-APPLE-RADIUS=500;X-TITLE=1043 Virginia Ave #4:geo:-86.1407527,39.7525463
END:VEVENT
BEGIN:VEVENT
DTSTART;TZID=America/Indiana/Indianapolis:20210920T180000
DTEND;TZID=America/Indiana/Indianapolis:20210920T220000
DTSTAMP:20260423T055810
CREATED:20210510T145904Z
LAST-MODIFIED:20210915T135735Z
UID:17479-1632160800-1632175200@mokbpresents.com
SUMMARY:Shakey Graves
DESCRIPTION:
URL:https://mokbpresents.com/event/shakey-graves/
LOCATION:HI-FI Annex\, 1065 St. Patrick St\, Indianapolis\, IN\, 46203\, United States
END:VEVENT
BEGIN:VEVENT
DTSTART;TZID=America/Indiana/Indianapolis:20210923T203000
DTEND;TZID=America/Indiana/Indianapolis:20210923T223000
DTSTAMP:20260423T055810
CREATED:20210610T170049Z
LAST-MODIFIED:20210914T022141Z
UID:18057-1632429000-1632436200@mokbpresents.com
SUMMARY:The Get Up Kids
DESCRIPTION:
URL:https://mokbpresents.com/event/the-get-up-kids/
LOCATION:HI-FI\, 1043 Virginia Ave #4\, Indianapolis\, IN\, 46203\, United States
CATEGORIES:Alternative/Rock,Promo: Valentine's BOGO
GEO:39.7525463;-86.1407527
X-APPLE-STRUCTURED-LOCATION;VALUE=URI;X-ADDRESS=HI-FI 1043 Virginia Ave #4 Indianapolis IN 46203 United States;X-APPLE-RADIUS=500;X-TITLE=1043 Virginia Ave #4:geo:-86.1407527,39.7525463
END:VEVENT
BEGIN:VEVENT
DTSTART;TZID=America/Indiana/Indianapolis:20210924T180000
DTEND;TZID=America/Indiana/Indianapolis:20210924T220000
DTSTAMP:20260423T055810
CREATED:20210428T135738Z
LAST-MODIFIED:20210914T022133Z
UID:17303-1632506400-1632520800@mokbpresents.com
SUMMARY:Black Joe Lewis & The Honeybears
DESCRIPTION:
URL:https://mokbpresents.com/event/black-joe-lewis-the-honeybears-2/
LOCATION:HI-FI Annex\, 1065 St. Patrick St\, Indianapolis\, IN\, 46203\, United States
CATEGORIES:Promo: Valentine's BOGO
END:VEVENT
END:VCALENDAR