BEGIN:VCALENDAR
VERSION:2.0
PRODID:-//MOKB Presents - ECPv6.15.16.1//NONSGML v1.0//EN
CALSCALE:GREGORIAN
METHOD:PUBLISH
X-WR-CALNAME:MOKB Presents
X-ORIGINAL-URL:https://mokbpresents.com
X-WR-CALDESC:Events for MOKB Presents
REFRESH-INTERVAL;VALUE=DURATION:PT1H
X-Robots-Tag:noindex
X-PUBLISHED-TTL:PT1H
BEGIN:VTIMEZONE
TZID:America/Indiana/Indianapolis
BEGIN:DAYLIGHT
TZOFFSETFROM:-0500
TZOFFSETTO:-0400
TZNAME:EDT
DTSTART:20210314T070000
END:DAYLIGHT
BEGIN:STANDARD
TZOFFSETFROM:-0400
TZOFFSETTO:-0500
TZNAME:EST
DTSTART:20211107T060000
END:STANDARD
BEGIN:DAYLIGHT
TZOFFSETFROM:-0500
TZOFFSETTO:-0400
TZNAME:EDT
DTSTART:20220313T070000
END:DAYLIGHT
BEGIN:STANDARD
TZOFFSETFROM:-0400
TZOFFSETTO:-0500
TZNAME:EST
DTSTART:20221106T060000
END:STANDARD
BEGIN:DAYLIGHT
TZOFFSETFROM:-0500
TZOFFSETTO:-0400
TZNAME:EDT
DTSTART:20230312T070000
END:DAYLIGHT
BEGIN:STANDARD
TZOFFSETFROM:-0400
TZOFFSETTO:-0500
TZNAME:EST
DTSTART:20231105T060000
END:STANDARD
END:VTIMEZONE
BEGIN:VEVENT
DTSTART;TZID=America/Indiana/Indianapolis:20221001T190000
DTEND;TZID=America/Indiana/Indianapolis:20221001T220000
DTSTAMP:20260422T104251
CREATED:20220516T140020Z
LAST-MODIFIED:20240530T164849Z
UID:23517-1664650800-1664661600@mokbpresents.com
SUMMARY:Old 97's
DESCRIPTION:
URL:https://mokbpresents.com/event/old-97s/
LOCATION:HI-FI Annex\, 1065 St. Patrick St\, Indianapolis\, IN\, 46203\, United States
END:VEVENT
BEGIN:VEVENT
DTSTART;TZID=America/Indiana/Indianapolis:20221001T210000
DTEND;TZID=America/Indiana/Indianapolis:20221001T233000
DTSTAMP:20260422T104251
CREATED:20220509T150007Z
LAST-MODIFIED:20220929T193142Z
UID:23411-1664658000-1664667000@mokbpresents.com
SUMMARY:Nate Smith - Whiskey On You Tour
DESCRIPTION:
URL:https://mokbpresents.com/event/nate-smith/
LOCATION:HI-FI\, 1043 Virginia Ave #4\, Indianapolis\, IN\, 46203\, United States
GEO:39.7525463;-86.1407527
X-APPLE-STRUCTURED-LOCATION;VALUE=URI;X-ADDRESS=HI-FI 1043 Virginia Ave #4 Indianapolis IN 46203 United States;X-APPLE-RADIUS=500;X-TITLE=1043 Virginia Ave #4:geo:-86.1407527,39.7525463
END:VEVENT
BEGIN:VEVENT
DTSTART;TZID=America/Indiana/Indianapolis:20221002T190000
DTEND;TZID=America/Indiana/Indianapolis:20221002T220000
DTSTAMP:20260422T104251
CREATED:20220726T150651Z
LAST-MODIFIED:20220928T200440Z
UID:24746-1664737200-1664748000@mokbpresents.com
SUMMARY:Nikki Lane - Denim and Diamonds Tour
DESCRIPTION:
URL:https://mokbpresents.com/event/nikki-lane-denim-and-diamonds-tour/
LOCATION:HI-FI Annex\, 1065 St. Patrick St\, Indianapolis\, IN\, 46203\, United States
CATEGORIES:Country
END:VEVENT
BEGIN:VEVENT
DTSTART;TZID=America/Indiana/Indianapolis:20221002T200000
DTEND;TZID=America/Indiana/Indianapolis:20221002T230000
DTSTAMP:20260422T104251
CREATED:20220914T182839Z
LAST-MODIFIED:20220926T180314Z
UID:25601-1664740800-1664751600@mokbpresents.com
SUMMARY:Underground Sound: Open Mic Showcase
DESCRIPTION:
URL:https://mokbpresents.com/event/underground-sound-open-mic-showcase/
LOCATION:HI-FI\, 1043 Virginia Ave #4\, Indianapolis\, IN\, 46203\, United States
ATTACH;FMTTYPE=image/png:https://cdn.kicksdigital.com/mokbpresents.com/2022/09/UGS-web.png
GEO:39.7525463;-86.1407527
X-APPLE-STRUCTURED-LOCATION;VALUE=URI;X-ADDRESS=HI-FI 1043 Virginia Ave #4 Indianapolis IN 46203 United States;X-APPLE-RADIUS=500;X-TITLE=1043 Virginia Ave #4:geo:-86.1407527,39.7525463
END:VEVENT
BEGIN:VEVENT
DTSTART;TZID=America/Indiana/Indianapolis:20221002T200000
DTEND;TZID=America/Indiana/Indianapolis:20221002T233000
DTSTAMP:20260422T104251
CREATED:20220713T140601Z
LAST-MODIFIED:20220926T180257Z
UID:24549-1664740800-1664753400@mokbpresents.com
SUMMARY:Dead Horses
DESCRIPTION:
URL:https://mokbpresents.com/event/dead-horses/
LOCATION:White Rabbit Cabaret\, 1116 Prospect St.\, Indianapolis\, IN\, 46203\, United States
CATEGORIES:Promo: Fall 2022 Ticket Promo
END:VEVENT
BEGIN:VEVENT
DTSTART;TZID=America/Indiana/Indianapolis:20221004T200000
DTEND;TZID=America/Indiana/Indianapolis:20221004T235900
DTSTAMP:20260422T104251
CREATED:20220615T160033Z
LAST-MODIFIED:20221003T190738Z
UID:24002-1664913600-1664927940@mokbpresents.com
SUMMARY:The Heavy Heavy
DESCRIPTION:
URL:https://mokbpresents.com/event/the-heavy-heavy/
LOCATION:HI-FI\, 1043 Virginia Ave #4\, Indianapolis\, IN\, 46203\, United States
CATEGORIES:Promo: Fall 2022 Ticket Promo
GEO:39.7525463;-86.1407527
X-APPLE-STRUCTURED-LOCATION;VALUE=URI;X-ADDRESS=HI-FI 1043 Virginia Ave #4 Indianapolis IN 46203 United States;X-APPLE-RADIUS=500;X-TITLE=1043 Virginia Ave #4:geo:-86.1407527,39.7525463
END:VEVENT
BEGIN:VEVENT
DTSTART;TZID=America/Indiana/Indianapolis:20221005T190000
DTEND;TZID=America/Indiana/Indianapolis:20221005T235900
DTSTAMP:20260422T104251
CREATED:20220909T160116Z
LAST-MODIFIED:20220926T180125Z
UID:25538-1664996400-1665014340@mokbpresents.com
SUMMARY:Radkey
DESCRIPTION:
URL:https://mokbpresents.com/event/radkey/
LOCATION:HI-FI\, 1043 Virginia Ave #4\, Indianapolis\, IN\, 46203\, United States
GEO:39.7525463;-86.1407527
X-APPLE-STRUCTURED-LOCATION;VALUE=URI;X-ADDRESS=HI-FI 1043 Virginia Ave #4 Indianapolis IN 46203 United States;X-APPLE-RADIUS=500;X-TITLE=1043 Virginia Ave #4:geo:-86.1407527,39.7525463
END:VEVENT
BEGIN:VEVENT
DTSTART;TZID=America/Indiana/Indianapolis:20221006T190000
DTEND;TZID=America/Indiana/Indianapolis:20221006T220000
DTSTAMP:20260422T104251
CREATED:20220628T160055Z
LAST-MODIFIED:20221006T201714Z
UID:24249-1665082800-1665093600@mokbpresents.com
SUMMARY:Opiuo
DESCRIPTION:
URL:https://mokbpresents.com/event/opiuo/
LOCATION:HI-FI Annex\, 1065 St. Patrick St\, Indianapolis\, IN\, 46203\, United States
CATEGORIES:Electronic/EDM/House,Promo: Fall 2022 Ticket Promo
END:VEVENT
BEGIN:VEVENT
DTSTART;TZID=America/Indiana/Indianapolis:20221006T210000
DTEND;TZID=America/Indiana/Indianapolis:20221006T235900
DTSTAMP:20260422T104251
CREATED:20220907T160048Z
LAST-MODIFIED:20220926T180124Z
UID:25414-1665090000-1665100740@mokbpresents.com
SUMMARY:The Magic Beans
DESCRIPTION:
URL:https://mokbpresents.com/event/the-magic-beans/
LOCATION:HI-FI\, 1043 Virginia Ave #4\, Indianapolis\, IN\, 46203\, United States
CATEGORIES:Promo: Fall 2022 Ticket Promo
GEO:39.7525463;-86.1407527
X-APPLE-STRUCTURED-LOCATION;VALUE=URI;X-ADDRESS=HI-FI 1043 Virginia Ave #4 Indianapolis IN 46203 United States;X-APPLE-RADIUS=500;X-TITLE=1043 Virginia Ave #4:geo:-86.1407527,39.7525463
END:VEVENT
BEGIN:VEVENT
DTSTART;TZID=America/Indiana/Indianapolis:20221007T190000
DTEND;TZID=America/Indiana/Indianapolis:20221007T220000
DTSTAMP:20260422T104251
CREATED:20220719T181124Z
LAST-MODIFIED:20221007T151812Z
UID:24656-1665169200-1665180000@mokbpresents.com
SUMMARY:The Dip
DESCRIPTION:
URL:https://mokbpresents.com/event/the-dip/
LOCATION:HI-FI Annex\, 1065 St. Patrick St\, Indianapolis\, IN\, 46203\, United States
END:VEVENT
BEGIN:VEVENT
DTSTART;TZID=America/Indiana/Indianapolis:20221007T220000
DTEND;TZID=America/Indiana/Indianapolis:20221007T235900
DTSTAMP:20260422T104251
CREATED:20221007T202107Z
LAST-MODIFIED:20221007T211425Z
UID:25959-1665180000-1665187140@mokbpresents.com
SUMMARY:Dos Santos: Free First Friday Afterparty
DESCRIPTION:
URL:https://mokbpresents.com/event/free-first-friday-dos-santos-after-show/
LOCATION:HI-FI\, 1043 Virginia Ave #4\, Indianapolis\, IN\, 46203\, United States
GEO:39.7525463;-86.1407527
X-APPLE-STRUCTURED-LOCATION;VALUE=URI;X-ADDRESS=HI-FI 1043 Virginia Ave #4 Indianapolis IN 46203 United States;X-APPLE-RADIUS=500;X-TITLE=1043 Virginia Ave #4:geo:-86.1407527,39.7525463
END:VEVENT
BEGIN:VEVENT
DTSTART;TZID=America/Indiana/Indianapolis:20221008T190000
DTEND;TZID=America/Indiana/Indianapolis:20221008T220000
DTSTAMP:20260422T104251
CREATED:20220803T174732Z
LAST-MODIFIED:20220926T180045Z
UID:24828-1665255600-1665266400@mokbpresents.com
SUMMARY:RECOIL - Reunion Show
DESCRIPTION:
URL:https://mokbpresents.com/event/recoil-reunion-show/
LOCATION:HI-FI Annex\, 1065 St. Patrick St\, Indianapolis\, IN\, 46203\, United States
END:VEVENT
BEGIN:VEVENT
DTSTART;TZID=America/Indiana/Indianapolis:20221008T210000
DTEND;TZID=America/Indiana/Indianapolis:20221008T235900
DTSTAMP:20260422T104251
CREATED:20220826T165240Z
LAST-MODIFIED:20221005T233705Z
UID:25304-1665262800-1665273540@mokbpresents.com
SUMMARY:Cha Wa
DESCRIPTION:
URL:https://mokbpresents.com/event/cha-wa/
LOCATION:HI-FI\, 1043 Virginia Ave #4\, Indianapolis\, IN\, 46203\, United States
CATEGORIES:Promo: Fall 2022 Ticket Promo
GEO:39.7525463;-86.1407527
X-APPLE-STRUCTURED-LOCATION;VALUE=URI;X-ADDRESS=HI-FI 1043 Virginia Ave #4 Indianapolis IN 46203 United States;X-APPLE-RADIUS=500;X-TITLE=1043 Virginia Ave #4:geo:-86.1407527,39.7525463
END:VEVENT
BEGIN:VEVENT
DTSTART;TZID=America/Indiana/Indianapolis:20221011T183000
DTEND;TZID=America/Indiana/Indianapolis:20221011T220000
DTSTAMP:20260422T104251
CREATED:20220216T170020Z
LAST-MODIFIED:20221010T154310Z
UID:21685-1665513000-1665525600@mokbpresents.com
SUMMARY:Toadies + Rev Horton Heat + Nashville Pussy
DESCRIPTION:
URL:https://mokbpresents.com/event/toadies-rev-horton-heat-nashville-pussy/
LOCATION:HI-FI Annex\, 1065 St. Patrick St\, Indianapolis\, IN\, 46203\, United States
END:VEVENT
BEGIN:VEVENT
DTSTART;TZID=America/Indiana/Indianapolis:20221011T200000
DTEND;TZID=America/Indiana/Indianapolis:20221011T235900
DTSTAMP:20260422T104251
CREATED:20220711T160015Z
LAST-MODIFIED:20221010T154411Z
UID:24525-1665518400-1665532740@mokbpresents.com
SUMMARY:The Ballroom Thieves
DESCRIPTION:
URL:https://mokbpresents.com/event/the-ballroom-thieves-2/
LOCATION:HI-FI\, 1043 Virginia Ave #4\, Indianapolis\, IN\, 46203\, United States
CATEGORIES:Promo: Fall 2022 Ticket Promo
GEO:39.7525463;-86.1407527
X-APPLE-STRUCTURED-LOCATION;VALUE=URI;X-ADDRESS=HI-FI 1043 Virginia Ave #4 Indianapolis IN 46203 United States;X-APPLE-RADIUS=500;X-TITLE=1043 Virginia Ave #4:geo:-86.1407527,39.7525463
END:VEVENT
BEGIN:VEVENT
DTSTART;TZID=America/Indiana/Indianapolis:20221012T200000
DTEND;TZID=America/Indiana/Indianapolis:20221012T233000
DTSTAMP:20260422T104251
CREATED:20220503T160021Z
LAST-MODIFIED:20220929T194305Z
UID:23331-1665604800-1665617400@mokbpresents.com
SUMMARY:Roger Clyne & The Peacemakers
DESCRIPTION:
URL:https://mokbpresents.com/event/roger-clyne-the-peacemakers/
LOCATION:HI-FI\, 1043 Virginia Ave #4\, Indianapolis\, IN\, 46203\, United States
CATEGORIES:Promo: Fall 2022 Ticket Promo
GEO:39.7525463;-86.1407527
X-APPLE-STRUCTURED-LOCATION;VALUE=URI;X-ADDRESS=HI-FI 1043 Virginia Ave #4 Indianapolis IN 46203 United States;X-APPLE-RADIUS=500;X-TITLE=1043 Virginia Ave #4:geo:-86.1407527,39.7525463
END:VEVENT
BEGIN:VEVENT
DTSTART;TZID=America/Indiana/Indianapolis:20221012T200000
DTEND;TZID=America/Indiana/Indianapolis:20221012T235900
DTSTAMP:20260422T104251
CREATED:20220829T190057Z
LAST-MODIFIED:20221004T195940Z
UID:25341-1665604800-1665619140@mokbpresents.com
SUMMARY:CANCELLED: SLANDER
DESCRIPTION:
URL:https://mokbpresents.com/event/slander-the-thrive-tour/
LOCATION:Blue Ribbon Pavilion\, 1202 E 38th St\, Indianapolis\, IN\, 46205\, United States
END:VEVENT
BEGIN:VEVENT
DTSTART;TZID=America/Indiana/Indianapolis:20221013T190000
DTEND;TZID=America/Indiana/Indianapolis:20221013T233000
DTSTAMP:20260422T104251
CREATED:20220805T155119Z
LAST-MODIFIED:20220926T175216Z
UID:24930-1665687600-1665703800@mokbpresents.com
SUMMARY:Bryce Fox + Sam Tinnesz: The Loser Tour
DESCRIPTION:
URL:https://mokbpresents.com/event/bryce-fox-sam-tinnesz-the-loser-tour/
LOCATION:HI-FI\, 1043 Virginia Ave #4\, Indianapolis\, IN\, 46203\, United States
CATEGORIES:Promo: Fall 2022 Ticket Promo
GEO:39.7525463;-86.1407527
X-APPLE-STRUCTURED-LOCATION;VALUE=URI;X-ADDRESS=HI-FI 1043 Virginia Ave #4 Indianapolis IN 46203 United States;X-APPLE-RADIUS=500;X-TITLE=1043 Virginia Ave #4:geo:-86.1407527,39.7525463
END:VEVENT
BEGIN:VEVENT
DTSTART;TZID=America/Indiana/Indianapolis:20221014T190000
DTEND;TZID=America/Indiana/Indianapolis:20221014T220000
DTSTAMP:20260422T104251
CREATED:20220620T150318Z
LAST-MODIFIED:20220926T175123Z
UID:24072-1665774000-1665784800@mokbpresents.com
SUMMARY:William Clark Green
DESCRIPTION:
URL:https://mokbpresents.com/event/william-clark-green/
LOCATION:HI-FI Annex\, 1065 St. Patrick St\, Indianapolis\, IN\, 46203\, United States
END:VEVENT
BEGIN:VEVENT
DTSTART;TZID=America/Indiana/Indianapolis:20221014T193000
DTEND;TZID=America/Indiana/Indianapolis:20221014T233000
DTSTAMP:20260422T104251
CREATED:20220630T141745Z
LAST-MODIFIED:20221014T132303Z
UID:24301-1665775800-1665790200@mokbpresents.com
SUMMARY:William Fitzsimmons
DESCRIPTION:
URL:https://mokbpresents.com/event/william-fitzsimmons/
LOCATION:HI-FI\, 1043 Virginia Ave #4\, Indianapolis\, IN\, 46203\, United States
CATEGORIES:Promo: Fall 2022 Ticket Promo
ATTACH;FMTTYPE=image/png:https://cdn.kicksdigital.com/mokbpresents.com/2022/06/William-Fitzsimmons.png
GEO:39.7525463;-86.1407527
X-APPLE-STRUCTURED-LOCATION;VALUE=URI;X-ADDRESS=HI-FI 1043 Virginia Ave #4 Indianapolis IN 46203 United States;X-APPLE-RADIUS=500;X-TITLE=1043 Virginia Ave #4:geo:-86.1407527,39.7525463
END:VEVENT
BEGIN:VEVENT
DTSTART;TZID=America/Indiana/Indianapolis:20221015T180000
DTEND;TZID=America/Indiana/Indianapolis:20221015T220000
DTSTAMP:20260422T104251
CREATED:20220823T160041Z
LAST-MODIFIED:20220929T152634Z
UID:25163-1665856800-1665871200@mokbpresents.com
SUMMARY:Manic Focus
DESCRIPTION:
URL:https://mokbpresents.com/event/manic-focus-2/
LOCATION:HI-FI Annex\, 1065 St. Patrick St\, Indianapolis\, IN\, 46203\, United States
CATEGORIES:Promo: Fall 2022 Ticket Promo
ATTACH;FMTTYPE=image/png:https://cdn.kicksdigital.com/mokbpresents.com/2022/08/Manic-Focus.png
END:VEVENT
BEGIN:VEVENT
DTSTART;TZID=America/Indiana/Indianapolis:20221015T210000
DTEND;TZID=America/Indiana/Indianapolis:20221015T235900
DTSTAMP:20260422T104251
CREATED:20220623T140024Z
LAST-MODIFIED:20220926T175006Z
UID:24160-1665867600-1665878340@mokbpresents.com
SUMMARY:Town Mountain
DESCRIPTION:
URL:https://mokbpresents.com/event/town-mountain-2/
LOCATION:HI-FI\, 1043 Virginia Ave #4\, Indianapolis\, IN\, 46203\, United States
CATEGORIES:Promo: Fall 2022 Ticket Promo
GEO:39.7525463;-86.1407527
X-APPLE-STRUCTURED-LOCATION;VALUE=URI;X-ADDRESS=HI-FI 1043 Virginia Ave #4 Indianapolis IN 46203 United States;X-APPLE-RADIUS=500;X-TITLE=1043 Virginia Ave #4:geo:-86.1407527,39.7525463
END:VEVENT
BEGIN:VEVENT
DTSTART;TZID=America/Indiana/Indianapolis:20221016T180000
DTEND;TZID=America/Indiana/Indianapolis:20221016T220000
DTSTAMP:20260422T104251
CREATED:20220607T140038Z
LAST-MODIFIED:20221004T191804Z
UID:23858-1665943200-1665957600@mokbpresents.com
SUMMARY:Dead Boys w/ The Briefs
DESCRIPTION:
URL:https://mokbpresents.com/event/dead-boys/
LOCATION:HI-FI Annex\, 1065 St. Patrick St\, Indianapolis\, IN\, 46203\, United States
ATTACH;FMTTYPE=image/png:https://cdn.kicksdigital.com/mokbpresents.com/2022/06/DeadBoys-web.png
END:VEVENT
BEGIN:VEVENT
DTSTART;TZID=America/Indiana/Indianapolis:20221016T200000
DTEND;TZID=America/Indiana/Indianapolis:20221016T230000
DTSTAMP:20260422T104251
CREATED:20220412T140033Z
LAST-MODIFIED:20220926T170903Z
UID:22846-1665950400-1665961200@mokbpresents.com
SUMMARY:Tyrone Wells - "The Somebody To You" Tour
DESCRIPTION:
URL:https://mokbpresents.com/event/tyrone-wells-the-somebody-to-you-tour/
LOCATION:White Rabbit Cabaret\, 1116 Prospect St.\, Indianapolis\, IN\, 46203\, United States
CATEGORIES:Promo: Fall 2022 Ticket Promo
END:VEVENT
BEGIN:VEVENT
DTSTART;TZID=America/Indiana/Indianapolis:20221016T200000
DTEND;TZID=America/Indiana/Indianapolis:20221016T235900
DTSTAMP:20260422T104251
CREATED:20220719T184142Z
LAST-MODIFIED:20221012T201723Z
UID:24667-1665950400-1665964740@mokbpresents.com
SUMMARY:Dead Poet Society
DESCRIPTION:
URL:https://mokbpresents.com/event/dead-poet-society/
LOCATION:HI-FI\, 1043 Virginia Ave #4\, Indianapolis\, IN\, 46203\, United States
GEO:39.7525463;-86.1407527
X-APPLE-STRUCTURED-LOCATION;VALUE=URI;X-ADDRESS=HI-FI 1043 Virginia Ave #4 Indianapolis IN 46203 United States;X-APPLE-RADIUS=500;X-TITLE=1043 Virginia Ave #4:geo:-86.1407527,39.7525463
END:VEVENT
BEGIN:VEVENT
DTSTART;TZID=America/Indiana/Indianapolis:20221017T200000
DTEND;TZID=America/Indiana/Indianapolis:20221017T233000
DTSTAMP:20260422T104251
CREATED:20220725T142914Z
LAST-MODIFIED:20220926T170808Z
UID:24726-1666036800-1666049400@mokbpresents.com
SUMMARY:Local H
DESCRIPTION:
URL:https://mokbpresents.com/event/local-h/
LOCATION:HI-FI\, 1043 Virginia Ave #4\, Indianapolis\, IN\, 46203\, United States
CATEGORIES:Rock
GEO:39.7525463;-86.1407527
X-APPLE-STRUCTURED-LOCATION;VALUE=URI;X-ADDRESS=HI-FI 1043 Virginia Ave #4 Indianapolis IN 46203 United States;X-APPLE-RADIUS=500;X-TITLE=1043 Virginia Ave #4:geo:-86.1407527,39.7525463
END:VEVENT
BEGIN:VEVENT
DTSTART;TZID=America/Indiana/Indianapolis:20221018T200000
DTEND;TZID=America/Indiana/Indianapolis:20221018T200000
DTSTAMP:20260422T104251
CREATED:20220328T170016Z
LAST-MODIFIED:20221018T143224Z
UID:17771-1666123200-1666123200@mokbpresents.com
SUMMARY:Mac Sabbath
DESCRIPTION:
URL:https://mokbpresents.com/event/mac-sabbath2022/
LOCATION:HI-FI\, 1043 Virginia Ave #4\, Indianapolis\, IN\, 46203\, United States
GEO:39.7525463;-86.1407527
X-APPLE-STRUCTURED-LOCATION;VALUE=URI;X-ADDRESS=HI-FI 1043 Virginia Ave #4 Indianapolis IN 46203 United States;X-APPLE-RADIUS=500;X-TITLE=1043 Virginia Ave #4:geo:-86.1407527,39.7525463
END:VEVENT
BEGIN:VEVENT
DTSTART;TZID=America/Indiana/Indianapolis:20221020T203000
DTEND;TZID=America/Indiana/Indianapolis:20221020T235900
DTSTAMP:20260422T104251
CREATED:20220718T160023Z
LAST-MODIFIED:20221020T233815Z
UID:24061-1666297800-1666310340@mokbpresents.com
SUMMARY:Stephen Kellogg
DESCRIPTION:
URL:https://mokbpresents.com/event/stephen-kellogg/
LOCATION:White Rabbit Cabaret\, 1116 Prospect St.\, Indianapolis\, IN\, 46203\, United States
CATEGORIES:Americana/Folk,Indie Rock
ATTACH;FMTTYPE=image/jpeg:https://cdn.kicksdigital.com/mokbpresents.com/2022/06/Stephen-Kellogg.jpeg
END:VEVENT
BEGIN:VEVENT
DTSTART;TZID=America/Indiana/Indianapolis:20221021T190000
DTEND;TZID=America/Indiana/Indianapolis:20221021T220000
DTSTAMP:20260422T104251
CREATED:20220621T160035Z
LAST-MODIFIED:20221019T141356Z
UID:24113-1666378800-1666389600@mokbpresents.com
SUMMARY:Bumpin Uglies
DESCRIPTION:
URL:https://mokbpresents.com/event/bumpin-uglies-3/
LOCATION:HI-FI Annex\, 1065 St. Patrick St\, Indianapolis\, IN\, 46203\, United States
CATEGORIES:Promo: Fall 2022 Ticket Promo
END:VEVENT
BEGIN:VEVENT
DTSTART;TZID=America/Indiana/Indianapolis:20221021T210000
DTEND;TZID=America/Indiana/Indianapolis:20221021T235900
DTSTAMP:20260422T104251
CREATED:20220906T160040Z
LAST-MODIFIED:20221014T025231Z
UID:25430-1666386000-1666396740@mokbpresents.com
SUMMARY:Huckleberry Funk + The Vindys
DESCRIPTION:
URL:https://mokbpresents.com/event/huckleberry-funk-the-vindys/
LOCATION:HI-FI\, 1043 Virginia Ave #4\, Indianapolis\, IN\, 46203\, United States
GEO:39.7525463;-86.1407527
X-APPLE-STRUCTURED-LOCATION;VALUE=URI;X-ADDRESS=HI-FI 1043 Virginia Ave #4 Indianapolis IN 46203 United States;X-APPLE-RADIUS=500;X-TITLE=1043 Virginia Ave #4:geo:-86.1407527,39.7525463
END:VEVENT
END:VCALENDAR